BEGIN:VCALENDAR
VERSION:2.0
PRODID:-//EZFacility.com, Inc.//EZL 2.5.5.28621
BEGIN:VEVENT
UID:12531100@ezleagues.ezfacility.com
DTSTAMP:20260424T044330Z
CREATED:20260424T044330Z
DTSTART:20190724T223000Z
DTEND:20190724T231500Z
LOCATION:Court 1
CONTACT:
SUMMARY:Ace\, Ace\, Baby VS. #4Play
DESCRIPTION:League Name: Wednesday Court 1 B Quads\nGame Type: Regular\nGam
 e Status: Complete\nHome Team: Ace, Ace, Baby\nAway Team: #4Play\nHome Sco
 re: 3\nAway Score: 0
END:VEVENT
BEGIN:VEVENT
UID:12531107@ezleagues.ezfacility.com
DTSTAMP:20260424T044330Z
CREATED:20260424T044330Z
DTSTART:20190731T231500Z
DTEND:20190801T000000Z
LOCATION:Court 1
CONTACT:
SUMMARY:Mike’s team VS. Ace\, Ace\, Baby
DESCRIPTION:League Name: Wednesday Court 1 B Quads\nGame Type: Regular\nGam
 e Status: Complete\nHome Team: Mike’s team\nAway Team: Ace, Ace, Baby\nH
 ome Score: 0\nAway Score: 3
END:VEVENT
BEGIN:VEVENT
UID:12531114@ezleagues.ezfacility.com
DTSTAMP:20260424T044330Z
CREATED:20260424T044330Z
DTSTART:20190808T000000Z
DTEND:20190808T004500Z
LOCATION:Court 1
CONTACT:
SUMMARY:Ace\, Ace\, Baby VS. Scott's Tots
DESCRIPTION:League Name: Wednesday Court 1 B Quads\nGame Type: Regular\nGam
 e Status: Complete\nHome Team: Ace, Ace, Baby\nAway Team: Scott's Tots\nHo
 me Score: 2\nAway Score: 1
END:VEVENT
BEGIN:VEVENT
UID:12531121@ezleagues.ezfacility.com
DTSTAMP:20260424T044330Z
CREATED:20260424T044330Z
DTSTART:20190815T013000Z
DTEND:20190815T021500Z
LOCATION:Court 1
CONTACT:
SUMMARY:Sandy Balls VS. Ace\, Ace\, Baby
DESCRIPTION:League Name: Wednesday Court 1 B Quads\nGame Type: Regular\nGam
 e Status: Complete\nHome Team: Sandy Balls\nAway Team: Ace, Ace, Baby\nHom
 e Score: 0\nAway Score: 3
END:VEVENT
BEGIN:VEVENT
UID:12531128@ezleagues.ezfacility.com
DTSTAMP:20260424T044330Z
CREATED:20260424T044330Z
DTSTART:20190821T223000Z
DTEND:20190821T231500Z
LOCATION:Court 1
CONTACT:
SUMMARY:Ace\, Ace\, Baby VS. Louisville Beach
DESCRIPTION:League Name: Wednesday Court 1 B Quads\nGame Type: Regular\nGam
 e Status: Complete\nHome Team: Ace, Ace, Baby\nAway Team: Louisville Beach
 \nHome Score: 2\nAway Score: 1
END:VEVENT
BEGIN:VEVENT
UID:12531135@ezleagues.ezfacility.com
DTSTAMP:20260424T044330Z
CREATED:20260424T044330Z
DTSTART:20190829T013000Z
DTEND:20190829T021500Z
LOCATION:Court 1
CONTACT:
SUMMARY:90s allstars VS. Ace\, Ace\, Baby
DESCRIPTION:League Name: Wednesday Court 1 B Quads\nGame Type: Regular\nGam
 e Status: Complete\nHome Team: 90s allstars\nAway Team: Ace, Ace, Baby\nHo
 me Score: 0\nAway Score: 3
END:VEVENT
BEGIN:VEVENT
UID:12531141@ezleagues.ezfacility.com
DTSTAMP:20260424T044330Z
CREATED:20260424T044330Z
DTSTART:20190905T000000Z
DTEND:20190905T004500Z
LOCATION:Court 1
CONTACT:
SUMMARY:Hedgehog Gang VS. Ace\, Ace\, Baby
DESCRIPTION:League Name: Wednesday Court 1 B Quads\nGame Type: Regular\nGam
 e Status: Complete\nHome Team: Hedgehog Gang\nAway Team: Ace, Ace, Baby\nH
 ome Score: 1\nAway Score: 2
END:VEVENT
BEGIN:VEVENT
UID:12531146@ezleagues.ezfacility.com
DTSTAMP:20260424T044330Z
CREATED:20260424T044330Z
DTSTART:20190912T000000Z
DTEND:20190912T004500Z
LOCATION:Court 1
CONTACT:
SUMMARY:Ace\, Ace\, Baby VS. RE/MAX REDRAHM
DESCRIPTION:League Name: Wednesday Court 1 B Quads\nGame Type: Regular\nGam
 e Status: Complete\nHome Team: Ace, Ace, Baby\nAway Team: RE/MAX REDRAHM\n
 Home Score: 2\nAway Score: 1
END:VEVENT
BEGIN:VEVENT
UID:12531156@ezleagues.ezfacility.com
DTSTAMP:20260424T044330Z
CREATED:20260424T044330Z
DTSTART:20190925T231500Z
DTEND:20190926T000000Z
LOCATION:Court 1
CONTACT:
SUMMARY:Ace\, Ace\, Baby VS. Mistips
DESCRIPTION:League Name: Wednesday Court 1 B Quads\nGame Type: Regular\nGam
 e Status: Complete\nHome Team: Ace, Ace, Baby\nAway Team: Mistips\nHome Sc
 ore: 1\nAway Score: 2
END:VEVENT
BEGIN:VEVENT
UID:12531161@ezleagues.ezfacility.com
DTSTAMP:20260424T044330Z
CREATED:20260424T044330Z
DTSTART:20191003T004500Z
DTEND:20191003T013000Z
LOCATION:Court 1
CONTACT:
SUMMARY:Dazed and Confused VS. Ace\, Ace\, Baby
DESCRIPTION:League Name: Wednesday Court 1 B Quads\nGame Type: Regular\nGam
 e Status: Complete\nHome Team: Dazed and Confused\nAway Team: Ace, Ace, Ba
 by\nHome Score: 0\nAway Score: 3
END:VEVENT
END:VCALENDAR
