BEGIN:VCALENDAR
VERSION:2.0
PRODID:-//EZFacility.com, Inc.//EZL 2.5.5.28621
BEGIN:VEVENT
UID:13111196@ezleagues.ezfacility.com
DTSTAMP:20260421T130607Z
CREATED:20260421T130607Z
DTSTART:20200218T032000Z
DTEND:20200218T041000Z
LOCATION:Jessup Premier Field #2
CONTACT:
SUMMARY:United - green black VS. Mannucci Maryland FC
DESCRIPTION:League Name: Mon Mens Over 35s 1st div \nGame Type: Regular\nGa
 me Status: Complete\nHome Team: United - green black\nAway Team: Mannucci 
 Maryland FC\nHome Score: 8\nAway Score: 5
END:VEVENT
BEGIN:VEVENT
UID:13111207@ezleagues.ezfacility.com
DTSTAMP:20260421T130607Z
CREATED:20260421T130607Z
DTSTART:20200225T005000Z
DTEND:20200225T014000Z
LOCATION:Jessup Premier Field #1
CONTACT:
SUMMARY:Mannucci Maryland FC VS. Necaxa- Red
DESCRIPTION:League Name: Mon Mens Over 35s 1st div \nGame Type: Regular\nGa
 me Status: Complete\nHome Team: Mannucci Maryland FC\nAway Team: Necaxa- R
 ed\nHome Score: 5\nAway Score: 1
END:VEVENT
BEGIN:VEVENT
UID:13111220@ezleagues.ezfacility.com
DTSTAMP:20260421T130607Z
CREATED:20260421T130607Z
DTSTART:20200303T000000Z
DTEND:20200303T005000Z
LOCATION:Jessup Premier Field #2
CONTACT:
SUMMARY:Mannucci Maryland FC VS. African Stars - red
DESCRIPTION:League Name: Mon Mens Over 35s 1st div \nGame Type: Regular\nGa
 me Status: Complete\nHome Team: Mannucci Maryland FC\nAway Team: African S
 tars - red\nHome Score: 11\nAway Score: 5
END:VEVENT
BEGIN:VEVENT
UID:13111233@ezleagues.ezfacility.com
DTSTAMP:20260421T130607Z
CREATED:20260421T130607Z
DTSTART:20200310T013000Z
DTEND:20200310T022000Z
LOCATION:Jessup Premier Field #1
CONTACT:
SUMMARY:Mannucci Maryland FC VS. Legends 
DESCRIPTION:League Name: Mon Mens Over 35s 1st div \nGame Type: Regular\nGa
 me Status: Complete\nHome Team: Mannucci Maryland FC\nAway Team: Legends \
 nHome Score: 5\nAway Score: 7
END:VEVENT
BEGIN:VEVENT
UID:13111246@ezleagues.ezfacility.com
DTSTAMP:20260421T130607Z
CREATED:20260421T130607Z
DTSTART:20200630T010000Z
DTEND:20200630T015000Z
LOCATION:Jessup Premier Field #1
CONTACT:
SUMMARY:Mannucci Maryland FC VS. United - green black
DESCRIPTION:League Name: Mon Mens Over 35s 1st div \nGame Type: Regular\nGa
 me Status: Complete\nHome Team: Mannucci Maryland FC\nAway Team: United - 
 green black\nHome Score: 13\nAway Score: 9
END:VEVENT
BEGIN:VEVENT
UID:13111258@ezleagues.ezfacility.com
DTSTAMP:20260421T130607Z
CREATED:20260421T130607Z
DTSTART:20200707T010000Z
DTEND:20200707T015000Z
LOCATION:Jessup Premier Field #2
CONTACT:
SUMMARY:Necaxa- Red VS. Mannucci Maryland FC
DESCRIPTION:League Name: Mon Mens Over 35s 1st div \nGame Type: Regular\nGa
 me Status: Complete\nHome Team: Necaxa- Red\nAway Team: Mannucci Maryland 
 FC\nHome Score: 7\nAway Score: 7
END:VEVENT
BEGIN:VEVENT
UID:13176268@ezleagues.ezfacility.com
DTSTAMP:20260421T130607Z
CREATED:20260421T130607Z
DTSTART:20200713T230000Z
DTEND:20200713T235000Z
LOCATION:Jessup Premier Field #1
CONTACT:
SUMMARY:Legends  VS. Mannucci Maryland FC
DESCRIPTION:League Name: Mon Mens Over 35s 1st div \nGame Type: Regular\nGa
 me Status: Complete\nHome Team: Legends \nAway Team: Mannucci Maryland FC\
 nHome Score: 2\nAway Score: 8
END:VEVENT
BEGIN:VEVENT
UID:13232597@ezleagues.ezfacility.com
DTSTAMP:20260421T130607Z
CREATED:20260421T130607Z
DTSTART:20200721T010000Z
DTEND:20200721T014800Z
LOCATION:Jessup Premier Field #2
CONTACT:
SUMMARY:Mannucci Maryland FC VS. Legends 
DESCRIPTION:League Name: Mon Mens Over 35s 1st div \nGame Type: Regular\nGa
 me Status: Complete\nHome Team: Mannucci Maryland FC\nAway Team: Legends \
 nHome Score: 7\nAway Score: 3
END:VEVENT
BEGIN:VEVENT
UID:13238891@ezleagues.ezfacility.com
DTSTAMP:20260421T130607Z
CREATED:20260421T130607Z
DTSTART:20200728T010000Z
DTEND:20200728T014800Z
LOCATION:Jessup Premier Field #1
CONTACT:
SUMMARY:Mannucci Maryland FC VS. Necaxa- Red
DESCRIPTION:League Name: Mon Mens Over 35s 1st div \nGame Type: Regular\nGa
 me Status: Complete\nHome Team: Mannucci Maryland FC\nAway Team: Necaxa- R
 ed\nHome Score: 6\nAway Score: 5
END:VEVENT
END:VCALENDAR
