BEGIN:VCALENDAR
VERSION:2.0
PRODID:-//EZFacility.com, Inc.//EZL 2.5.5.28621
BEGIN:VEVENT
UID:12545811@ezleagues.ezfacility.com
DTSTAMP:20260426T034809Z
CREATED:20260426T034809Z
DTSTART:20190729T001500Z
DTEND:20190729T005500Z
LOCATION:LG Field 1
CONTACT:
SUMMARY:United  VS. The Flaming Lingos
DESCRIPTION:League Name: Summer 2 - Coed REC (Junior)\nGame Type: Regular\n
 Game Status: Complete\nHome Team: United \nAway Team: The Flaming Lingos\n
 Home Score: 10\nAway Score: 7
END:VEVENT
BEGIN:VEVENT
UID:12545827@ezleagues.ezfacility.com
DTSTAMP:20260426T034809Z
CREATED:20260426T034809Z
DTSTART:20190805T010000Z
DTEND:20190805T014000Z
LOCATION:LG Field 2
CONTACT:
SUMMARY:Arsenal (Oyuela) VS. United 
DESCRIPTION:League Name: Summer 2 - Coed REC (Junior)\nGame Type: Regular\n
 Game Status: Complete\nHome Team: Arsenal (Oyuela)\nAway Team: United \nHo
 me Score: 3\nAway Score: 7
END:VEVENT
BEGIN:VEVENT
UID:12545843@ezleagues.ezfacility.com
DTSTAMP:20260426T034809Z
CREATED:20260426T034809Z
DTSTART:20190812T014500Z
DTEND:20190812T022500Z
LOCATION:LG Field 1
CONTACT:
SUMMARY:Something Cool VS. United 
DESCRIPTION:League Name: Summer 2 - Coed REC (Junior)\nGame Type: Regular\n
 Game Status: Complete\nHome Team: Something Cool\nAway Team: United \nHome
  Score: 2\nAway Score: 8
END:VEVENT
BEGIN:VEVENT
UID:12545859@ezleagues.ezfacility.com
DTSTAMP:20260426T034809Z
CREATED:20260426T034809Z
DTSTART:20190819T031500Z
DTEND:20190819T035500Z
LOCATION:LG Field 1
CONTACT:
SUMMARY:United  VS. FARMS
DESCRIPTION:League Name: Summer 2 - Coed REC (Junior)\nGame Type: Regular\n
 Game Status: Complete\nHome Team: United \nAway Team: FARMS\nHome Score: 6
 \nAway Score: 3
END:VEVENT
BEGIN:VEVENT
UID:12545874@ezleagues.ezfacility.com
DTSTAMP:20260426T034809Z
CREATED:20260426T034809Z
DTSTART:20190826T001500Z
DTEND:20190826T005500Z
LOCATION:LG Field 1
CONTACT:
SUMMARY:Purple Haze VS. United 
DESCRIPTION:League Name: Summer 2 - Coed REC (Junior)\nGame Type: Regular\n
 Game Status: Complete\nHome Team: Purple Haze\nAway Team: United \nHome Sc
 ore: 1\nAway Score: 4
END:VEVENT
BEGIN:VEVENT
UID:12545902@ezleagues.ezfacility.com
DTSTAMP:20260426T034809Z
CREATED:20260426T034809Z
DTSTART:20190902T023000Z
DTEND:20190902T031000Z
LOCATION:LG Field 1
CONTACT:
SUMMARY:Goal Goal Power Rangers VS. United 
DESCRIPTION:League Name: Summer 2 - Coed REC (Junior)\nGame Type: Regular\n
 Game Status: Complete\nHome Team: Goal Goal Power Rangers\nAway Team: Unit
 ed \nHome Score: 4\nAway Score: 7
END:VEVENT
BEGIN:VEVENT
UID:12545888@ezleagues.ezfacility.com
DTSTAMP:20260426T034809Z
CREATED:20260426T034809Z
DTSTART:20190909T010000Z
DTEND:20190909T014000Z
LOCATION:LG Field 1
CONTACT:
SUMMARY:United  VS. Juventus
DESCRIPTION:League Name: Summer 2 - Coed REC (Junior)\nGame Type: Regular\n
 Game Status: Complete\nHome Team: United \nAway Team: Juventus\nHome Score
 : 4\nAway Score: 3
END:VEVENT
BEGIN:VEVENT
UID:12545915@ezleagues.ezfacility.com
DTSTAMP:20260426T034809Z
CREATED:20260426T034809Z
DTSTART:20190915T220000Z
DTEND:20190915T224000Z
LOCATION:LG Field 1
CONTACT:
SUMMARY:Muintir VS. United 
DESCRIPTION:League Name: Summer 2 - Coed REC (Junior)\nGame Type: Regular\n
 Game Status: Complete\nHome Team: Muintir\nAway Team: United \nHome Score:
  2\nAway Score: 5
END:VEVENT
END:VCALENDAR
