BEGIN:VCALENDAR
VERSION:2.0
PRODID:-//EZFacility.com, Inc.//EZL 2.5.5.28621
BEGIN:VEVENT
UID:12551996@ezleagues.ezfacility.com
DTSTAMP:20260423T042151Z
CREATED:20260423T042151Z
DTSTART:20190725T011500Z
DTEND:20190725T021500Z
LOCATION:Field 1
CONTACT:
SUMMARY:Phoenix Cartel VS. Sons of Pitches
DESCRIPTION:League Name: Season 4 Wednesday Men's D2- July 24th, 2019\nGame
  Type: Regular\nGame Status: Complete\nHome Team: Phoenix Cartel\nAway Tea
 m: Sons of Pitches\nHome Score: 4\nAway Score: 11
END:VEVENT
BEGIN:VEVENT
UID:12551997@ezleagues.ezfacility.com
DTSTAMP:20260423T042151Z
CREATED:20260423T042151Z
DTSTART:20190725T021500Z
DTEND:20190725T031500Z
LOCATION:Field 1
CONTACT:
SUMMARY:Sons of Pitches VS. Phoenix Cartel
DESCRIPTION:League Name: Season 4 Wednesday Men's D2- July 24th, 2019\nGame
  Type: Regular\nGame Status: Complete\nHome Team: Sons of Pitches\nAway Te
 am: Phoenix Cartel\nHome Score: 10\nAway Score: 3
END:VEVENT
BEGIN:VEVENT
UID:12552018@ezleagues.ezfacility.com
DTSTAMP:20260423T042151Z
CREATED:20260423T042151Z
DTSTART:20190801T031500Z
DTEND:20190801T041500Z
LOCATION:Field 4
CONTACT:
SUMMARY:Sons of Pitches VS. Screwballs
DESCRIPTION:League Name: Season 4 Wednesday Men's D2- July 24th, 2019\nGame
  Type: Regular\nGame Status: Complete\nHome Team: Sons of Pitches\nAway Te
 am: Screwballs\nHome Score: 8\nAway Score: 11
END:VEVENT
BEGIN:VEVENT
UID:12552019@ezleagues.ezfacility.com
DTSTAMP:20260423T042151Z
CREATED:20260423T042151Z
DTSTART:20190801T041500Z
DTEND:20190801T051500Z
LOCATION:Field 4
CONTACT:
SUMMARY:Screwballs VS. Sons of Pitches
DESCRIPTION:League Name: Season 4 Wednesday Men's D2- July 24th, 2019\nGame
  Type: Regular\nGame Status: Complete\nHome Team: Screwballs\nAway Team: S
 ons of Pitches\nHome Score: 13\nAway Score: 17
END:VEVENT
BEGIN:VEVENT
UID:12552028@ezleagues.ezfacility.com
DTSTAMP:20260423T042151Z
CREATED:20260423T042151Z
DTSTART:20190808T031500Z
DTEND:20190808T041500Z
LOCATION:Field 1
CONTACT:
SUMMARY:Merica VS. Sons of Pitches
DESCRIPTION:League Name: Season 4 Wednesday Men's D2- July 24th, 2019\nGame
  Type: Regular\nGame Status: Complete\nHome Team: Merica\nAway Team: Sons 
 of Pitches\nHome Score: 4\nAway Score: 15
END:VEVENT
BEGIN:VEVENT
UID:12552029@ezleagues.ezfacility.com
DTSTAMP:20260423T042151Z
CREATED:20260423T042151Z
DTSTART:20190808T041500Z
DTEND:20190808T051500Z
LOCATION:Field 1
CONTACT:
SUMMARY:Sons of Pitches VS. Merica
DESCRIPTION:League Name: Season 4 Wednesday Men's D2- July 24th, 2019\nGame
  Type: Regular\nGame Status: Complete\nHome Team: Sons of Pitches\nAway Te
 am: Merica\nHome Score: 11\nAway Score: 5
END:VEVENT
BEGIN:VEVENT
UID:12552050@ezleagues.ezfacility.com
DTSTAMP:20260423T042151Z
CREATED:20260423T042151Z
DTSTART:20190815T031500Z
DTEND:20190815T041500Z
LOCATION:Field 4
CONTACT:
SUMMARY:Wednesday Warriors VS. Sons of Pitches
DESCRIPTION:League Name: Season 4 Wednesday Men's D2- July 24th, 2019\nGame
  Type: Regular\nGame Status: Complete\nHome Team: Wednesday Warriors\nAway
  Team: Sons of Pitches\nHome Score: 13\nAway Score: 13
END:VEVENT
BEGIN:VEVENT
UID:12552051@ezleagues.ezfacility.com
DTSTAMP:20260423T042151Z
CREATED:20260423T042151Z
DTSTART:20190815T041500Z
DTEND:20190815T051500Z
LOCATION:Field 4
CONTACT:
SUMMARY:Sons of Pitches VS. Wednesday Warriors
DESCRIPTION:League Name: Season 4 Wednesday Men's D2- July 24th, 2019\nGame
  Type: Regular\nGame Status: Complete\nHome Team: Sons of Pitches\nAway Te
 am: Wednesday Warriors\nHome Score: 14\nAway Score: 4
END:VEVENT
BEGIN:VEVENT
UID:12552066@ezleagues.ezfacility.com
DTSTAMP:20260423T042151Z
CREATED:20260423T042151Z
DTSTART:20190822T011500Z
DTEND:20190822T021500Z
LOCATION:Field 3
CONTACT:
SUMMARY:Sons of Pitches VS. GAT PAC
DESCRIPTION:League Name: Season 4 Wednesday Men's D2- July 24th, 2019\nGame
  Type: Regular\nGame Status: Complete\nHome Team: Sons of Pitches\nAway Te
 am: GAT PAC\nHome Score: 11\nAway Score: 10
END:VEVENT
BEGIN:VEVENT
UID:12552067@ezleagues.ezfacility.com
DTSTAMP:20260423T042151Z
CREATED:20260423T042151Z
DTSTART:20190822T021500Z
DTEND:20190822T031500Z
LOCATION:Field 3
CONTACT:
SUMMARY:GAT PAC VS. Sons of Pitches
DESCRIPTION:League Name: Season 4 Wednesday Men's D2- July 24th, 2019\nGame
  Type: Regular\nGame Status: Complete\nHome Team: GAT PAC\nAway Team: Sons
  of Pitches\nHome Score: 12\nAway Score: 25
END:VEVENT
BEGIN:VEVENT
UID:12552077@ezleagues.ezfacility.com
DTSTAMP:20260423T042151Z
CREATED:20260423T042151Z
DTSTART:20190828T200000Z
DTEND:20190828T210000Z
LOCATION:Field 4
CONTACT:
SUMMARY:Shankers VS. Sons of Pitches
DESCRIPTION:League Name: Season 4 Wednesday Men's D2- July 24th, 2019\nGame
  Type: Regular\nGame Status: Complete\nHome Team: Shankers\nAway Team: Son
 s of Pitches\nHome Score: 9\nAway Score: 7
END:VEVENT
BEGIN:VEVENT
UID:12552094@ezleagues.ezfacility.com
DTSTAMP:20260423T042151Z
CREATED:20260423T042151Z
DTSTART:20190905T011500Z
DTEND:20190905T021500Z
LOCATION:Field 4
CONTACT:
SUMMARY:One Bad Inning VS. Sons of Pitches
DESCRIPTION:League Name: Season 4 Wednesday Men's D2- July 24th, 2019\nGame
  Type: Regular\nGame Status: Complete\nHome Team: One Bad Inning\nAway Tea
 m: Sons of Pitches\nHome Score: 9\nAway Score: 19
END:VEVENT
BEGIN:VEVENT
UID:12552095@ezleagues.ezfacility.com
DTSTAMP:20260423T042151Z
CREATED:20260423T042151Z
DTSTART:20190912T011500Z
DTEND:20190912T021500Z
LOCATION:Field 1
CONTACT:
SUMMARY:Sons of Pitches VS. One Bad Inning
DESCRIPTION:League Name: Season 4 Wednesday Men's D2- July 24th, 2019\nGame
  Type: Regular\nGame Status: Complete\nHome Team: Sons of Pitches\nAway Te
 am: One Bad Inning\nHome Score: 12\nAway Score: 13
END:VEVENT
BEGIN:VEVENT
UID:12552076@ezleagues.ezfacility.com
DTSTAMP:20260423T042151Z
CREATED:20260423T042151Z
DTSTART:20190912T021500Z
DTEND:20190912T031500Z
LOCATION:Field 2
CONTACT:
SUMMARY:Sons of Pitches VS. Shankers
DESCRIPTION:League Name: Season 4 Wednesday Men's D2- July 24th, 2019\nGame
  Type: Regular\nGame Status: Complete\nHome Team: Sons of Pitches\nAway Te
 am: Shankers\nHome Score: 15\nAway Score: 14
END:VEVENT
BEGIN:VEVENT
UID:12646382@ezleagues.ezfacility.com
DTSTAMP:20260423T042151Z
CREATED:20260423T042151Z
DTSTART:20190919T031500Z
DTEND:20190919T041500Z
LOCATION:Field 6
CONTACT:
SUMMARY:Sons of Pitches VS. Screwballs
DESCRIPTION:League Name: Season 4 Wednesday Men's D2- July 24th, 2019\nGame
  Type: Postseason\nGame Status: Complete\nHome Team: Sons of Pitches\nAway
  Team: Screwballs\nHome Score: 16\nAway Score: 15
END:VEVENT
END:VCALENDAR
