BEGIN:VCALENDAR
VERSION:2.0
PRODID:-//EZFacility.com, Inc.//EZL 2.5.5.28621
BEGIN:VEVENT
UID:12557162@ezleagues.ezfacility.com
DTSTAMP:20260426T034941Z
CREATED:20260426T034941Z
DTSTART:20190905T224500Z
DTEND:20190905T234500Z
LOCATION:Lakewood Gym
CONTACT:
SUMMARY:Mimosa-White VS. Mimosa-Chaix
DESCRIPTION:League Name: 2019 Volleyball 5-8yr Division\nGame Type: Regular
 \nGame Status: Pending\nHome Team: Mimosa-White\nAway Team: Mimosa-Chaix\n
END:VEVENT
BEGIN:VEVENT
UID:12557150@ezleagues.ezfacility.com
DTSTAMP:20260426T034941Z
CREATED:20260426T034941Z
DTSTART:20190910T224500Z
DTEND:20190910T234500Z
LOCATION:Lakewood Gym
CONTACT:
SUMMARY:Mimosa-Moss VS. Mimosa-Chaix
DESCRIPTION:League Name: 2019 Volleyball 5-8yr Division\nGame Type: Regular
 \nGame Status: Pending\nHome Team: Mimosa-Moss\nAway Team: Mimosa-Chaix\n
END:VEVENT
BEGIN:VEVENT
UID:12557156@ezleagues.ezfacility.com
DTSTAMP:20260426T034941Z
CREATED:20260426T034941Z
DTSTART:20190912T224500Z
DTEND:20190912T234500Z
LOCATION:Lakewood Gym
CONTACT:
SUMMARY:Mimosa-Chaix VS. Luling
DESCRIPTION:League Name: 2019 Volleyball 5-8yr Division\nGame Type: Regular
 \nGame Status: Pending\nHome Team: Mimosa-Chaix\nAway Team: Luling\n
END:VEVENT
BEGIN:VEVENT
UID:12557167@ezleagues.ezfacility.com
DTSTAMP:20260426T034941Z
CREATED:20260426T034941Z
DTSTART:20190920T004500Z
DTEND:20190920T014500Z
LOCATION:Lakewood Gym
CONTACT:
SUMMARY:Mimosa-Petit VS. Mimosa-Chaix
DESCRIPTION:League Name: 2019 Volleyball 5-8yr Division\nGame Type: Regular
 \nGame Status: Pending\nHome Team: Mimosa-Petit\nAway Team: Mimosa-Chaix\n
END:VEVENT
BEGIN:VEVENT
UID:12557171@ezleagues.ezfacility.com
DTSTAMP:20260426T034941Z
CREATED:20260426T034941Z
DTSTART:20190924T234500Z
DTEND:20190925T004500Z
LOCATION:Lakewood Gym
CONTACT:
SUMMARY:Mimosa-Schlumbrecht VS. Mimosa-Chaix
DESCRIPTION:League Name: 2019 Volleyball 5-8yr Division\nGame Type: Regular
 \nGame Status: Pending\nHome Team: Mimosa-Schlumbrecht\nAway Team: Mimosa-
 Chaix\n
END:VEVENT
BEGIN:VEVENT
UID:12557179@ezleagues.ezfacility.com
DTSTAMP:20260426T034941Z
CREATED:20260426T034941Z
DTSTART:20191001T224500Z
DTEND:20191001T234500Z
LOCATION:Landry GYM
CONTACT:
SUMMARY:Norco VS. Mimosa-Chaix
DESCRIPTION:League Name: 2019 Volleyball 5-8yr Division\nGame Type: Regular
 \nGame Status: Pending\nHome Team: Norco\nAway Team: Mimosa-Chaix\n
END:VEVENT
BEGIN:VEVENT
UID:12557195@ezleagues.ezfacility.com
DTSTAMP:20260426T034941Z
CREATED:20260426T034941Z
DTSTART:20191010T234500Z
DTEND:20191011T004500Z
LOCATION:Landry GYM
CONTACT:
SUMMARY:Mimosa-Chaix VS. Mimosa-Petit
DESCRIPTION:League Name: 2019 Volleyball 5-8yr Division\nGame Type: Regular
 \nGame Status: Pending\nHome Team: Mimosa-Chaix\nAway Team: Mimosa-Petit\n
END:VEVENT
BEGIN:VEVENT
UID:12557201@ezleagues.ezfacility.com
DTSTAMP:20260426T034941Z
CREATED:20260426T034941Z
DTSTART:20191015T234500Z
DTEND:20191016T004500Z
LOCATION:Landry GYM
CONTACT:
SUMMARY:Mimosa-Chaix VS. Luling
DESCRIPTION:League Name: 2019 Volleyball 5-8yr Division\nGame Type: Regular
 \nGame Status: Pending\nHome Team: Mimosa-Chaix\nAway Team: Luling\n
END:VEVENT
BEGIN:VEVENT
UID:12557207@ezleagues.ezfacility.com
DTSTAMP:20260426T034941Z
CREATED:20260426T034941Z
DTSTART:20191017T224500Z
DTEND:20191017T234500Z
LOCATION:Landry GYM
CONTACT:
SUMMARY:Mimosa-Chaix VS. Mimosa-White
DESCRIPTION:League Name: 2019 Volleyball 5-8yr Division\nGame Type: Regular
 \nGame Status: Pending\nHome Team: Mimosa-Chaix\nAway Team: Mimosa-White\n
END:VEVENT
BEGIN:VEVENT
UID:12557183@ezleagues.ezfacility.com
DTSTAMP:20260426T034941Z
CREATED:20260426T034941Z
DTSTART:20191022T224500Z
DTEND:20191022T234500Z
LOCATION:Harry Hurst Gym 
CONTACT:
SUMMARY:Mimosa-Chaix VS. Destrehan-Bordelon
DESCRIPTION:League Name: 2019 Volleyball 5-8yr Division\nGame Type: Regular
 \nGame Status: Pending\nHome Team: Mimosa-Chaix\nAway Team: Destrehan-Bord
 elon\n
END:VEVENT
BEGIN:VEVENT
UID:12557175@ezleagues.ezfacility.com
DTSTAMP:20260426T034941Z
CREATED:20260426T034941Z
DTSTART:20191024T224500Z
DTEND:20191024T234500Z
LOCATION:Landry GYM
CONTACT:
SUMMARY:Des Alemands VS. Mimosa-Chaix
DESCRIPTION:League Name: 2019 Volleyball 5-8yr Division\nGame Type: Regular
 \nGame Status: Pending\nHome Team: Des Alemands\nAway Team: Mimosa-Chaix\n
END:VEVENT
END:VCALENDAR
