BEGIN:VCALENDAR
VERSION:2.0
PRODID:-//EZFacility.com, Inc.//EZL 2.5.5.28621
BEGIN:VEVENT
UID:12912377@ezleagues.ezfacility.com
DTSTAMP:20260424T043225Z
CREATED:20260424T043225Z
DTSTART:20191213T014000Z
DTEND:20191213T023000Z
LOCATION:Jessup Premier Field #1
CONTACT:
SUMMARY:Liver Pool FC VS. Resenha  FC
DESCRIPTION:League Name: Thurs Mens Open 1st div  \nGame Type: Regular\nGam
 e Status: Complete\nHome Team: Liver Pool FC\nAway Team: Resenha  FC\nHome
  Score: 3\nAway Score: 4
END:VEVENT
BEGIN:VEVENT
UID:12912389@ezleagues.ezfacility.com
DTSTAMP:20260424T043225Z
CREATED:20260424T043225Z
DTSTART:20191220T041000Z
DTEND:20191220T050000Z
LOCATION:Jessup Premier Field #1
CONTACT:
SUMMARY:Juventus FC VS. Liver Pool FC
DESCRIPTION:League Name: Thurs Mens Open 1st div  \nGame Type: Regular\nGam
 e Status: Complete\nHome Team: Juventus FC\nAway Team: Liver Pool FC\nHome
  Score: 0\nAway Score: 8
END:VEVENT
BEGIN:VEVENT
UID:12912411@ezleagues.ezfacility.com
DTSTAMP:20260424T043225Z
CREATED:20260424T043225Z
DTSTART:20200103T014000Z
DTEND:20200103T023000Z
LOCATION:Jessup Premier Field #2
CONTACT:
SUMMARY:Barrios   FC VS. Liver Pool FC
DESCRIPTION:League Name: Thurs Mens Open 1st div  \nGame Type: Regular\nGam
 e Status: Complete\nHome Team: Barrios   FC\nAway Team: Liver Pool FC\nHom
 e Score: 6\nAway Score: 8
END:VEVENT
BEGIN:VEVENT
UID:12912422@ezleagues.ezfacility.com
DTSTAMP:20260424T043225Z
CREATED:20260424T043225Z
DTSTART:20200110T032000Z
DTEND:20200110T041000Z
LOCATION:Jessup Premier Field #2
CONTACT:
SUMMARY:Liver Pool FC VS. Motagua
DESCRIPTION:League Name: Thurs Mens Open 1st div  \nGame Type: Regular\nGam
 e Status: Complete\nHome Team: Liver Pool FC\nAway Team: Motagua\nHome Sco
 re: 3\nAway Score: 5
END:VEVENT
BEGIN:VEVENT
UID:12912435@ezleagues.ezfacility.com
DTSTAMP:20260424T043225Z
CREATED:20260424T043225Z
DTSTART:20200117T000000Z
DTEND:20200117T005000Z
LOCATION:Jessup Premier Field #1
CONTACT:
SUMMARY:Liver Pool FC VS. Raja Casablanca 
DESCRIPTION:League Name: Thurs Mens Open 1st div  \nGame Type: Regular\nGam
 e Status: Complete\nHome Team: Liver Pool FC\nAway Team: Raja Casablanca \
 nHome Score: 4\nAway Score: 9
END:VEVENT
BEGIN:VEVENT
UID:12912448@ezleagues.ezfacility.com
DTSTAMP:20260424T043225Z
CREATED:20260424T043225Z
DTSTART:20200124T014000Z
DTEND:20200124T023000Z
LOCATION:Jessup Premier Field #1
CONTACT:
SUMMARY:Liver Pool FC VS. Maryland FC
DESCRIPTION:League Name: Thurs Mens Open 1st div  \nGame Type: Regular\nGam
 e Status: Complete\nHome Team: Liver Pool FC\nAway Team: Maryland FC\nHome
  Score: 5\nAway Score: 3
END:VEVENT
BEGIN:VEVENT
UID:12912400@ezleagues.ezfacility.com
DTSTAMP:20260424T043225Z
CREATED:20260424T043225Z
DTSTART:20200131T041000Z
DTEND:20200131T050000Z
LOCATION:Jessup Premier Field #1
CONTACT:
SUMMARY:United FC VS. Liver Pool FC
DESCRIPTION:League Name: Thurs Mens Open 1st div  \nGame Type: Regular\nGam
 e Status: Complete\nHome Team: United FC\nAway Team: Liver Pool FC\nHome S
 core: 2\nAway Score: 2
END:VEVENT
BEGIN:VEVENT
UID:13083158@ezleagues.ezfacility.com
DTSTAMP:20260424T043225Z
CREATED:20260424T043225Z
DTSTART:20200207T041000Z
DTEND:20200207T045800Z
LOCATION:Jessup Premier Field #2
CONTACT:
SUMMARY:Liver Pool FC VS. Juventus FC
DESCRIPTION:League Name: Thurs Mens Open 1st div  \nGame Type: Regular\nGam
 e Status: Complete\nHome Team: Liver Pool FC\nAway Team: Juventus FC\nHome
  Score: 3\nAway Score: 0
END:VEVENT
BEGIN:VEVENT
UID:13101871@ezleagues.ezfacility.com
DTSTAMP:20260424T043225Z
CREATED:20260424T043225Z
DTSTART:20200214T014000Z
DTEND:20200214T022800Z
LOCATION:Jessup Premier Field #2
CONTACT:
SUMMARY:Liver Pool FC VS. Resenha  FC
DESCRIPTION:League Name: Thurs Mens Open 1st div  \nGame Type: Regular\nGam
 e Status: Complete\nHome Team: Liver Pool FC\nAway Team: Resenha  FC\nHome
  Score: 3\nAway Score: 1
END:VEVENT
END:VCALENDAR
