BEGIN:VCALENDAR
VERSION:2.0
PRODID:-//EZFacility.com, Inc.//EZL 2.5.5.28621
BEGIN:VEVENT
UID:12912379@ezleagues.ezfacility.com
DTSTAMP:20260421T162139Z
CREATED:20260421T162139Z
DTSTART:20191213T014000Z
DTEND:20191213T023000Z
LOCATION:Jessup Premier Field #2
CONTACT:
SUMMARY:Black  Dragons VS. Berkshire Hunts
DESCRIPTION:League Name: Thurs Mens Open 2nd I div  \nGame Type: Regular\nG
 ame Status: Complete\nHome Team: Black  Dragons\nAway Team: Berkshire Hunt
 s\nHome Score: 1\nAway Score: 6
END:VEVENT
BEGIN:VEVENT
UID:12912391@ezleagues.ezfacility.com
DTSTAMP:20260421T162139Z
CREATED:20260421T162139Z
DTSTART:20191220T023000Z
DTEND:20191220T032000Z
LOCATION:Jessup Premier Field #2
CONTACT:
SUMMARY:Buds VS. Black  Dragons
DESCRIPTION:League Name: Thurs Mens Open 2nd I div  \nGame Type: Regular\nG
 ame Status: Complete\nHome Team: Buds\nAway Team: Black  Dragons\nHome Sco
 re: 10\nAway Score: 4
END:VEVENT
BEGIN:VEVENT
UID:12912415@ezleagues.ezfacility.com
DTSTAMP:20260421T162139Z
CREATED:20260421T162139Z
DTSTART:20200103T005000Z
DTEND:20200103T014000Z
LOCATION:Jessup Premier Field #1
CONTACT:
SUMMARY:Stone Action FC VS. Black  Dragons
DESCRIPTION:League Name: Thurs Mens Open 2nd I div  \nGame Type: Regular\nG
 ame Status: Complete\nHome Team: Stone Action FC\nAway Team: Black  Dragon
 s\nHome Score: 6\nAway Score: 2
END:VEVENT
BEGIN:VEVENT
UID:12912427@ezleagues.ezfacility.com
DTSTAMP:20260421T162139Z
CREATED:20260421T162139Z
DTSTART:20200110T005000Z
DTEND:20200110T014000Z
LOCATION:Jessup Premier Field #1
CONTACT:
SUMMARY:Red  Dragons VS. Black  Dragons
DESCRIPTION:League Name: Thurs Mens Open 2nd I div  \nGame Type: Regular\nG
 ame Status: Complete\nHome Team: Red  Dragons\nAway Team: Black  Dragons\n
 Home Score: 7\nAway Score: 5
END:VEVENT
BEGIN:VEVENT
UID:12912438@ezleagues.ezfacility.com
DTSTAMP:20260421T162139Z
CREATED:20260421T162139Z
DTSTART:20200117T000000Z
DTEND:20200117T005000Z
LOCATION:Jessup Premier Field #2
CONTACT:
SUMMARY:Black  Dragons VS. Los Muppets
DESCRIPTION:League Name: Thurs Mens Open 2nd I div  \nGame Type: Regular\nG
 ame Status: Complete\nHome Team: Black  Dragons\nAway Team: Los Muppets\nH
 ome Score: 3\nAway Score: 6
END:VEVENT
BEGIN:VEVENT
UID:12912451@ezleagues.ezfacility.com
DTSTAMP:20260421T162139Z
CREATED:20260421T162139Z
DTSTART:20200124T023000Z
DTEND:20200124T032000Z
LOCATION:Jessup Premier Field #2
CONTACT:
SUMMARY:Black  Dragons VS. Serafinos
DESCRIPTION:League Name: Thurs Mens Open 2nd I div  \nGame Type: Regular\nG
 ame Status: Complete\nHome Team: Black  Dragons\nAway Team: Serafinos\nHom
 e Score: 3\nAway Score: 5
END:VEVENT
BEGIN:VEVENT
UID:12912403@ezleagues.ezfacility.com
DTSTAMP:20260421T162139Z
CREATED:20260421T162139Z
DTSTART:20200131T005000Z
DTEND:20200131T014000Z
LOCATION:Jessup Premier Field #1
CONTACT:
SUMMARY:Out Shape VS. Black  Dragons
DESCRIPTION:League Name: Thurs Mens Open 2nd I div  \nGame Type: Regular\nG
 ame Status: Complete\nHome Team: Out Shape\nAway Team: Black  Dragons\nHom
 e Score: 6\nAway Score: 3
END:VEVENT
BEGIN:VEVENT
UID:13083370@ezleagues.ezfacility.com
DTSTAMP:20260421T162139Z
CREATED:20260421T162139Z
DTSTART:20200207T005000Z
DTEND:20200207T013800Z
LOCATION:Jessup Premier Field #2
CONTACT:
SUMMARY:Serafinos VS. Black  Dragons
DESCRIPTION:League Name: Thurs Mens Open 2nd I div  \nGame Type: Regular\nG
 ame Status: Complete\nHome Team: Serafinos\nAway Team: Black  Dragons\nHom
 e Score: 3\nAway Score: 2
END:VEVENT
BEGIN:VEVENT
UID:13101874@ezleagues.ezfacility.com
DTSTAMP:20260421T162139Z
CREATED:20260421T162139Z
DTSTART:20200214T005000Z
DTEND:20200214T013800Z
LOCATION:Jessup Premier Field #2
CONTACT:
SUMMARY:Red  Dragons VS. Black  Dragons
DESCRIPTION:League Name: Thurs Mens Open 2nd I div  \nGame Type: Regular\nG
 ame Status: Complete\nHome Team: Red  Dragons\nAway Team: Black  Dragons\n
 Home Score: 2\nAway Score: 1
END:VEVENT
END:VCALENDAR
