BEGIN:VCALENDAR
VERSION:2.0
PRODID:-//EZFacility.com, Inc.//EZL 2.5.5.28621
BEGIN:VEVENT
UID:12571282@ezleagues.ezfacility.com
DTSTAMP:20260426T002145Z
CREATED:20260426T002145Z
DTSTART:20190824T183000Z
DTEND:20190824T193000Z
LOCATION:Marshall County
CONTACT:
SUMMARY:Fire 09B Red VS. Dynamo FC 09B
DESCRIPTION:League Name: EA BU11 Select League - Fall 2019 (Bracket A) \nGa
 me Type: Regular\nGame Status: Complete\nHome Team: Fire 09B Red\nAway Tea
 m: Dynamo FC 09B\nHome Score: 5\nAway Score: 8
END:VEVENT
BEGIN:VEVENT
UID:12571283@ezleagues.ezfacility.com
DTSTAMP:20260426T002145Z
CREATED:20260426T002145Z
DTSTART:20190824T200000Z
DTEND:20190824T210000Z
LOCATION:Marshall County
CONTACT:
SUMMARY:STFA 10B VS. Dynamo FC 09B
DESCRIPTION:League Name: EA BU11 Select League - Fall 2019 (Bracket A) \nGa
 me Type: Regular\nGame Status: Complete\nHome Team: STFA 10B\nAway Team: D
 ynamo FC 09B\nHome Score: 2\nAway Score: 4
END:VEVENT
BEGIN:VEVENT
UID:12571287@ezleagues.ezfacility.com
DTSTAMP:20260426T002145Z
CREATED:20260426T002145Z
DTSTART:20190907T183000Z
DTEND:20190907T193000Z
LOCATION:Owensboro
CONTACT:
SUMMARY:STFA 10B VS. Dynamo FC 09B
DESCRIPTION:League Name: EA BU11 Select League - Fall 2019 (Bracket A) \nGa
 me Type: Regular\nGame Status: Complete\nHome Team: STFA 10B\nAway Team: D
 ynamo FC 09B\nHome Score: 1\nAway Score: 4
END:VEVENT
BEGIN:VEVENT
UID:12571286@ezleagues.ezfacility.com
DTSTAMP:20260426T002145Z
CREATED:20260426T002145Z
DTSTART:20190907T200000Z
DTEND:20190907T210000Z
LOCATION:Owensboro
CONTACT:
SUMMARY:Fire 10B Red VS. Dynamo FC 09B
DESCRIPTION:League Name: EA BU11 Select League - Fall 2019 (Bracket A) \nGa
 me Type: Regular\nGame Status: Complete\nHome Team: Fire 10B Red\nAway Tea
 m: Dynamo FC 09B\nHome Score: 3\nAway Score: 1
END:VEVENT
BEGIN:VEVENT
UID:12571293@ezleagues.ezfacility.com
DTSTAMP:20260426T002145Z
CREATED:20260426T002145Z
DTSTART:20190928T183000Z
DTEND:20190928T193000Z
LOCATION:Murray
CONTACT:
SUMMARY:MC Revolution 09B VS. Dynamo FC 09B
DESCRIPTION:League Name: EA BU11 Select League - Fall 2019 (Bracket A) \nGa
 me Type: Regular\nGame Status: Complete\nHome Team: MC Revolution 09B\nAwa
 y Team: Dynamo FC 09B\nHome Score: 5\nAway Score: 0
END:VEVENT
BEGIN:VEVENT
UID:12571292@ezleagues.ezfacility.com
DTSTAMP:20260426T002145Z
CREATED:20260426T002145Z
DTSTART:20190928T200000Z
DTEND:20190928T210000Z
LOCATION:Murray
CONTACT:
SUMMARY:Fire 10B Red VS. Dynamo FC 09B
DESCRIPTION:League Name: EA BU11 Select League - Fall 2019 (Bracket A) \nGa
 me Type: Regular\nGame Status: Complete\nHome Team: Fire 10B Red\nAway Tea
 m: Dynamo FC 09B\nHome Score: 5\nAway Score: 4
END:VEVENT
BEGIN:VEVENT
UID:12571296@ezleagues.ezfacility.com
DTSTAMP:20260426T002145Z
CREATED:20260426T002145Z
DTSTART:20191019T180000Z
DTEND:20191019T190000Z
LOCATION:PP Field 2N
CONTACT:
SUMMARY:Fire 09B Red VS. Dynamo FC 09B
DESCRIPTION:League Name: EA BU11 Select League - Fall 2019 (Bracket A) \nGa
 me Type: Regular\nGame Status: Pending\nHome Team: Fire 09B Red\nAway Team
 : Dynamo FC 09B\n
END:VEVENT
BEGIN:VEVENT
UID:12580107@ezleagues.ezfacility.com
DTSTAMP:20260426T002145Z
CREATED:20260426T002145Z
DTSTART:20191103T190000Z
DTEND:20191103T200000Z
LOCATION:TBA
CONTACT:
SUMMARY:Dynamo FC 09B VS. MC Revolution 09B
DESCRIPTION:League Name: EA BU11 Select League - Fall 2019 (Bracket A) \nGa
 me Type: Regular\nGame Status: Pending\nHome Team: Dynamo FC 09B\nAway Tea
 m: MC Revolution 09B\n
END:VEVENT
END:VCALENDAR
