BEGIN:VCALENDAR
VERSION:2.0
PRODID:-//EZFacility.com, Inc.//EZL 2.5.5.28621
BEGIN:VEVENT
UID:12994522@ezleagues.ezfacility.com
DTSTAMP:20260426T035102Z
CREATED:20260426T035102Z
DTSTART:20200112T040000Z
DTEND:20200112T044800Z
LOCATION:Jessup Premier Field #1
CONTACT:
SUMMARY:Barrios FC VS. Merengues
DESCRIPTION:League Name: Sat Mens Open 2nd div  \nGame Type: Regular\nGame 
 Status: Complete\nHome Team: Barrios FC\nAway Team: Merengues\nHome Score:
  3\nAway Score: 5
END:VEVENT
BEGIN:VEVENT
UID:12994538@ezleagues.ezfacility.com
DTSTAMP:20260426T035102Z
CREATED:20260426T035102Z
DTSTART:20200118T230000Z
DTEND:20200118T234800Z
LOCATION:Jessup Premier Field #1
CONTACT:
SUMMARY:Barrios FC VS. Las Rocas
DESCRIPTION:League Name: Sat Mens Open 2nd div  \nGame Type: Regular\nGame 
 Status: Complete\nHome Team: Barrios FC\nAway Team: Las Rocas\nHome Score:
  4\nAway Score: 3
END:VEVENT
BEGIN:VEVENT
UID:12994551@ezleagues.ezfacility.com
DTSTAMP:20260426T035102Z
CREATED:20260426T035102Z
DTSTART:20200126T031000Z
DTEND:20200126T035800Z
LOCATION:Jessup Premier Field #1
CONTACT:
SUMMARY:Barrios FC VS. Oxelotlan FC
DESCRIPTION:League Name: Sat Mens Open 2nd div  \nGame Type: Regular\nGame 
 Status: Complete\nHome Team: Barrios FC\nAway Team: Oxelotlan FC\nHome Sco
 re: 1\nAway Score: 3
END:VEVENT
BEGIN:VEVENT
UID:12994567@ezleagues.ezfacility.com
DTSTAMP:20260426T035102Z
CREATED:20260426T035102Z
DTSTART:20200202T040000Z
DTEND:20200202T044800Z
LOCATION:Jessup Premier Field #2
CONTACT:
SUMMARY:Barrios FC VS. Deportivo Catrachos
DESCRIPTION:League Name: Sat Mens Open 2nd div  \nGame Type: Regular\nGame 
 Status: Complete\nHome Team: Barrios FC\nAway Team: Deportivo Catrachos\nH
 ome Score: 2\nAway Score: 3
END:VEVENT
BEGIN:VEVENT
UID:12994581@ezleagues.ezfacility.com
DTSTAMP:20260426T035102Z
CREATED:20260426T035102Z
DTSTART:20200209T040000Z
DTEND:20200209T044800Z
LOCATION:Jessup Premier Field #2
CONTACT:
SUMMARY:Ajax FC VS. Barrios FC
DESCRIPTION:League Name: Sat Mens Open 2nd div  \nGame Type: Regular\nGame 
 Status: Complete\nHome Team: Ajax FC\nAway Team: Barrios FC\nHome Score: 2
 \nAway Score: 4
END:VEVENT
BEGIN:VEVENT
UID:12994595@ezleagues.ezfacility.com
DTSTAMP:20260426T035102Z
CREATED:20260426T035102Z
DTSTART:20200215T230000Z
DTEND:20200215T234800Z
LOCATION:Jessup Premier Field #1
CONTACT:
SUMMARY:Liver Pool VS. Barrios FC
DESCRIPTION:League Name: Sat Mens Open 2nd div  \nGame Type: Regular\nGame 
 Status: Complete\nHome Team: Liver Pool\nAway Team: Barrios FC\nHome Score
 : 4\nAway Score: 5
END:VEVENT
BEGIN:VEVENT
UID:12994608@ezleagues.ezfacility.com
DTSTAMP:20260426T035102Z
CREATED:20260426T035102Z
DTSTART:20200223T004000Z
DTEND:20200223T012800Z
LOCATION:Jessup Premier Field #1
CONTACT:
SUMMARY:PSG VS. Barrios FC
DESCRIPTION:League Name: Sat Mens Open 2nd div  \nGame Type: Regular\nGame 
 Status: Complete\nHome Team: PSG\nAway Team: Barrios FC\nHome Score: 2\nAw
 ay Score: 5
END:VEVENT
BEGIN:VEVENT
UID:13134867@ezleagues.ezfacility.com
DTSTAMP:20260426T035102Z
CREATED:20260426T035102Z
DTSTART:20200301T004000Z
DTEND:20200301T012800Z
LOCATION:Jessup Premier Field #1
CONTACT:
SUMMARY:Deportivo Catrachos VS. Barrios FC
DESCRIPTION:League Name: Sat Mens Open 2nd div  \nGame Type: Regular\nGame 
 Status: Complete\nHome Team: Deportivo Catrachos\nAway Team: Barrios FC\nH
 ome Score: 9\nAway Score: 3
END:VEVENT
BEGIN:VEVENT
UID:13149820@ezleagues.ezfacility.com
DTSTAMP:20260426T035102Z
CREATED:20260426T035102Z
DTSTART:20200307T235000Z
DTEND:20200308T003800Z
LOCATION:Jessup Premier Field #2
CONTACT:
SUMMARY:Oxelotlan FC VS. Barrios FC
DESCRIPTION:League Name: Sat Mens Open 2nd div  \nGame Type: Regular\nGame 
 Status: Complete\nHome Team: Oxelotlan FC\nAway Team: Barrios FC\nHome Sco
 re: 3\nAway Score: 0
END:VEVENT
END:VCALENDAR
