BEGIN:VCALENDAR
VERSION:2.0
PRODID:-//EZFacility.com, Inc.//EZL 2.5.5.28621
BEGIN:VEVENT
UID:12994522@ezleagues.ezfacility.com
DTSTAMP:20260425T193100Z
CREATED:20260425T193100Z
DTSTART:20200112T040000Z
DTEND:20200112T044800Z
LOCATION:Jessup Premier Field #1
CONTACT:
SUMMARY:Barrios FC VS. Merengues
DESCRIPTION:League Name: Sat Mens Open 2nd div  \nGame Type: Regular\nGame 
 Status: Complete\nHome Team: Barrios FC\nAway Team: Merengues\nHome Score:
  3\nAway Score: 5
END:VEVENT
BEGIN:VEVENT
UID:12994535@ezleagues.ezfacility.com
DTSTAMP:20260425T193100Z
CREATED:20260425T193100Z
DTSTART:20200119T031000Z
DTEND:20200119T035800Z
LOCATION:Jessup Premier Field #1
CONTACT:
SUMMARY:Atletico Marte VS. Merengues
DESCRIPTION:League Name: Sat Mens Open 2nd div  \nGame Type: Regular\nGame 
 Status: Complete\nHome Team: Atletico Marte\nAway Team: Merengues\nHome Sc
 ore: 4\nAway Score: 4
END:VEVENT
BEGIN:VEVENT
UID:12994550@ezleagues.ezfacility.com
DTSTAMP:20260425T193100Z
CREATED:20260425T193100Z
DTSTART:20200126T031000Z
DTEND:20200126T035800Z
LOCATION:Jessup Premier Field #2
CONTACT:
SUMMARY:Merengues VS. Las Rocas
DESCRIPTION:League Name: Sat Mens Open 2nd div  \nGame Type: Regular\nGame 
 Status: Complete\nHome Team: Merengues\nAway Team: Las Rocas\nHome Score: 
 3\nAway Score: 5
END:VEVENT
BEGIN:VEVENT
UID:12994563@ezleagues.ezfacility.com
DTSTAMP:20260425T193100Z
CREATED:20260425T193100Z
DTSTART:20200202T031000Z
DTEND:20200202T035800Z
LOCATION:Jessup Premier Field #1
CONTACT:
SUMMARY:Merengues VS. Oxelotlan FC
DESCRIPTION:League Name: Sat Mens Open 2nd div  \nGame Type: Regular\nGame 
 Status: Complete\nHome Team: Merengues\nAway Team: Oxelotlan FC\nHome Scor
 e: 4\nAway Score: 8
END:VEVENT
BEGIN:VEVENT
UID:12994579@ezleagues.ezfacility.com
DTSTAMP:20260425T193100Z
CREATED:20260425T193100Z
DTSTART:20200209T040000Z
DTEND:20200209T044800Z
LOCATION:Jessup Premier Field #1
CONTACT:
SUMMARY:Merengues VS. Deportivo Catrachos
DESCRIPTION:League Name: Sat Mens Open 2nd div  \nGame Type: Regular\nGame 
 Status: Complete\nHome Team: Merengues\nAway Team: Deportivo Catrachos\nHo
 me Score: 3\nAway Score: 8
END:VEVENT
BEGIN:VEVENT
UID:12994592@ezleagues.ezfacility.com
DTSTAMP:20260425T193100Z
CREATED:20260425T193100Z
DTSTART:20200216T031000Z
DTEND:20200216T035800Z
LOCATION:Jessup Premier Field #2
CONTACT:
SUMMARY:Merengues VS. Ajax FC
DESCRIPTION:League Name: Sat Mens Open 2nd div  \nGame Type: Regular\nGame 
 Status: Complete\nHome Team: Merengues\nAway Team: Ajax FC\nHome Score: 3\
 nAway Score: 3
END:VEVENT
BEGIN:VEVENT
UID:12994607@ezleagues.ezfacility.com
DTSTAMP:20260425T193100Z
CREATED:20260425T193100Z
DTSTART:20200223T040000Z
DTEND:20200223T044800Z
LOCATION:Jessup Premier Field #2
CONTACT:
SUMMARY:Liver Pool VS. Merengues
DESCRIPTION:League Name: Sat Mens Open 2nd div  \nGame Type: Regular\nGame 
 Status: Complete\nHome Team: Liver Pool\nAway Team: Merengues\nHome Score:
  10\nAway Score: 0
END:VEVENT
BEGIN:VEVENT
UID:13134871@ezleagues.ezfacility.com
DTSTAMP:20260425T193100Z
CREATED:20260425T193100Z
DTSTART:20200301T040000Z
DTEND:20200301T044800Z
LOCATION:Jessup Premier Field #2
CONTACT:
SUMMARY:Inter FC VS. Merengues
DESCRIPTION:League Name: Sat Mens Open 2nd div  \nGame Type: Regular\nGame 
 Status: Complete\nHome Team: Inter FC\nAway Team: Merengues\nHome Score: 3
 \nAway Score: 0
END:VEVENT
BEGIN:VEVENT
UID:13149822@ezleagues.ezfacility.com
DTSTAMP:20260425T193100Z
CREATED:20260425T193100Z
DTSTART:20200308T022000Z
DTEND:20200308T030800Z
LOCATION:Jessup Premier Field #2
CONTACT:
SUMMARY:Las Rocas VS. Merengues
DESCRIPTION:League Name: Sat Mens Open 2nd div  \nGame Type: Regular\nGame 
 Status: Complete\nHome Team: Las Rocas\nAway Team: Merengues\nHome Score: 
 3\nAway Score: 0
END:VEVENT
END:VCALENDAR
