BEGIN:VCALENDAR
VERSION:2.0
PRODID:-//EZFacility.com, Inc.//EZL 2.5.5.28621
BEGIN:VEVENT
UID:12597163@ezleagues.ezfacility.com
DTSTAMP:20260423T103426Z
CREATED:20260423T103426Z
DTSTART:20190904T015000Z
DTEND:20190904T025000Z
LOCATION:RCF East - Barcelona
CONTACT:
SUMMARY:Friend Hotel VS. Los Lay-Z-Boys
DESCRIPTION:League Name: East Fall AL - Men's D3 (T/F)\nGame Type: Regular\
 nGame Status: Complete\nHome Team: Friend Hotel\nAway Team: Los Lay-Z-Boys
 \nHome Score: 5\nAway Score: 3
END:VEVENT
BEGIN:VEVENT
UID:12597180@ezleagues.ezfacility.com
DTSTAMP:20260423T103426Z
CREATED:20260423T103426Z
DTSTART:20190914T021000Z
DTEND:20190914T031000Z
LOCATION:RCF East - Portland
CONTACT:
SUMMARY:Weekend at Burnley's VS. Los Lay-Z-Boys
DESCRIPTION:League Name: East Fall AL - Men's D3 (T/F)\nGame Type: Regular\
 nGame Status: Complete\nHome Team: Weekend at Burnley's\nAway Team: Los La
 y-Z-Boys\nHome Score: 8\nAway Score: 2
END:VEVENT
BEGIN:VEVENT
UID:12597197@ezleagues.ezfacility.com
DTSTAMP:20260423T103426Z
CREATED:20260423T103426Z
DTSTART:20190918T023000Z
DTEND:20190918T033000Z
LOCATION:RCF East - Rio
CONTACT:
SUMMARY:Linnton Beach Club VS. Los Lay-Z-Boys
DESCRIPTION:League Name: East Fall AL - Men's D3 (T/F)\nGame Type: Regular\
 nGame Status: Complete\nHome Team: Linnton Beach Club\nAway Team: Los Lay-
 Z-Boys\nHome Score: 4\nAway Score: 4
END:VEVENT
BEGIN:VEVENT
UID:12597213@ezleagues.ezfacility.com
DTSTAMP:20260423T103426Z
CREATED:20260423T103426Z
DTSTART:20190925T053000Z
DTEND:20190925T063000Z
LOCATION:RCF East - Rio
CONTACT:
SUMMARY:Los Lay-Z-Boys VS. Tawakal
DESCRIPTION:League Name: East Fall AL - Men's D3 (T/F)\nGame Type: Regular\
 nGame Status: Complete\nHome Team: Los Lay-Z-Boys\nAway Team: Tawakal\nHom
 e Score: 6\nAway Score: 13
END:VEVENT
BEGIN:VEVENT
UID:12597228@ezleagues.ezfacility.com
DTSTAMP:20260423T103426Z
CREATED:20260423T103426Z
DTSTART:20191005T020000Z
DTEND:20191005T025000Z
LOCATION:RCF East - Barcelona
CONTACT:
SUMMARY:Los Lay-Z-Boys VS. Swarm
DESCRIPTION:League Name: East Fall AL - Men's D3 (T/F)\nGame Type: Regular\
 nGame Status: Complete\nHome Team: Los Lay-Z-Boys\nAway Team: Swarm\nHome 
 Score: 5\nAway Score: 7
END:VEVENT
BEGIN:VEVENT
UID:12597243@ezleagues.ezfacility.com
DTSTAMP:20260423T103426Z
CREATED:20260423T103426Z
DTSTART:20191009T033000Z
DTEND:20191009T043000Z
LOCATION:RCF East - Rio
CONTACT:
SUMMARY:Los Lay-Z-Boys VS. Friend Hotel
DESCRIPTION:League Name: East Fall AL - Men's D3 (T/F)\nGame Type: Regular\
 nGame Status: Complete\nHome Team: Los Lay-Z-Boys\nAway Team: Friend Hotel
 \nHome Score: 6\nAway Score: 4
END:VEVENT
BEGIN:VEVENT
UID:12597260@ezleagues.ezfacility.com
DTSTAMP:20260423T103426Z
CREATED:20260423T103426Z
DTSTART:20191016T013000Z
DTEND:20191016T023000Z
LOCATION:RCF East - Rio
CONTACT:
SUMMARY:Los Lay-Z-Boys VS. Weekend at Burnley's
DESCRIPTION:League Name: East Fall AL - Men's D3 (T/F)\nGame Type: Regular\
 nGame Status: Complete\nHome Team: Los Lay-Z-Boys\nAway Team: Weekend at B
 urnley's\nHome Score: 4\nAway Score: 7
END:VEVENT
BEGIN:VEVENT
UID:12597277@ezleagues.ezfacility.com
DTSTAMP:20260423T103426Z
CREATED:20260423T103426Z
DTSTART:20191023T053000Z
DTEND:20191023T063000Z
LOCATION:Program Reschedule
CONTACT:
SUMMARY:Los Lay-Z-Boys VS. Linnton Beach Club
DESCRIPTION:League Name: East Fall AL - Men's D3 (T/F)\nGame Type: Regular\
 nGame Status: Pending\nHome Team: Los Lay-Z-Boys\nAway Team: Linnton Beach
  Club\n
END:VEVENT
BEGIN:VEVENT
UID:12597293@ezleagues.ezfacility.com
DTSTAMP:20260423T103426Z
CREATED:20260423T103426Z
DTSTART:20191030T053000Z
DTEND:20191030T063000Z
LOCATION:RCF East - Rio
CONTACT:
SUMMARY:Tawakal VS. Los Lay-Z-Boys
DESCRIPTION:League Name: East Fall AL - Men's D3 (T/F)\nGame Type: Regular\
 nGame Status: Complete\nHome Team: Tawakal\nAway Team: Los Lay-Z-Boys\nHom
 e Score: 7\nAway Score: 0
END:VEVENT
BEGIN:VEVENT
UID:12597308@ezleagues.ezfacility.com
DTSTAMP:20260423T103426Z
CREATED:20260423T103426Z
DTSTART:20191109T041000Z
DTEND:20191109T051000Z
LOCATION:RCF East - Portland
CONTACT:
SUMMARY:Swarm VS. Los Lay-Z-Boys
DESCRIPTION:League Name: East Fall AL - Men's D3 (T/F)\nGame Type: Regular\
 nGame Status: Complete\nHome Team: Swarm\nAway Team: Los Lay-Z-Boys\nHome 
 Score: 8\nAway Score: 8
END:VEVENT
END:VCALENDAR
