BEGIN:VCALENDAR
VERSION:2.0
PRODID:-//EZFacility.com, Inc.//EZL 2.5.5.28621
BEGIN:VEVENT
UID:12601883@ezleagues.ezfacility.com
DTSTAMP:20260425T195006Z
CREATED:20260425T195006Z
DTSTART:20190904T041000Z
DTEND:20190904T051000Z
LOCATION:RCF East - Portland
CONTACT:
SUMMARY:The Fossils VS. Las Espinas
DESCRIPTION:League Name: East Fall AL - Women's D4 (T/F)\nGame Type: Regula
 r\nGame Status: Complete\nHome Team: The Fossils\nAway Team: Las Espinas\n
 Home Score: 9\nAway Score: 3
END:VEVENT
BEGIN:VEVENT
UID:12601888@ezleagues.ezfacility.com
DTSTAMP:20260425T195006Z
CREATED:20260425T195006Z
DTSTART:20190911T041000Z
DTEND:20190911T051000Z
LOCATION:RCF East - Portland
CONTACT:
SUMMARY:The Bad Mamas VS. Las Espinas
DESCRIPTION:League Name: East Fall AL - Women's D4 (T/F)\nGame Type: Regula
 r\nGame Status: Complete\nHome Team: The Bad Mamas\nAway Team: Las Espinas
 \nHome Score: 2\nAway Score: 2
END:VEVENT
BEGIN:VEVENT
UID:12601892@ezleagues.ezfacility.com
DTSTAMP:20260425T195006Z
CREATED:20260425T195006Z
DTSTART:20190918T013000Z
DTEND:20190918T023000Z
LOCATION:RCF East - Rio
CONTACT:
SUMMARY:Las Espinas VS. Futsycats
DESCRIPTION:League Name: East Fall AL - Women's D4 (T/F)\nGame Type: Regula
 r\nGame Status: Complete\nHome Team: Las Espinas\nAway Team: Futsycats\nHo
 me Score: 1\nAway Score: 3
END:VEVENT
BEGIN:VEVENT
UID:12601895@ezleagues.ezfacility.com
DTSTAMP:20260425T195006Z
CREATED:20260425T195006Z
DTSTART:20190928T031000Z
DTEND:20190928T041000Z
LOCATION:RCF East - Portland
CONTACT:
SUMMARY:No Ice VS. Las Espinas
DESCRIPTION:League Name: East Fall AL - Women's D4 (T/F)\nGame Type: Regula
 r\nGame Status: Complete\nHome Team: No Ice\nAway Team: Las Espinas\nHome 
 Score: 2\nAway Score: 1
END:VEVENT
BEGIN:VEVENT
UID:12601898@ezleagues.ezfacility.com
DTSTAMP:20260425T195006Z
CREATED:20260425T195006Z
DTSTART:20191002T031000Z
DTEND:20191002T041000Z
LOCATION:RCF East - Portland
CONTACT:
SUMMARY:Womens Farm Team VS. Las Espinas
DESCRIPTION:League Name: East Fall AL - Women's D4 (T/F)\nGame Type: Regula
 r\nGame Status: Complete\nHome Team: Womens Farm Team\nAway Team: Las Espi
 nas\nHome Score: 5\nAway Score: 0
END:VEVENT
BEGIN:VEVENT
UID:12601901@ezleagues.ezfacility.com
DTSTAMP:20260425T195006Z
CREATED:20260425T195006Z
DTSTART:20191012T045000Z
DTEND:20191012T055000Z
LOCATION:RCF East - Barcelona
CONTACT:
SUMMARY:Las Espinas VS. No Ice
DESCRIPTION:League Name: East Fall AL - Women's D4 (T/F)\nGame Type: Regula
 r\nGame Status: Complete\nHome Team: Las Espinas\nAway Team: No Ice\nHome 
 Score: 3\nAway Score: 4
END:VEVENT
BEGIN:VEVENT
UID:12601906@ezleagues.ezfacility.com
DTSTAMP:20260425T195006Z
CREATED:20260425T195006Z
DTSTART:20191016T043000Z
DTEND:20191016T053000Z
LOCATION:RCF East - Rio
CONTACT:
SUMMARY:Las Espinas VS. Hell Cat Maggies 
DESCRIPTION:League Name: East Fall AL - Women's D4 (T/F)\nGame Type: Regula
 r\nGame Status: Complete\nHome Team: Las Espinas\nAway Team: Hell Cat Magg
 ies \nHome Score: 0\nAway Score: 6
END:VEVENT
BEGIN:VEVENT
UID:12601911@ezleagues.ezfacility.com
DTSTAMP:20260425T195006Z
CREATED:20260425T195006Z
DTSTART:20191023T015000Z
DTEND:20191023T025000Z
LOCATION:RCF East - Barcelona
CONTACT:
SUMMARY:Las Espinas VS. The Fossils
DESCRIPTION:League Name: East Fall AL - Women's D4 (T/F)\nGame Type: Regula
 r\nGame Status: Complete\nHome Team: Las Espinas\nAway Team: The Fossils\n
 Home Score: 2\nAway Score: 7
END:VEVENT
BEGIN:VEVENT
UID:12601916@ezleagues.ezfacility.com
DTSTAMP:20260425T195006Z
CREATED:20260425T195006Z
DTSTART:20191030T021000Z
DTEND:20191030T031000Z
LOCATION:RCF East - Portland
CONTACT:
SUMMARY:Las Espinas VS. The Bad Mamas
DESCRIPTION:League Name: East Fall AL - Women's D4 (T/F)\nGame Type: Regula
 r\nGame Status: Complete\nHome Team: Las Espinas\nAway Team: The Bad Mamas
 \nHome Score: 2\nAway Score: 5
END:VEVENT
BEGIN:VEVENT
UID:12601920@ezleagues.ezfacility.com
DTSTAMP:20260425T195006Z
CREATED:20260425T195006Z
DTSTART:20191106T023000Z
DTEND:20191106T033000Z
LOCATION:RCF East - Rio
CONTACT:
SUMMARY:Futsycats VS. Las Espinas
DESCRIPTION:League Name: East Fall AL - Women's D4 (T/F)\nGame Type: Regula
 r\nGame Status: Complete\nHome Team: Futsycats\nAway Team: Las Espinas\nHo
 me Score: 6\nAway Score: 2
END:VEVENT
END:VCALENDAR
