BEGIN:VCALENDAR
VERSION:2.0
PRODID:-//EZFacility.com, Inc.//EZL 2.5.5.28621
BEGIN:VEVENT
UID:12601884@ezleagues.ezfacility.com
DTSTAMP:20260426T035059Z
CREATED:20260426T035059Z
DTSTART:20190904T013000Z
DTEND:20190904T023000Z
LOCATION:RCF East - Rio
CONTACT:
SUMMARY:Womens Farm Team VS. The Bad Mamas
DESCRIPTION:League Name: East Fall AL - Women's D4 (T/F)\nGame Type: Regula
 r\nGame Status: Complete\nHome Team: Womens Farm Team\nAway Team: The Bad 
 Mamas\nHome Score: 5\nAway Score: 1
END:VEVENT
BEGIN:VEVENT
UID:12601881@ezleagues.ezfacility.com
DTSTAMP:20260426T035059Z
CREATED:20260426T035059Z
DTSTART:20190907T051000Z
DTEND:20190907T061000Z
LOCATION:RCF East - Portland
CONTACT:
SUMMARY:The Bad Mamas VS. Hell Cat Maggies 
DESCRIPTION:League Name: East Fall AL - Women's D4 (T/F)\nGame Type: Regula
 r\nGame Status: Complete\nHome Team: The Bad Mamas\nAway Team: Hell Cat Ma
 ggies \nHome Score: 0\nAway Score: 1
END:VEVENT
BEGIN:VEVENT
UID:12601888@ezleagues.ezfacility.com
DTSTAMP:20260426T035059Z
CREATED:20260426T035059Z
DTSTART:20190911T041000Z
DTEND:20190911T051000Z
LOCATION:RCF East - Portland
CONTACT:
SUMMARY:The Bad Mamas VS. Las Espinas
DESCRIPTION:League Name: East Fall AL - Women's D4 (T/F)\nGame Type: Regula
 r\nGame Status: Complete\nHome Team: The Bad Mamas\nAway Team: Las Espinas
 \nHome Score: 2\nAway Score: 2
END:VEVENT
BEGIN:VEVENT
UID:12601891@ezleagues.ezfacility.com
DTSTAMP:20260426T035059Z
CREATED:20260426T035059Z
DTSTART:20190921T031000Z
DTEND:20190921T041000Z
LOCATION:RCF East - Portland
CONTACT:
SUMMARY:The Bad Mamas VS. Hell Cat Maggies 
DESCRIPTION:League Name: East Fall AL - Women's D4 (T/F)\nGame Type: Regula
 r\nGame Status: Complete\nHome Team: The Bad Mamas\nAway Team: Hell Cat Ma
 ggies \nHome Score: 2\nAway Score: 0
END:VEVENT
BEGIN:VEVENT
UID:12601894@ezleagues.ezfacility.com
DTSTAMP:20260426T035059Z
CREATED:20260426T035059Z
DTSTART:20190925T055000Z
DTEND:20190925T065000Z
LOCATION:RCF East - Barcelona
CONTACT:
SUMMARY:The Fossils VS. The Bad Mamas
DESCRIPTION:League Name: East Fall AL - Women's D4 (T/F)\nGame Type: Regula
 r\nGame Status: Complete\nHome Team: The Fossils\nAway Team: The Bad Mamas
 \nHome Score: 5\nAway Score: 3
END:VEVENT
BEGIN:VEVENT
UID:12601902@ezleagues.ezfacility.com
DTSTAMP:20260426T035059Z
CREATED:20260426T035059Z
DTSTART:20191012T013000Z
DTEND:20191012T023000Z
LOCATION:RCF East - Rio
CONTACT:
SUMMARY:The Bad Mamas VS. Futsycats
DESCRIPTION:League Name: East Fall AL - Women's D4 (T/F)\nGame Type: Regula
 r\nGame Status: Complete\nHome Team: The Bad Mamas\nAway Team: Futsycats\n
 Home Score: 0\nAway Score: 4
END:VEVENT
BEGIN:VEVENT
UID:12601907@ezleagues.ezfacility.com
DTSTAMP:20260426T035059Z
CREATED:20260426T035059Z
DTSTART:20191016T033000Z
DTEND:20191016T043000Z
LOCATION:RCF East - Rio
CONTACT:
SUMMARY:The Bad Mamas VS. No Ice
DESCRIPTION:League Name: East Fall AL - Women's D4 (T/F)\nGame Type: Regula
 r\nGame Status: Complete\nHome Team: The Bad Mamas\nAway Team: No Ice\nHom
 e Score: 3\nAway Score: 1
END:VEVENT
BEGIN:VEVENT
UID:12601912@ezleagues.ezfacility.com
DTSTAMP:20260426T035059Z
CREATED:20260426T035059Z
DTSTART:20191023T031000Z
DTEND:20191023T041000Z
LOCATION:RCF East - Portland
CONTACT:
SUMMARY:The Bad Mamas VS. Womens Farm Team
DESCRIPTION:League Name: East Fall AL - Women's D4 (T/F)\nGame Type: Regula
 r\nGame Status: Complete\nHome Team: The Bad Mamas\nAway Team: Womens Farm
  Team\nHome Score: 4\nAway Score: 2
END:VEVENT
BEGIN:VEVENT
UID:12601916@ezleagues.ezfacility.com
DTSTAMP:20260426T035059Z
CREATED:20260426T035059Z
DTSTART:20191030T021000Z
DTEND:20191030T031000Z
LOCATION:RCF East - Portland
CONTACT:
SUMMARY:Las Espinas VS. The Bad Mamas
DESCRIPTION:League Name: East Fall AL - Women's D4 (T/F)\nGame Type: Regula
 r\nGame Status: Complete\nHome Team: Las Espinas\nAway Team: The Bad Mamas
 \nHome Score: 2\nAway Score: 5
END:VEVENT
BEGIN:VEVENT
UID:12601919@ezleagues.ezfacility.com
DTSTAMP:20260426T035059Z
CREATED:20260426T035059Z
DTSTART:20191106T045000Z
DTEND:20191106T055000Z
LOCATION:RCF East - Barcelona
CONTACT:
SUMMARY:Hell Cat Maggies  VS. The Bad Mamas
DESCRIPTION:League Name: East Fall AL - Women's D4 (T/F)\nGame Type: Regula
 r\nGame Status: Complete\nHome Team: Hell Cat Maggies \nAway Team: The Bad
  Mamas\nHome Score: 1\nAway Score: 5
END:VEVENT
END:VCALENDAR
