BEGIN:VCALENDAR
VERSION:2.0
PRODID:-//EZFacility.com, Inc.//EZL 2.5.5.28621
BEGIN:VEVENT
UID:12625405@ezleagues.ezfacility.com
DTSTAMP:20260426T033812Z
CREATED:20260426T033812Z
DTSTART:20191006T153500Z
DTEND:20191006T165000Z
LOCATION:Sherwood IC
CONTACT:
SUMMARY:Oase VS. Hale
DESCRIPTION:League Name: 14U WJH Metro\nGame Type: Regular\nGame Status: Pe
 nding\nHome Team: Oase\nAway Team: Hale\n
END:VEVENT
BEGIN:VEVENT
UID:12625408@ezleagues.ezfacility.com
DTSTAMP:20260426T033812Z
CREATED:20260426T033812Z
DTSTART:20191013T170000Z
DTEND:20191013T181500Z
LOCATION:Sherwood IC
CONTACT:
SUMMARY:Stephenson VS. Hale
DESCRIPTION:League Name: 14U WJH Metro\nGame Type: Regular\nGame Status: Pe
 nding\nHome Team: Stephenson\nAway Team: Hale\n
END:VEVENT
BEGIN:VEVENT
UID:12625410@ezleagues.ezfacility.com
DTSTAMP:20260426T033812Z
CREATED:20260426T033812Z
DTSTART:20191020T170000Z
DTEND:20191020T181500Z
LOCATION:Sherwood IC
CONTACT:
SUMMARY:Hale VS. Walsh
DESCRIPTION:League Name: 14U WJH Metro\nGame Type: Regular\nGame Status: Pe
 nding\nHome Team: Hale\nAway Team: Walsh\n
END:VEVENT
BEGIN:VEVENT
UID:12625411@ezleagues.ezfacility.com
DTSTAMP:20260426T033812Z
CREATED:20260426T033812Z
DTSTART:20191027T170000Z
DTEND:20191027T181500Z
LOCATION:Sherwood IC
CONTACT:
SUMMARY:Oase VS. Hale
DESCRIPTION:League Name: 14U WJH Metro\nGame Type: Regular\nGame Status: Pe
 nding\nHome Team: Oase\nAway Team: Hale\n
END:VEVENT
BEGIN:VEVENT
UID:12625414@ezleagues.ezfacility.com
DTSTAMP:20260426T033812Z
CREATED:20260426T033812Z
DTSTART:20191103T163500Z
DTEND:20191103T175000Z
LOCATION:Sherwood IC
CONTACT:
SUMMARY:Stephenson VS. Hale
DESCRIPTION:League Name: 14U WJH Metro\nGame Type: Regular\nGame Status: Pe
 nding\nHome Team: Stephenson\nAway Team: Hale\n
END:VEVENT
BEGIN:VEVENT
UID:12625416@ezleagues.ezfacility.com
DTSTAMP:20260426T033812Z
CREATED:20260426T033812Z
DTSTART:20191110T163500Z
DTEND:20191110T175000Z
LOCATION:Sherwood IC
CONTACT:
SUMMARY:Hale VS. Walsh
DESCRIPTION:League Name: 14U WJH Metro\nGame Type: Regular\nGame Status: Pe
 nding\nHome Team: Hale\nAway Team: Walsh\n
END:VEVENT
BEGIN:VEVENT
UID:12625417@ezleagues.ezfacility.com
DTSTAMP:20260426T033812Z
CREATED:20260426T033812Z
DTSTART:20191117T163500Z
DTEND:20191117T175000Z
LOCATION:Sherwood IC
CONTACT:
SUMMARY:Oase VS. Hale
DESCRIPTION:League Name: 14U WJH Metro\nGame Type: Regular\nGame Status: Pe
 nding\nHome Team: Oase\nAway Team: Hale\n
END:VEVENT
BEGIN:VEVENT
UID:12625420@ezleagues.ezfacility.com
DTSTAMP:20260426T033812Z
CREATED:20260426T033812Z
DTSTART:20191124T180000Z
DTEND:20191124T191500Z
LOCATION:Sherwood IC
CONTACT:
SUMMARY:Stephenson VS. Hale
DESCRIPTION:League Name: 14U WJH Metro\nGame Type: Regular\nGame Status: Pe
 nding\nHome Team: Stephenson\nAway Team: Hale\n
END:VEVENT
BEGIN:VEVENT
UID:12625423@ezleagues.ezfacility.com
DTSTAMP:20260426T033812Z
CREATED:20260426T033812Z
DTSTART:20191208T180000Z
DTEND:20191208T191500Z
LOCATION:Sherwood IC
CONTACT:
SUMMARY:Hale VS. Oase
DESCRIPTION:League Name: 14U WJH Metro\nGame Type: Regular\nGame Status: Pe
 nding\nHome Team: Hale\nAway Team: Oase\n
END:VEVENT
BEGIN:VEVENT
UID:12625426@ezleagues.ezfacility.com
DTSTAMP:20260426T033812Z
CREATED:20260426T033812Z
DTSTART:20191215T163500Z
DTEND:20191215T175000Z
LOCATION:Sherwood IC
CONTACT:
SUMMARY:Hale VS. Stephenson
DESCRIPTION:League Name: 14U WJH Metro\nGame Type: Regular\nGame Status: Pe
 nding\nHome Team: Hale\nAway Team: Stephenson\n
END:VEVENT
BEGIN:VEVENT
UID:12625434@ezleagues.ezfacility.com
DTSTAMP:20260426T033812Z
CREATED:20260426T033812Z
DTSTART:20200112T180000Z
DTEND:20200112T191500Z
LOCATION:Sherwood IC
CONTACT:
SUMMARY:Walsh VS. Hale
DESCRIPTION:League Name: 14U WJH Metro\nGame Type: Regular\nGame Status: Pe
 nding\nHome Team: Walsh\nAway Team: Hale\n
END:VEVENT
BEGIN:VEVENT
UID:12625435@ezleagues.ezfacility.com
DTSTAMP:20260426T033812Z
CREATED:20260426T033812Z
DTSTART:20200119T180000Z
DTEND:20200119T191500Z
LOCATION:Sherwood IC
CONTACT:
SUMMARY:Hale VS. Oase
DESCRIPTION:League Name: 14U WJH Metro\nGame Type: Regular\nGame Status: Pe
 nding\nHome Team: Hale\nAway Team: Oase\n
END:VEVENT
BEGIN:VEVENT
UID:12625438@ezleagues.ezfacility.com
DTSTAMP:20260426T033812Z
CREATED:20260426T033812Z
DTSTART:20200126T163500Z
DTEND:20200126T175000Z
LOCATION:Sherwood IC
CONTACT:
SUMMARY:Hale VS. Stephenson
DESCRIPTION:League Name: 14U WJH Metro\nGame Type: Regular\nGame Status: Pe
 nding\nHome Team: Hale\nAway Team: Stephenson\n
END:VEVENT
BEGIN:VEVENT
UID:12625422@ezleagues.ezfacility.com
DTSTAMP:20260426T033812Z
CREATED:20260426T033812Z
DTSTART:20200202T180000Z
DTEND:20200202T191500Z
LOCATION:Sherwood IC
CONTACT:
SUMMARY:Walsh VS. Hale
DESCRIPTION:League Name: 14U WJH Metro\nGame Type: Regular\nGame Status: Pe
 nding\nHome Team: Walsh\nAway Team: Hale\n
END:VEVENT
BEGIN:VEVENT
UID:12625428@ezleagues.ezfacility.com
DTSTAMP:20260426T033812Z
CREATED:20260426T033812Z
DTSTART:20200209T163500Z
DTEND:20200209T175000Z
LOCATION:Sherwood IC
CONTACT:
SUMMARY:Walsh VS. Hale
DESCRIPTION:League Name: 14U WJH Metro\nGame Type: Regular\nGame Status: Pe
 nding\nHome Team: Walsh\nAway Team: Hale\n
END:VEVENT
BEGIN:VEVENT
UID:12625429@ezleagues.ezfacility.com
DTSTAMP:20260426T033812Z
CREATED:20260426T033812Z
DTSTART:20200216T163500Z
DTEND:20200216T175000Z
LOCATION:Sherwood IC
CONTACT:
SUMMARY:Hale VS. Oase
DESCRIPTION:League Name: 14U WJH Metro\nGame Type: Regular\nGame Status: Pe
 nding\nHome Team: Hale\nAway Team: Oase\n
END:VEVENT
BEGIN:VEVENT
UID:12625432@ezleagues.ezfacility.com
DTSTAMP:20260426T033812Z
CREATED:20260426T033812Z
DTSTART:20200223T180000Z
DTEND:20200223T191500Z
LOCATION:Sherwood IC
CONTACT:
SUMMARY:Hale VS. Stephenson
DESCRIPTION:League Name: 14U WJH Metro\nGame Type: Regular\nGame Status: Pe
 nding\nHome Team: Hale\nAway Team: Stephenson\n
END:VEVENT
END:VCALENDAR
