BEGIN:VCALENDAR
VERSION:2.0
PRODID:-//EZFacility.com, Inc.//EZL 2.5.5.28621
BEGIN:VEVENT
UID:12887301@ezleagues.ezfacility.com
DTSTAMP:20260423T074354Z
CREATED:20260423T074354Z
DTSTART:20200104T120000Z
DTEND:20200104T130000Z
LOCATION:Field 1
CONTACT:Behmke
SUMMARY:Sporting CT '07 Black VS. CSC United '07
DESCRIPTION:League Name: Winter 2 - Youth - Girls - U13 (2007)\nGame Type: 
 Regular\nGame Status: Complete\nHome Team: Sporting CT '07 Black\nAway Tea
 m: CSC United '07\nHome Score: 6\nAway Score: 1
END:VEVENT
BEGIN:VEVENT
UID:12887307@ezleagues.ezfacility.com
DTSTAMP:20260423T074354Z
CREATED:20260423T074354Z
DTSTART:20200111T130000Z
DTEND:20200111T140000Z
LOCATION:Field 1
CONTACT:Behmke
SUMMARY:Sporting CT '07 Black VS. Southington Sonics '07
DESCRIPTION:League Name: Winter 2 - Youth - Girls - U13 (2007)\nGame Type: 
 Regular\nGame Status: Complete\nHome Team: Sporting CT '07 Black\nAway Tea
 m: Southington Sonics '07\nHome Score: 3\nAway Score: 2
END:VEVENT
BEGIN:VEVENT
UID:12887313@ezleagues.ezfacility.com
DTSTAMP:20260423T074354Z
CREATED:20260423T074354Z
DTSTART:20200118T160000Z
DTEND:20200118T170000Z
LOCATION:Field 1
CONTACT:Bach
SUMMARY:Sporting CT '07 Black VS. Vale SC '07
DESCRIPTION:League Name: Winter 2 - Youth - Girls - U13 (2007)\nGame Type: 
 Regular\nGame Status: Complete\nHome Team: Sporting CT '07 Black\nAway Tea
 m: Vale SC '07\nHome Score: 2\nAway Score: 3
END:VEVENT
BEGIN:VEVENT
UID:12887318@ezleagues.ezfacility.com
DTSTAMP:20260423T074354Z
CREATED:20260423T074354Z
DTSTART:20200125T160000Z
DTEND:20200125T170000Z
LOCATION:Field 1
CONTACT:Huydic R
SUMMARY:Sporting CT '07 Gold VS. Sporting CT '07 Black
DESCRIPTION:League Name: Winter 2 - Youth - Girls - U13 (2007)\nGame Type: 
 Regular\nGame Status: Complete\nHome Team: Sporting CT '07 Gold\nAway Team
 : Sporting CT '07 Black\nHome Score: 0\nAway Score: 2
END:VEVENT
BEGIN:VEVENT
UID:12887322@ezleagues.ezfacility.com
DTSTAMP:20260423T074354Z
CREATED:20260423T074354Z
DTSTART:20200201T150000Z
DTEND:20200201T160000Z
LOCATION:Field 1
CONTACT:Sandoval
SUMMARY:FSA FC '07 CT VS. Sporting CT '07 Black
DESCRIPTION:League Name: Winter 2 - Youth - Girls - U13 (2007)\nGame Type: 
 Regular\nGame Status: Complete\nHome Team: FSA FC '07 CT\nAway Team: Sport
 ing CT '07 Black\nHome Score: 4\nAway Score: 2
END:VEVENT
BEGIN:VEVENT
UID:12887326@ezleagues.ezfacility.com
DTSTAMP:20260423T074354Z
CREATED:20260423T074354Z
DTSTART:20200208T140000Z
DTEND:20200208T150000Z
LOCATION:Field 1
CONTACT:Behmke
SUMMARY:Newington Coyotes '07 VS. Sporting CT '07 Black
DESCRIPTION:League Name: Winter 2 - Youth - Girls - U13 (2007)\nGame Type: 
 Regular\nGame Status: Complete\nHome Team: Newington Coyotes '07\nAway Tea
 m: Sporting CT '07 Black\nHome Score: 0\nAway Score: 5
END:VEVENT
BEGIN:VEVENT
UID:12887295@ezleagues.ezfacility.com
DTSTAMP:20260423T074354Z
CREATED:20260423T074354Z
DTSTART:20200215T130000Z
DTEND:20200215T140000Z
LOCATION:Field 1
CONTACT:Behmke
SUMMARY:Sporting CT '07 Black VS. FSA FC '07 ECNL Regional
DESCRIPTION:League Name: Winter 2 - Youth - Girls - U13 (2007)\nGame Type: 
 Regular\nGame Status: Complete\nHome Team: Sporting CT '07 Black\nAway Tea
 m: FSA FC '07 ECNL Regional\nHome Score: 5\nAway Score: 0
END:VEVENT
END:VCALENDAR
