BEGIN:VCALENDAR
VERSION:2.0
PRODID:-//EZFacility.com, Inc.//EZL 2.5.5.28621
BEGIN:VEVENT
UID:12682234@ezleagues.ezfacility.com
DTSTAMP:20260426T033812Z
CREATED:20260426T033812Z
DTSTART:20190920T230000Z
DTEND:20190920T235500Z
LOCATION:PFFC Field House - B
CONTACT:
SUMMARY:Pumas (Gold) VS. River Plate (White)
DESCRIPTION:League Name: MSL Soccer - Friday - Division 4 - East\nGame Type
 : Regular\nGame Status: Complete\nHome Team: Pumas (Gold)\nAway Team: Rive
 r Plate (White)\nHome Score: 4\nAway Score: 3
END:VEVENT
BEGIN:VEVENT
UID:12681886@ezleagues.ezfacility.com
DTSTAMP:20260426T033812Z
CREATED:20260426T033812Z
DTSTART:20190928T005000Z
DTEND:20190928T014500Z
LOCATION:PFFC Field House - C
CONTACT:
SUMMARY:Pumas (Gold) VS. The Wanton Boyz
DESCRIPTION:League Name: MSL Soccer - Friday - Division 4 - East\nGame Type
 : Regular\nGame Status: Complete\nHome Team: Pumas (Gold)\nAway Team: The 
 Wanton Boyz\nHome Score: 5\nAway Score: 5
END:VEVENT
BEGIN:VEVENT
UID:12681902@ezleagues.ezfacility.com
DTSTAMP:20260426T033812Z
CREATED:20260426T033812Z
DTSTART:20191005T005000Z
DTEND:20191005T014500Z
LOCATION:PFFC Field House - C
CONTACT:
SUMMARY:Team Removed    VS. Pumas (Gold)
DESCRIPTION:League Name: MSL Soccer - Friday - Division 4 - East\nGame Type
 : Regular\nGame Status: Complete\nHome Team: Team Removed   \nAway Team: P
 umas (Gold)\nHome Score: 2\nAway Score: 5
END:VEVENT
BEGIN:VEVENT
UID:12681920@ezleagues.ezfacility.com
DTSTAMP:20260426T033812Z
CREATED:20260426T033812Z
DTSTART:20191011T230000Z
DTEND:20191011T235500Z
LOCATION:PFFC Field House - C
CONTACT:
SUMMARY:Team Removed VS. Pumas (Gold)
DESCRIPTION:League Name: MSL Soccer - Friday - Division 4 - East\nGame Type
 : Regular\nGame Status: Complete\nHome Team: Team Removed\nAway Team: Puma
 s (Gold)\nHome Score: 4\nAway Score: 3
END:VEVENT
BEGIN:VEVENT
UID:12681938@ezleagues.ezfacility.com
DTSTAMP:20260426T033812Z
CREATED:20260426T033812Z
DTSTART:20191018T235500Z
DTEND:20191019T005000Z
LOCATION:PFFC Field House - D
CONTACT:
SUMMARY:Underdogs (Blue) VS. Pumas (Gold)
DESCRIPTION:League Name: MSL Soccer - Friday - Division 4 - East\nGame Type
 : Regular\nGame Status: Complete\nHome Team: Underdogs (Blue)\nAway Team: 
 Pumas (Gold)\nHome Score: 4\nAway Score: 5
END:VEVENT
BEGIN:VEVENT
UID:12681955@ezleagues.ezfacility.com
DTSTAMP:20260426T033812Z
CREATED:20260426T033812Z
DTSTART:20191026T014500Z
DTEND:20191026T024000Z
LOCATION:PFFC Field House - C
CONTACT:
SUMMARY:Pumas (Gold) VS. Amigos (White)
DESCRIPTION:League Name: MSL Soccer - Friday - Division 4 - East\nGame Type
 : Regular\nGame Status: Complete\nHome Team: Pumas (Gold)\nAway Team: Amig
 os (White)\nHome Score: 5\nAway Score: 3
END:VEVENT
BEGIN:VEVENT
UID:12681971@ezleagues.ezfacility.com
DTSTAMP:20260426T033812Z
CREATED:20260426T033812Z
DTSTART:20191102T010000Z
DTEND:20191102T015500Z
LOCATION:PFFC Dome - 4
CONTACT:
SUMMARY:Pumas (Gold) VS. Benchwarmers (Navy Blue)
DESCRIPTION:League Name: MSL Soccer - Friday - Division 4 - East\nGame Type
 : Regular\nGame Status: Complete\nHome Team: Pumas (Gold)\nAway Team: Benc
 hwarmers (Navy Blue)\nHome Score: 6\nAway Score: 2
END:VEVENT
BEGIN:VEVENT
UID:12681987@ezleagues.ezfacility.com
DTSTAMP:20260426T033812Z
CREATED:20260426T033812Z
DTSTART:20191109T015000Z
DTEND:20191109T024500Z
LOCATION:PFFC Field House - C
CONTACT:
SUMMARY:River Plate (White) VS. Pumas (Gold)
DESCRIPTION:League Name: MSL Soccer - Friday - Division 4 - East\nGame Type
 : Regular\nGame Status: Complete\nHome Team: River Plate (White)\nAway Tea
 m: Pumas (Gold)\nHome Score: 3\nAway Score: 5
END:VEVENT
BEGIN:VEVENT
UID:12682003@ezleagues.ezfacility.com
DTSTAMP:20260426T033812Z
CREATED:20260426T033812Z
DTSTART:20191116T005500Z
DTEND:20191116T015000Z
LOCATION:PFFC Field House - C
CONTACT:
SUMMARY:Pumas (Gold) VS. FC Zahid
DESCRIPTION:League Name: MSL Soccer - Friday - Division 4 - East\nGame Type
 : Regular\nGame Status: Complete\nHome Team: Pumas (Gold)\nAway Team: FC Z
 ahid\nHome Score: 2\nAway Score: 4
END:VEVENT
BEGIN:VEVENT
UID:12682021@ezleagues.ezfacility.com
DTSTAMP:20260426T033812Z
CREATED:20260426T033812Z
DTSTART:20191123T020000Z
DTEND:20191123T025500Z
LOCATION:PFFC Dome - 4
CONTACT:
SUMMARY:Pumas (Gold) VS. Team Removed   
DESCRIPTION:League Name: MSL Soccer - Friday - Division 4 - East\nGame Type
 : Regular\nGame Status: Complete\nHome Team: Pumas (Gold)\nAway Team: Team
  Removed   \nHome Score: 5\nAway Score: 4
END:VEVENT
BEGIN:VEVENT
UID:12682039@ezleagues.ezfacility.com
DTSTAMP:20260426T033812Z
CREATED:20260426T033812Z
DTSTART:20191130T043500Z
DTEND:20191130T053000Z
LOCATION:PFFC Field House - A
CONTACT:
SUMMARY:Pumas (Gold) VS. Team Removed
DESCRIPTION:League Name: MSL Soccer - Friday - Division 4 - East\nGame Type
 : Regular\nGame Status: Complete\nHome Team: Pumas (Gold)\nAway Team: Team
  Removed\nHome Score: 7\nAway Score: 4
END:VEVENT
BEGIN:VEVENT
UID:12682057@ezleagues.ezfacility.com
DTSTAMP:20260426T033812Z
CREATED:20260426T033812Z
DTSTART:20191207T040000Z
DTEND:20191207T045500Z
LOCATION:PFFC Dome - 3
CONTACT:
SUMMARY:Pumas (Gold) VS. Underdogs (Blue)
DESCRIPTION:League Name: MSL Soccer - Friday - Division 4 - East\nGame Type
 : Regular\nGame Status: Complete\nHome Team: Pumas (Gold)\nAway Team: Unde
 rdogs (Blue)\nHome Score: 3\nAway Score: 6
END:VEVENT
BEGIN:VEVENT
UID:12682074@ezleagues.ezfacility.com
DTSTAMP:20260426T033812Z
CREATED:20260426T033812Z
DTSTART:20191214T005500Z
DTEND:20191214T015000Z
LOCATION:PFFC Field House - D
CONTACT:
SUMMARY:Amigos (White) VS. Pumas (Gold)
DESCRIPTION:League Name: MSL Soccer - Friday - Division 4 - East\nGame Type
 : Regular\nGame Status: Complete\nHome Team: Amigos (White)\nAway Team: Pu
 mas (Gold)\nHome Score: 3\nAway Score: 0
END:VEVENT
BEGIN:VEVENT
UID:12682090@ezleagues.ezfacility.com
DTSTAMP:20260426T033812Z
CREATED:20260426T033812Z
DTSTART:20191221T040000Z
DTEND:20191221T045500Z
LOCATION:PFFC Dome - 4
CONTACT:
SUMMARY:Benchwarmers (Navy Blue) VS. Pumas (Gold)
DESCRIPTION:League Name: MSL Soccer - Friday - Division 4 - East\nGame Type
 : Regular\nGame Status: Complete\nHome Team: Benchwarmers (Navy Blue)\nAwa
 y Team: Pumas (Gold)\nHome Score: 3\nAway Score: 0
END:VEVENT
BEGIN:VEVENT
UID:12822469@ezleagues.ezfacility.com
DTSTAMP:20260426T033812Z
CREATED:20260426T033812Z
DTSTART:20200111T000000Z
DTEND:20200111T005500Z
LOCATION:PFFC Field House - B
CONTACT:
SUMMARY:Pumas (Gold) VS. Benchwarmers (Navy Blue)
DESCRIPTION:League Name: MSL Soccer - Friday - Division 4 - East\nGame Type
 : Postseason\nGame Status: Complete\nHome Team: Pumas (Gold)\nAway Team: B
 enchwarmers (Navy Blue)\nHome Score: 7\nAway Score: 2
END:VEVENT
BEGIN:VEVENT
UID:12822471@ezleagues.ezfacility.com
DTSTAMP:20260426T033812Z
CREATED:20260426T033812Z
DTSTART:20200118T005000Z
DTEND:20200118T014500Z
LOCATION:PFFC Field House - B
CONTACT:
SUMMARY:River Plate (White) VS. Pumas (Gold)
DESCRIPTION:League Name: MSL Soccer - Friday - Division 4 - East\nGame Type
 : Postseason\nGame Status: Complete\nHome Team: River Plate (White)\nAway 
 Team: Pumas (Gold)\nHome Score: 1\nAway Score: 3
END:VEVENT
END:VCALENDAR
