BEGIN:VCALENDAR
VERSION:2.0
PRODID:-//EZFacility.com, Inc.//EZL 2.5.5.28621
BEGIN:VEVENT
UID:12684785@ezleagues.ezfacility.com
DTSTAMP:20260423T122330Z
CREATED:20260423T122330Z
DTSTART:20190920T001000Z
DTEND:20190920T010000Z
LOCATION:Sand Court 2
CONTACT:
SUMMARY:The Throbbin’ Bobbins VS. Smack your balls
DESCRIPTION:League Name: Thursday Sand Co-ed 6's LB/C Fall 19\nGame Type: R
 egular\nGame Status: Complete\nHome Team: The Throbbin’ Bobbins\nAway Te
 am: Smack your balls\nHome Score: 3\nAway Score: 0
END:VEVENT
BEGIN:VEVENT
UID:12684794@ezleagues.ezfacility.com
DTSTAMP:20260423T122330Z
CREATED:20260423T122330Z
DTSTART:20191003T232000Z
DTEND:20191004T001000Z
LOCATION:Sand Court 2
CONTACT:
SUMMARY:Bumpin' Uglies VS. Smack your balls
DESCRIPTION:League Name: Thursday Sand Co-ed 6's LB/C Fall 19\nGame Type: R
 egular\nGame Status: Complete\nHome Team: Bumpin' Uglies\nAway Team: Smack
  your balls\nHome Score: 3\nAway Score: 0
END:VEVENT
BEGIN:VEVENT
UID:12684797@ezleagues.ezfacility.com
DTSTAMP:20260423T122330Z
CREATED:20260423T122330Z
DTSTART:20191011T010000Z
DTEND:20191011T015000Z
LOCATION:Sand Court 2
CONTACT:
SUMMARY:Team Natty VS. Smack your balls
DESCRIPTION:League Name: Thursday Sand Co-ed 6's LB/C Fall 19\nGame Type: R
 egular\nGame Status: Pending\nHome Team: Team Natty\nAway Team: Smack your
  balls\n
END:VEVENT
BEGIN:VEVENT
UID:12684799@ezleagues.ezfacility.com
DTSTAMP:20260423T122330Z
CREATED:20260423T122330Z
DTSTART:20191017T232000Z
DTEND:20191018T001000Z
LOCATION:Sand Court 2
CONTACT:
SUMMARY:Smack your balls VS. Tee NEO T!T$
DESCRIPTION:League Name: Thursday Sand Co-ed 6's LB/C Fall 19\nGame Type: R
 egular\nGame Status: Complete\nHome Team: Smack your balls\nAway Team: Tee
  NEO T!T$\nHome Score: 0\nAway Score: 3
END:VEVENT
BEGIN:VEVENT
UID:12684800@ezleagues.ezfacility.com
DTSTAMP:20260423T122330Z
CREATED:20260423T122330Z
DTSTART:20191018T001000Z
DTEND:20191018T010000Z
LOCATION:Sand Court 2
CONTACT:
SUMMARY:Wasteland Warriors VS. Smack your balls
DESCRIPTION:League Name: Thursday Sand Co-ed 6's LB/C Fall 19\nGame Type: R
 egular\nGame Status: Complete\nHome Team: Wasteland Warriors\nAway Team: S
 mack your balls\nHome Score: 1\nAway Score: 2
END:VEVENT
BEGIN:VEVENT
UID:12684803@ezleagues.ezfacility.com
DTSTAMP:20260423T122330Z
CREATED:20260423T122330Z
DTSTART:20191024T223000Z
DTEND:20191024T232000Z
LOCATION:Sand Court 2
CONTACT:
SUMMARY:Smack your balls VS. Ain't no laws when drinkin' claws
DESCRIPTION:League Name: Thursday Sand Co-ed 6's LB/C Fall 19\nGame Type: R
 egular\nGame Status: Complete\nHome Team: Smack your balls\nAway Team: Ain
 't no laws when drinkin' claws\nHome Score: 3\nAway Score: 0
END:VEVENT
BEGIN:VEVENT
UID:12684808@ezleagues.ezfacility.com
DTSTAMP:20260423T122330Z
CREATED:20260423T122330Z
DTSTART:20191031T232000Z
DTEND:20191101T001000Z
LOCATION:Sand Court 2
CONTACT:
SUMMARY:Smack your balls VS. Lab Rats
DESCRIPTION:League Name: Thursday Sand Co-ed 6's LB/C Fall 19\nGame Type: R
 egular\nGame Status: Complete\nHome Team: Smack your balls\nAway Team: Lab
  Rats\nHome Score: 3\nAway Score: 0
END:VEVENT
BEGIN:VEVENT
UID:12684813@ezleagues.ezfacility.com
DTSTAMP:20260423T122330Z
CREATED:20260423T122330Z
DTSTART:20191107T233000Z
DTEND:20191108T002000Z
LOCATION:Sand Court 2
CONTACT:
SUMMARY:Smack your balls VS. The Throbbin’ Bobbins
DESCRIPTION:League Name: Thursday Sand Co-ed 6's LB/C Fall 19\nGame Type: R
 egular\nGame Status: Complete\nHome Team: Smack your balls\nAway Team: The
  Throbbin’ Bobbins\nHome Score: 1\nAway Score: 2
END:VEVENT
BEGIN:VEVENT
UID:12684818@ezleagues.ezfacility.com
DTSTAMP:20260423T122330Z
CREATED:20260423T122330Z
DTSTART:20191115T002000Z
DTEND:20191115T011000Z
LOCATION:Sand Court 2
CONTACT:
SUMMARY:Smack your balls VS. Tee NEO T!T$
DESCRIPTION:League Name: Thursday Sand Co-ed 6's LB/C Fall 19\nGame Type: R
 egular\nGame Status: Complete\nHome Team: Smack your balls\nAway Team: Tee
  NEO T!T$\nHome Score: 1\nAway Score: 2
END:VEVENT
BEGIN:VEVENT
UID:12763335@ezleagues.ezfacility.com
DTSTAMP:20260423T122330Z
CREATED:20260423T122330Z
DTSTART:20191122T010000Z
DTEND:20191122T014500Z
LOCATION:Sand Court 2
CONTACT:
SUMMARY:Team Natty VS. Smack your balls
DESCRIPTION:League Name: Thursday Sand Co-ed 6's LB/C Fall 19\nGame Type: R
 egular\nGame Status: Complete\nHome Team: Team Natty\nAway Team: Smack you
 r balls\nHome Score: 2\nAway Score: 1
END:VEVENT
END:VCALENDAR
