BEGIN:VCALENDAR
VERSION:2.0
PRODID:-//EZFacility.com, Inc.//EZL 2.5.5.28621
BEGIN:VEVENT
UID:12709851@ezleagues.ezfacility.com
DTSTAMP:20260422T171651Z
CREATED:20260422T171651Z
DTSTART:20190923T235500Z
DTEND:20190924T005000Z
LOCATION:PFFC Field House - D
CONTACT:
SUMMARY:Legends VS. Ball Busters
DESCRIPTION:League Name: MSL Soccer- Co-Ed Division 6 East\nGame Type: Regu
 lar\nGame Status: Complete\nHome Team: Legends\nAway Team: Ball Busters\nH
 ome Score: 1\nAway Score: 0
END:VEVENT
BEGIN:VEVENT
UID:12709853@ezleagues.ezfacility.com
DTSTAMP:20260422T171651Z
CREATED:20260422T171651Z
DTSTART:20190930T230000Z
DTEND:20190930T235500Z
LOCATION:PFFC Field House - C
CONTACT:
SUMMARY:OCP Microsoft Canada VS. Legends
DESCRIPTION:League Name: MSL Soccer- Co-Ed Division 6 East\nGame Type: Regu
 lar\nGame Status: Complete\nHome Team: OCP Microsoft Canada\nAway Team: Le
 gends\nHome Score: 5\nAway Score: 5
END:VEVENT
BEGIN:VEVENT
UID:12709065@ezleagues.ezfacility.com
DTSTAMP:20260422T171651Z
CREATED:20260422T171651Z
DTSTART:20191008T000000Z
DTEND:20191008T005500Z
LOCATION:PFFC Dome - 3
CONTACT:
SUMMARY:FC Beercelona VS. Legends
DESCRIPTION:League Name: MSL Soccer- Co-Ed Division 6 East\nGame Type: Regu
 lar\nGame Status: Complete\nHome Team: FC Beercelona\nAway Team: Legends\n
 Home Score: 3\nAway Score: 2
END:VEVENT
BEGIN:VEVENT
UID:12709133@ezleagues.ezfacility.com
DTSTAMP:20260422T171651Z
CREATED:20260422T171651Z
DTSTART:20191021T230000Z
DTEND:20191021T235500Z
LOCATION:PFFC Field House - A
CONTACT:
SUMMARY:Legends VS. Balls and Dolls
DESCRIPTION:League Name: MSL Soccer- Co-Ed Division 6 East\nGame Type: Regu
 lar\nGame Status: Rescheduled\nHome Team: Legends\nAway Team: Balls and Do
 lls\n
END:VEVENT
BEGIN:VEVENT
UID:12709167@ezleagues.ezfacility.com
DTSTAMP:20260422T171651Z
CREATED:20260422T171651Z
DTSTART:20191028T235500Z
DTEND:20191029T005000Z
LOCATION:PFFC Field House - B
CONTACT:
SUMMARY:Sausages and Tacos VS. Legends
DESCRIPTION:League Name: MSL Soccer- Co-Ed Division 6 East\nGame Type: Regu
 lar\nGame Status: Complete\nHome Team: Sausages and Tacos\nAway Team: Lege
 nds\nHome Score: 4\nAway Score: 1
END:VEVENT
BEGIN:VEVENT
UID:12709200@ezleagues.ezfacility.com
DTSTAMP:20260422T171651Z
CREATED:20260422T171651Z
DTSTART:20191105T034000Z
DTEND:20191105T043500Z
LOCATION:PFFC Field House - A
CONTACT:
SUMMARY:Legends VS. Functional FC
DESCRIPTION:League Name: MSL Soccer- Co-Ed Division 6 East\nGame Type: Regu
 lar\nGame Status: Complete\nHome Team: Legends\nAway Team: Functional FC\n
 Home Score: 6\nAway Score: 3
END:VEVENT
BEGIN:VEVENT
UID:12709264@ezleagues.ezfacility.com
DTSTAMP:20260422T171651Z
CREATED:20260422T171651Z
DTSTART:20191119T034000Z
DTEND:20191119T043500Z
LOCATION:PFFC Field House - D
CONTACT:
SUMMARY:Ball Busters VS. Legends
DESCRIPTION:League Name: MSL Soccer- Co-Ed Division 6 East\nGame Type: Regu
 lar\nGame Status: Complete\nHome Team: Ball Busters\nAway Team: Legends\nH
 ome Score: 3\nAway Score: 4
END:VEVENT
BEGIN:VEVENT
UID:12709296@ezleagues.ezfacility.com
DTSTAMP:20260422T171651Z
CREATED:20260422T171651Z
DTSTART:20191126T024500Z
DTEND:20191126T034000Z
LOCATION:PFFC Field House - C
CONTACT:
SUMMARY:Legends VS. FC Beercelona
DESCRIPTION:League Name: MSL Soccer- Co-Ed Division 6 East\nGame Type: Regu
 lar\nGame Status: Complete\nHome Team: Legends\nAway Team: FC Beercelona\n
 Home Score: 2\nAway Score: 5
END:VEVENT
BEGIN:VEVENT
UID:12709330@ezleagues.ezfacility.com
DTSTAMP:20260422T171651Z
CREATED:20260422T171651Z
DTSTART:20191203T015000Z
DTEND:20191203T024500Z
LOCATION:PFFC Field House - D
CONTACT:
SUMMARY:Legends VS. Sauga FC
DESCRIPTION:League Name: MSL Soccer- Co-Ed Division 6 East\nGame Type: Regu
 lar\nGame Status: Complete\nHome Team: Legends\nAway Team: Sauga FC\nHome 
 Score: 3\nAway Score: 1
END:VEVENT
BEGIN:VEVENT
UID:12709364@ezleagues.ezfacility.com
DTSTAMP:20260422T171651Z
CREATED:20260422T171651Z
DTSTART:20191210T015000Z
DTEND:20191210T024500Z
LOCATION:PFFC Field House - D
CONTACT:
SUMMARY:Legends VS. Balls and Dolls
DESCRIPTION:League Name: MSL Soccer- Co-Ed Division 6 East\nGame Type: Regu
 lar\nGame Status: Complete\nHome Team: Legends\nAway Team: Balls and Dolls
 \nHome Score: 5\nAway Score: 2
END:VEVENT
BEGIN:VEVENT
UID:12709398@ezleagues.ezfacility.com
DTSTAMP:20260422T171651Z
CREATED:20260422T171651Z
DTSTART:20191220T000000Z
DTEND:20191220T005500Z
LOCATION:PFFC Field House - B
CONTACT:
SUMMARY:Legends VS. Sausages and Tacos
DESCRIPTION:League Name: MSL Soccer- Co-Ed Division 6 East\nGame Type: Regu
 lar\nGame Status: Complete\nHome Team: Legends\nAway Team: Sausages and Ta
 cos\nHome Score: 0\nAway Score: 3
END:VEVENT
BEGIN:VEVENT
UID:12709431@ezleagues.ezfacility.com
DTSTAMP:20260422T171651Z
CREATED:20260422T171651Z
DTSTART:20191224T024500Z
DTEND:20191224T034000Z
LOCATION:PFFC Field House - D
CONTACT:
SUMMARY:Functional FC VS. Legends
DESCRIPTION:League Name: MSL Soccer- Co-Ed Division 6 East\nGame Type: Regu
 lar\nGame Status: Complete\nHome Team: Functional FC\nAway Team: Legends\n
 Home Score: 3\nAway Score: 2
END:VEVENT
BEGIN:VEVENT
UID:12841507@ezleagues.ezfacility.com
DTSTAMP:20260422T171651Z
CREATED:20260422T171651Z
DTSTART:20191231T000000Z
DTEND:20191231T005500Z
LOCATION:PFFC Field House - D
CONTACT:
SUMMARY:Legends VS. Balls and Dolls
DESCRIPTION:League Name: MSL Soccer- Co-Ed Division 6 East\nGame Type: Regu
 lar\nGame Status: Complete\nHome Team: Legends\nAway Team: Balls and Dolls
 \nHome Score: 0\nAway Score: 2
END:VEVENT
BEGIN:VEVENT
UID:12841510@ezleagues.ezfacility.com
DTSTAMP:20260422T171651Z
CREATED:20260422T171651Z
DTSTART:20191231T010000Z
DTEND:20191231T015500Z
LOCATION:PFFC Field House - D
CONTACT:
SUMMARY:Cheeku United VS. Legends
DESCRIPTION:League Name: MSL Soccer- Co-Ed Division 6 East\nGame Type: Regu
 lar\nGame Status: Complete\nHome Team: Cheeku United\nAway Team: Legends\n
 Home Score: 0\nAway Score: 3
END:VEVENT
BEGIN:VEVENT
UID:12709099@ezleagues.ezfacility.com
DTSTAMP:20260422T171651Z
CREATED:20260422T171651Z
DTSTART:20200107T034000Z
DTEND:20200107T043500Z
LOCATION:PFFC Field House - A
CONTACT:
SUMMARY:Sauga FC VS. Legends
DESCRIPTION:League Name: MSL Soccer- Co-Ed Division 6 East\nGame Type: Regu
 lar\nGame Status: Complete\nHome Team: Sauga FC\nAway Team: Legends\nHome 
 Score: 1\nAway Score: 4
END:VEVENT
BEGIN:VEVENT
UID:12822864@ezleagues.ezfacility.com
DTSTAMP:20260422T171651Z
CREATED:20260422T171651Z
DTSTART:20200114T023000Z
DTEND:20200114T032500Z
LOCATION:PFFC Field House - A
CONTACT:
SUMMARY:Legends VS. Sausages and Tacos
DESCRIPTION:League Name: MSL Soccer- Co-Ed Division 6 East\nGame Type: Post
 season\nGame Status: Complete\nHome Team: Legends\nAway Team: Sausages and
  Tacos\nHome Score: 3\nAway Score: 4
END:VEVENT
END:VCALENDAR
