BEGIN:VCALENDAR
VERSION:2.0
PRODID:-//EZFacility.com, Inc.//EZL 2.5.5.28621
BEGIN:VEVENT
UID:12712774@ezleagues.ezfacility.com
DTSTAMP:20260420T142931Z
CREATED:20260420T142931Z
DTSTART:20191015T231500Z
DTEND:20191016T000000Z
LOCATION:Court 3
CONTACT:
SUMMARY:See you next Tuesday VS. The Setters of Catan
DESCRIPTION:League Name: Fall Tuesday Court 3 Coed C\nGame Type: Regular\nG
 ame Status: Complete\nHome Team: See you next Tuesday\nAway Team: The Sett
 ers of Catan\nHome Score: 1\nAway Score: 2
END:VEVENT
BEGIN:VEVENT
UID:12712781@ezleagues.ezfacility.com
DTSTAMP:20260420T142931Z
CREATED:20260420T142931Z
DTSTART:20191022T231500Z
DTEND:20191023T000000Z
LOCATION:Court 3
CONTACT:
SUMMARY:Will work for sets VS. See you next Tuesday
DESCRIPTION:League Name: Fall Tuesday Court 3 Coed C\nGame Type: Regular\nG
 ame Status: Complete\nHome Team: Will work for sets\nAway Team: See you ne
 xt Tuesday\nHome Score: 3\nAway Score: 0
END:VEVENT
BEGIN:VEVENT
UID:12712788@ezleagues.ezfacility.com
DTSTAMP:20260420T142931Z
CREATED:20260420T142931Z
DTSTART:20191030T000000Z
DTEND:20191030T004500Z
LOCATION:Court 3
CONTACT:
SUMMARY:See you next Tuesday VS. How to Set Your Mother
DESCRIPTION:League Name: Fall Tuesday Court 3 Coed C\nGame Type: Regular\nG
 ame Status: Complete\nHome Team: See you next Tuesday\nAway Team: How to S
 et Your Mother\nHome Score: 2\nAway Score: 1
END:VEVENT
BEGIN:VEVENT
UID:12712795@ezleagues.ezfacility.com
DTSTAMP:20260420T142931Z
CREATED:20260420T142931Z
DTSTART:20191106T001500Z
DTEND:20191106T010000Z
LOCATION:Court 3
CONTACT:
SUMMARY:Top Guns VS. See you next Tuesday
DESCRIPTION:League Name: Fall Tuesday Court 3 Coed C\nGame Type: Regular\nG
 ame Status: Complete\nHome Team: Top Guns\nAway Team: See you next Tuesday
 \nHome Score: 2\nAway Score: 1
END:VEVENT
BEGIN:VEVENT
UID:12712802@ezleagues.ezfacility.com
DTSTAMP:20260420T142931Z
CREATED:20260420T142931Z
DTSTART:20191113T023000Z
DTEND:20191113T031500Z
LOCATION:Court 3
CONTACT:
SUMMARY:See you next Tuesday VS. Sandy Cheeks
DESCRIPTION:League Name: Fall Tuesday Court 3 Coed C\nGame Type: Regular\nG
 ame Status: Complete\nHome Team: See you next Tuesday\nAway Team: Sandy Ch
 eeks\nHome Score: 3\nAway Score: 0
END:VEVENT
BEGIN:VEVENT
UID:12712809@ezleagues.ezfacility.com
DTSTAMP:20260420T142931Z
CREATED:20260420T142931Z
DTSTART:20191120T023000Z
DTEND:20191120T031500Z
LOCATION:Court 3
CONTACT:
SUMMARY:Bump'n VS. See you next Tuesday
DESCRIPTION:League Name: Fall Tuesday Court 3 Coed C\nGame Type: Regular\nG
 ame Status: Complete\nHome Team: Bump'n\nAway Team: See you next Tuesday\n
 Home Score: 3\nAway Score: 0
END:VEVENT
BEGIN:VEVENT
UID:12712815@ezleagues.ezfacility.com
DTSTAMP:20260420T142931Z
CREATED:20260420T142931Z
DTSTART:20191126T233000Z
DTEND:20191127T001500Z
LOCATION:Court 3
CONTACT:
SUMMARY:SandStorm VS. See you next Tuesday
DESCRIPTION:League Name: Fall Tuesday Court 3 Coed C\nGame Type: Regular\nG
 ame Status: Complete\nHome Team: SandStorm\nAway Team: See you next Tuesda
 y\nHome Score: 3\nAway Score: 0
END:VEVENT
BEGIN:VEVENT
UID:12712820@ezleagues.ezfacility.com
DTSTAMP:20260420T142931Z
CREATED:20260420T142931Z
DTSTART:20191204T010000Z
DTEND:20191204T014500Z
LOCATION:Court 3
CONTACT:
SUMMARY:See you next Tuesday VS. The Empire Spikes Back
DESCRIPTION:League Name: Fall Tuesday Court 3 Coed C\nGame Type: Regular\nG
 ame Status: Complete\nHome Team: See you next Tuesday\nAway Team: The Empi
 re Spikes Back\nHome Score: 1\nAway Score: 2
END:VEVENT
BEGIN:VEVENT
UID:12712830@ezleagues.ezfacility.com
DTSTAMP:20260420T142931Z
CREATED:20260420T142931Z
DTSTART:20191218T001500Z
DTEND:20191218T010000Z
LOCATION:Court 3
CONTACT:
SUMMARY:See you next Tuesday VS. Beta Blockers
DESCRIPTION:League Name: Fall Tuesday Court 3 Coed C\nGame Type: Regular\nG
 ame Status: Complete\nHome Team: See you next Tuesday\nAway Team: Beta Blo
 ckers\nHome Score: 3\nAway Score: 0
END:VEVENT
BEGIN:VEVENT
UID:12712835@ezleagues.ezfacility.com
DTSTAMP:20260420T142931Z
CREATED:20260420T142931Z
DTSTART:20200108T001500Z
DTEND:20200108T010000Z
LOCATION:Court 3
CONTACT:
SUMMARY:Good Volley Ms. Molly VS. See you next Tuesday
DESCRIPTION:League Name: Fall Tuesday Court 3 Coed C\nGame Type: Regular\nG
 ame Status: Complete\nHome Team: Good Volley Ms. Molly\nAway Team: See you
  next Tuesday\nHome Score: 3\nAway Score: 0
END:VEVENT
END:VCALENDAR
