BEGIN:VCALENDAR
VERSION:2.0
PRODID:-//EZFacility.com, Inc.//EZL 2.5.5.28621
BEGIN:VEVENT
UID:12714166@ezleagues.ezfacility.com
DTSTAMP:20260426T033836Z
CREATED:20260426T033836Z
DTSTART:20191022T004500Z
DTEND:20191022T013000Z
LOCATION:Court 1
CONTACT:
SUMMARY:I don't know VS. Networks
DESCRIPTION:League Name: Fall Monday Court 1 B Quads\nGame Type: Regular\nG
 ame Status: Complete\nHome Team: I don't know\nAway Team: Networks\nHome S
 core: 0\nAway Score: 3
END:VEVENT
BEGIN:VEVENT
UID:12714173@ezleagues.ezfacility.com
DTSTAMP:20260426T033836Z
CREATED:20260426T033836Z
DTSTART:20191029T004500Z
DTEND:20191029T013000Z
LOCATION:Court 1
CONTACT:
SUMMARY:Super Kings VS. I don't know
DESCRIPTION:League Name: Fall Monday Court 1 B Quads\nGame Type: Regular\nG
 ame Status: Complete\nHome Team: Super Kings\nAway Team: I don't know\nHom
 e Score: 1\nAway Score: 2
END:VEVENT
BEGIN:VEVENT
UID:12714180@ezleagues.ezfacility.com
DTSTAMP:20260426T033836Z
CREATED:20260426T033836Z
DTSTART:20191104T233000Z
DTEND:20191105T001500Z
LOCATION:Court 1
CONTACT:
SUMMARY:I don't know VS. Queen Louie's
DESCRIPTION:League Name: Fall Monday Court 1 B Quads\nGame Type: Regular\nG
 ame Status: Complete\nHome Team: I don't know\nAway Team: Queen Louie's\nH
 ome Score: 3\nAway Score: 0
END:VEVENT
BEGIN:VEVENT
UID:12714187@ezleagues.ezfacility.com
DTSTAMP:20260426T033836Z
CREATED:20260426T033836Z
DTSTART:20191112T023000Z
DTEND:20191112T031500Z
LOCATION:Court 1
CONTACT:
SUMMARY:I don't know VS. Star Dust
DESCRIPTION:League Name: Fall Monday Court 1 B Quads\nGame Type: Regular\nG
 ame Status: Complete\nHome Team: I don't know\nAway Team: Star Dust\nHome 
 Score: 0\nAway Score: 3
END:VEVENT
BEGIN:VEVENT
UID:12714193@ezleagues.ezfacility.com
DTSTAMP:20260426T033836Z
CREATED:20260426T033836Z
DTSTART:20191119T014500Z
DTEND:20191119T023000Z
LOCATION:Court 1
CONTACT:
SUMMARY:Net Zero VS. I don't know
DESCRIPTION:League Name: Fall Monday Court 1 B Quads\nGame Type: Regular\nG
 ame Status: Complete\nHome Team: Net Zero\nAway Team: I don't know\nHome S
 core: 3\nAway Score: 0
END:VEVENT
BEGIN:VEVENT
UID:12714198@ezleagues.ezfacility.com
DTSTAMP:20260426T033836Z
CREATED:20260426T033836Z
DTSTART:20191126T014500Z
DTEND:20191126T023000Z
LOCATION:Court 1
CONTACT:
SUMMARY:I don't know VS. #CashOnly
DESCRIPTION:League Name: Fall Monday Court 1 B Quads\nGame Type: Regular\nG
 ame Status: Complete\nHome Team: I don't know\nAway Team: #CashOnly\nHome 
 Score: 2\nAway Score: 1
END:VEVENT
BEGIN:VEVENT
UID:12714203@ezleagues.ezfacility.com
DTSTAMP:20260426T033836Z
CREATED:20260426T033836Z
DTSTART:20191203T001500Z
DTEND:20191203T010000Z
LOCATION:Court 1
CONTACT:
SUMMARY:Just Four Fun VS. I don't know
DESCRIPTION:League Name: Fall Monday Court 1 B Quads\nGame Type: Regular\nG
 ame Status: Complete\nHome Team: Just Four Fun\nAway Team: I don't know\nH
 ome Score: 3\nAway Score: 0
END:VEVENT
BEGIN:VEVENT
UID:12714213@ezleagues.ezfacility.com
DTSTAMP:20260426T033836Z
CREATED:20260426T033836Z
DTSTART:20191216T233000Z
DTEND:20191217T001500Z
LOCATION:Court 1
CONTACT:
SUMMARY:#AlwaysOdd VS. I don't know
DESCRIPTION:League Name: Fall Monday Court 1 B Quads\nGame Type: Regular\nG
 ame Status: Complete\nHome Team: #AlwaysOdd\nAway Team: I don't know\nHome
  Score: 2\nAway Score: 1
END:VEVENT
BEGIN:VEVENT
UID:12714218@ezleagues.ezfacility.com
DTSTAMP:20260426T033836Z
CREATED:20260426T033836Z
DTSTART:20191224T023000Z
DTEND:20191224T031500Z
LOCATION:Court 1
CONTACT:
SUMMARY:Some Spike it Hot VS. I don't know
DESCRIPTION:League Name: Fall Monday Court 1 B Quads\nGame Type: Regular\nG
 ame Status: Complete\nHome Team: Some Spike it Hot\nAway Team: I don't kno
 w\nHome Score: 1\nAway Score: 2
END:VEVENT
BEGIN:VEVENT
UID:12714225@ezleagues.ezfacility.com
DTSTAMP:20260426T033836Z
CREATED:20260426T033836Z
DTSTART:20191231T001500Z
DTEND:20191231T010000Z
LOCATION:Court 1
CONTACT:
SUMMARY:I don't know VS. Boffa deez nets
DESCRIPTION:League Name: Fall Monday Court 1 B Quads\nGame Type: Regular\nG
 ame Status: Complete\nHome Team: I don't know\nAway Team: Boffa deez nets\
 nHome Score: 3\nAway Score: 0
END:VEVENT
END:VCALENDAR
