BEGIN:VCALENDAR
VERSION:2.0
PRODID:-//EZFacility.com, Inc.//EZL 2.5.5.28621
BEGIN:VEVENT
UID:12714164@ezleagues.ezfacility.com
DTSTAMP:20260426T033739Z
CREATED:20260426T033739Z
DTSTART:20191021T223000Z
DTEND:20191021T231500Z
LOCATION:Court 1
CONTACT:
SUMMARY:Boffa deez nets VS. Some Spike it Hot
DESCRIPTION:League Name: Fall Monday Court 1 B Quads\nGame Type: Regular\nG
 ame Status: Complete\nHome Team: Boffa deez nets\nAway Team: Some Spike it
  Hot\nHome Score: 0\nAway Score: 3
END:VEVENT
BEGIN:VEVENT
UID:12714170@ezleagues.ezfacility.com
DTSTAMP:20260426T033739Z
CREATED:20260426T033739Z
DTSTART:20191029T000000Z
DTEND:20191029T004500Z
LOCATION:Court 1
CONTACT:
SUMMARY:Some Spike it Hot VS. #CashOnly
DESCRIPTION:League Name: Fall Monday Court 1 B Quads\nGame Type: Regular\nG
 ame Status: Complete\nHome Team: Some Spike it Hot\nAway Team: #CashOnly\n
 Home Score: 2\nAway Score: 1
END:VEVENT
BEGIN:VEVENT
UID:12714176@ezleagues.ezfacility.com
DTSTAMP:20260426T033739Z
CREATED:20260426T033739Z
DTSTART:20191105T014500Z
DTEND:20191105T023000Z
LOCATION:Court 1
CONTACT:
SUMMARY:Networks VS. Some Spike it Hot
DESCRIPTION:League Name: Fall Monday Court 1 B Quads\nGame Type: Regular\nG
 ame Status: Complete\nHome Team: Networks\nAway Team: Some Spike it Hot\nH
 ome Score: 2\nAway Score: 1
END:VEVENT
BEGIN:VEVENT
UID:12714182@ezleagues.ezfacility.com
DTSTAMP:20260426T033739Z
CREATED:20260426T033739Z
DTSTART:20191112T001500Z
DTEND:20191112T010000Z
LOCATION:Court 1
CONTACT:
SUMMARY:Some Spike it Hot VS. Just Four Fun
DESCRIPTION:League Name: Fall Monday Court 1 B Quads\nGame Type: Regular\nG
 ame Status: Complete\nHome Team: Some Spike it Hot\nAway Team: Just Four F
 un\nHome Score: 0\nAway Score: 3
END:VEVENT
BEGIN:VEVENT
UID:12714188@ezleagues.ezfacility.com
DTSTAMP:20260426T033739Z
CREATED:20260426T033739Z
DTSTART:20191119T001500Z
DTEND:20191119T010000Z
LOCATION:Court 1
CONTACT:
SUMMARY:Super Kings VS. Some Spike it Hot
DESCRIPTION:League Name: Fall Monday Court 1 B Quads\nGame Type: Regular\nG
 ame Status: Complete\nHome Team: Super Kings\nAway Team: Some Spike it Hot
 \nHome Score: 0\nAway Score: 3
END:VEVENT
BEGIN:VEVENT
UID:12714200@ezleagues.ezfacility.com
DTSTAMP:20260426T033739Z
CREATED:20260426T033739Z
DTSTART:20191203T023000Z
DTEND:20191203T031500Z
LOCATION:Court 1
CONTACT:
SUMMARY:Queen Louie's VS. Some Spike it Hot
DESCRIPTION:League Name: Fall Monday Court 1 B Quads\nGame Type: Regular\nG
 ame Status: Complete\nHome Team: Queen Louie's\nAway Team: Some Spike it H
 ot\nHome Score: 1\nAway Score: 2
END:VEVENT
BEGIN:VEVENT
UID:12714206@ezleagues.ezfacility.com
DTSTAMP:20260426T033739Z
CREATED:20260426T033739Z
DTSTART:20191210T014500Z
DTEND:20191210T023000Z
LOCATION:Court 1
CONTACT:
SUMMARY:Some Spike it Hot VS. #AlwaysOdd
DESCRIPTION:League Name: Fall Monday Court 1 B Quads\nGame Type: Regular\nG
 ame Status: Complete\nHome Team: Some Spike it Hot\nAway Team: #AlwaysOdd\
 nHome Score: 2\nAway Score: 1
END:VEVENT
BEGIN:VEVENT
UID:12714212@ezleagues.ezfacility.com
DTSTAMP:20260426T033739Z
CREATED:20260426T033739Z
DTSTART:20191217T010000Z
DTEND:20191217T014500Z
LOCATION:Court 1
CONTACT:
SUMMARY:Star Dust VS. Some Spike it Hot
DESCRIPTION:League Name: Fall Monday Court 1 B Quads\nGame Type: Regular\nG
 ame Status: Complete\nHome Team: Star Dust\nAway Team: Some Spike it Hot\n
 Home Score: 3\nAway Score: 0
END:VEVENT
BEGIN:VEVENT
UID:12714218@ezleagues.ezfacility.com
DTSTAMP:20260426T033739Z
CREATED:20260426T033739Z
DTSTART:20191224T023000Z
DTEND:20191224T031500Z
LOCATION:Court 1
CONTACT:
SUMMARY:Some Spike it Hot VS. I don't know
DESCRIPTION:League Name: Fall Monday Court 1 B Quads\nGame Type: Regular\nG
 ame Status: Complete\nHome Team: Some Spike it Hot\nAway Team: I don't kno
 w\nHome Score: 1\nAway Score: 2
END:VEVENT
BEGIN:VEVENT
UID:12714224@ezleagues.ezfacility.com
DTSTAMP:20260426T033739Z
CREATED:20260426T033739Z
DTSTART:20191230T233000Z
DTEND:20191231T001500Z
LOCATION:Court 1
CONTACT:
SUMMARY:Some Spike it Hot VS. Net Zero
DESCRIPTION:League Name: Fall Monday Court 1 B Quads\nGame Type: Regular\nG
 ame Status: Complete\nHome Team: Some Spike it Hot\nAway Team: Net Zero\nH
 ome Score: 0\nAway Score: 3
END:VEVENT
END:VCALENDAR
