BEGIN:VCALENDAR
VERSION:2.0
PRODID:-//EZFacility.com, Inc.//EZL 2.5.5.28621
BEGIN:VEVENT
UID:12714803@ezleagues.ezfacility.com
DTSTAMP:20260424T043145Z
CREATED:20260424T043145Z
DTSTART:20191017T013000Z
DTEND:20191017T021500Z
LOCATION:Court 2
CONTACT:
SUMMARY:Spiked Punch VS. Will Work For Sets
DESCRIPTION:League Name: Fall Wednesday Court 2 Coed C\nGame Type: Regular\
 nGame Status: Complete\nHome Team: Spiked Punch\nAway Team: Will Work For 
 Sets\nHome Score: 1\nAway Score: 2
END:VEVENT
BEGIN:VEVENT
UID:12714810@ezleagues.ezfacility.com
DTSTAMP:20260424T043145Z
CREATED:20260424T043145Z
DTSTART:20191024T013000Z
DTEND:20191024T021500Z
LOCATION:Court 2
CONTACT:
SUMMARY:The Sand Blasters - Lou OCR VS. Spiked Punch
DESCRIPTION:League Name: Fall Wednesday Court 2 Coed C\nGame Type: Regular\
 nGame Status: Complete\nHome Team: The Sand Blasters - Lou OCR\nAway Team:
  Spiked Punch\nHome Score: 0\nAway Score: 3
END:VEVENT
BEGIN:VEVENT
UID:12714816@ezleagues.ezfacility.com
DTSTAMP:20260424T043145Z
CREATED:20260424T043145Z
DTSTART:20191030T231500Z
DTEND:20191031T000000Z
LOCATION:Court 2
CONTACT:
SUMMARY:Scott’s Tots VS. Spiked Punch
DESCRIPTION:League Name: Fall Wednesday Court 2 Coed C\nGame Type: Regular\
 nGame Status: Complete\nHome Team: Scott’s Tots\nAway Team: Spiked Punch
 \nHome Score: 1\nAway Score: 2
END:VEVENT
BEGIN:VEVENT
UID:12714821@ezleagues.ezfacility.com
DTSTAMP:20260424T043145Z
CREATED:20260424T043145Z
DTSTART:20191107T010000Z
DTEND:20191107T014500Z
LOCATION:Court 2
CONTACT:
SUMMARY:Spiked Punch VS. Volley Llamas
DESCRIPTION:League Name: Fall Wednesday Court 2 Coed C\nGame Type: Regular\
 nGame Status: Complete\nHome Team: Spiked Punch\nAway Team: Volley Llamas\
 nHome Score: 0\nAway Score: 3
END:VEVENT
BEGIN:VEVENT
UID:12714826@ezleagues.ezfacility.com
DTSTAMP:20260424T043145Z
CREATED:20260424T043145Z
DTSTART:20191113T233000Z
DTEND:20191114T001500Z
LOCATION:Court 2
CONTACT:
SUMMARY:Let's Put The X in Sets VS. Spiked Punch
DESCRIPTION:League Name: Fall Wednesday Court 2 Coed C\nGame Type: Regular\
 nGame Status: Complete\nHome Team: Let's Put The X in Sets\nAway Team: Spi
 ked Punch\nHome Score: 1\nAway Score: 2
END:VEVENT
BEGIN:VEVENT
UID:12714831@ezleagues.ezfacility.com
DTSTAMP:20260424T043145Z
CREATED:20260424T043145Z
DTSTART:20191121T010000Z
DTEND:20191121T014500Z
LOCATION:Court 2
CONTACT:
SUMMARY:Spiked Punch VS. Spiked-T
DESCRIPTION:League Name: Fall Wednesday Court 2 Coed C\nGame Type: Regular\
 nGame Status: Complete\nHome Team: Spiked Punch\nAway Team: Spiked-T\nHome
  Score: 3\nAway Score: 0
END:VEVENT
BEGIN:VEVENT
UID:12714841@ezleagues.ezfacility.com
DTSTAMP:20260424T043145Z
CREATED:20260424T043145Z
DTSTART:20191205T014500Z
DTEND:20191205T023000Z
LOCATION:Court 2
CONTACT:
SUMMARY:Bag and Tag VS. Spiked Punch
DESCRIPTION:League Name: Fall Wednesday Court 2 Coed C\nGame Type: Regular\
 nGame Status: Complete\nHome Team: Bag and Tag\nAway Team: Spiked Punch\nH
 ome Score: 2\nAway Score: 1
END:VEVENT
BEGIN:VEVENT
UID:12714848@ezleagues.ezfacility.com
DTSTAMP:20260424T043145Z
CREATED:20260424T043145Z
DTSTART:20191211T233000Z
DTEND:20191212T001500Z
LOCATION:Court 2
CONTACT:
SUMMARY:Spiked Punch VS. Just Get It Over
DESCRIPTION:League Name: Fall Wednesday Court 2 Coed C\nGame Type: Regular\
 nGame Status: Complete\nHome Team: Spiked Punch\nAway Team: Just Get It Ov
 er\nHome Score: 1\nAway Score: 2
END:VEVENT
BEGIN:VEVENT
UID:12714855@ezleagues.ezfacility.com
DTSTAMP:20260424T043145Z
CREATED:20260424T043145Z
DTSTART:20191219T001500Z
DTEND:20191219T010000Z
LOCATION:Court 2
CONTACT:
SUMMARY:Free Ballers VS. Spiked Punch
DESCRIPTION:League Name: Fall Wednesday Court 2 Coed C\nGame Type: Regular\
 nGame Status: Complete\nHome Team: Free Ballers\nAway Team: Spiked Punch\n
 Home Score: 3\nAway Score: 0
END:VEVENT
BEGIN:VEVENT
UID:12714862@ezleagues.ezfacility.com
DTSTAMP:20260424T043145Z
CREATED:20260424T043145Z
DTSTART:20200109T023000Z
DTEND:20200109T031500Z
LOCATION:Court 2
CONTACT:
SUMMARY:Spiked Punch VS. Spike Tyson
DESCRIPTION:League Name: Fall Wednesday Court 2 Coed C\nGame Type: Regular\
 nGame Status: Complete\nHome Team: Spiked Punch\nAway Team: Spike Tyson\nH
 ome Score: 3\nAway Score: 0
END:VEVENT
END:VCALENDAR
