BEGIN:VCALENDAR
VERSION:2.0
PRODID:-//EZFacility.com, Inc.//EZL 2.5.5.28621
BEGIN:VEVENT
UID:12746046@ezleagues.ezfacility.com
DTSTAMP:20260424T044214Z
CREATED:20260424T044214Z
DTSTART:20191016T011500Z
DTEND:20191016T020000Z
LOCATION:North Court
CONTACT:Gautam
SUMMARY:Free Agents VS. Chewblocka
DESCRIPTION:League Name: Volleyball (Elite)\nGame Type: Regular\nGame Statu
 s: Complete\nHome Team: Free Agents\nAway Team: Chewblocka\nHome Score: 0\
 nAway Score: 2
END:VEVENT
BEGIN:VEVENT
UID:12755080@ezleagues.ezfacility.com
DTSTAMP:20260424T044214Z
CREATED:20260424T044214Z
DTSTART:20191023T011500Z
DTEND:20191023T020000Z
LOCATION:North Court
CONTACT:Gautam
SUMMARY:Chewblocka VS. Me So Goni
DESCRIPTION:League Name: Volleyball (Elite)\nGame Type: Regular\nGame Statu
 s: Complete\nHome Team: Chewblocka\nAway Team: Me So Goni\nHome Score: 2\n
 Away Score: 0
END:VEVENT
BEGIN:VEVENT
UID:12755106@ezleagues.ezfacility.com
DTSTAMP:20260424T044214Z
CREATED:20260424T044214Z
DTSTART:20191030T020000Z
DTEND:20191030T024500Z
LOCATION:North Court
CONTACT:Gautam
SUMMARY:Chewblocka VS. 5 kids and an old lady
DESCRIPTION:League Name: Volleyball (Elite)\nGame Type: Regular\nGame Statu
 s: Complete\nHome Team: Chewblocka\nAway Team: 5 kids and an old lady\nHom
 e Score: 0\nAway Score: 2
END:VEVENT
BEGIN:VEVENT
UID:12755147@ezleagues.ezfacility.com
DTSTAMP:20260424T044214Z
CREATED:20260424T044214Z
DTSTART:20191106T013000Z
DTEND:20191106T021500Z
LOCATION:North Court
CONTACT:Gautam
SUMMARY:Bussdown Volleyllamas VS. Chewblocka
DESCRIPTION:League Name: Volleyball (Elite)\nGame Type: Regular\nGame Statu
 s: Complete\nHome Team: Bussdown Volleyllamas\nAway Team: Chewblocka\nHome
  Score: 2\nAway Score: 0
END:VEVENT
BEGIN:VEVENT
UID:12834463@ezleagues.ezfacility.com
DTSTAMP:20260424T044214Z
CREATED:20260424T044214Z
DTSTART:20191113T021500Z
DTEND:20191113T030000Z
LOCATION:North Court
CONTACT:Gautam
SUMMARY:Chewblocka VS. Free Agents
DESCRIPTION:League Name: Volleyball (Elite)\nGame Type: Postseason\nGame St
 atus: Complete\nHome Team: Chewblocka\nAway Team: Free Agents\nHome Score:
  2\nAway Score: 0
END:VEVENT
BEGIN:VEVENT
UID:12834577@ezleagues.ezfacility.com
DTSTAMP:20260424T044214Z
CREATED:20260424T044214Z
DTSTART:20191120T020000Z
DTEND:20191120T024500Z
LOCATION:North Court
CONTACT:Gautam
SUMMARY:5 kids and an old lady VS. Chewblocka
DESCRIPTION:League Name: Volleyball (Elite)\nGame Type: Postseason\nGame St
 atus: Complete\nHome Team: 5 kids and an old lady\nAway Team: Chewblocka\n
 Home Score: 2\nAway Score: 1
END:VEVENT
END:VCALENDAR
