BEGIN:VCALENDAR
VERSION:2.0
PRODID:-//EZFacility.com, Inc.//EZL 2.5.5.28621
BEGIN:VEVENT
UID:12773493@ezleagues.ezfacility.com
DTSTAMP:20260419T212052Z
CREATED:20260419T212052Z
DTSTART:20191027T020000Z
DTEND:20191027T030000Z
LOCATION:Harmans Premier Field #4
CONTACT:
SUMMARY:Arsenal VS. Juventus 
DESCRIPTION:League Name: Sat Mens Open 1st Div \nGame Type: Regular\nGame S
 tatus: Complete\nHome Team: Arsenal\nAway Team: Juventus \nHome Score: 1\n
 Away Score: 2
END:VEVENT
BEGIN:VEVENT
UID:12773502@ezleagues.ezfacility.com
DTSTAMP:20260419T212052Z
CREATED:20260419T212052Z
DTSTART:20191103T010000Z
DTEND:20191103T020000Z
LOCATION:Harmans Premier Field #5
CONTACT:
SUMMARY:Los Angeles VS. Juventus 
DESCRIPTION:League Name: Sat Mens Open 1st Div \nGame Type: Regular\nGame S
 tatus: Complete\nHome Team: Los Angeles\nAway Team: Juventus \nHome Score:
  7\nAway Score: 9
END:VEVENT
BEGIN:VEVENT
UID:12773510@ezleagues.ezfacility.com
DTSTAMP:20260419T212052Z
CREATED:20260419T212052Z
DTSTART:20191110T020000Z
DTEND:20191110T030000Z
LOCATION:Harmans Premier Field #5
CONTACT:
SUMMARY:Dep. Nueva Consepcion VS. Juventus 
DESCRIPTION:League Name: Sat Mens Open 1st Div \nGame Type: Regular\nGame S
 tatus: Complete\nHome Team: Dep. Nueva Consepcion\nAway Team: Juventus \nH
 ome Score: 5\nAway Score: 6
END:VEVENT
BEGIN:VEVENT
UID:12773517@ezleagues.ezfacility.com
DTSTAMP:20260419T212052Z
CREATED:20260419T212052Z
DTSTART:20191117T020000Z
DTEND:20191117T030000Z
LOCATION:Harmans Premier Field #5
CONTACT:
SUMMARY:Los Galácticos VS. Juventus 
DESCRIPTION:League Name: Sat Mens Open 1st Div \nGame Type: Regular\nGame S
 tatus: Complete\nHome Team: Los Galácticos\nAway Team: Juventus \nHome Sc
 ore: 1\nAway Score: 9
END:VEVENT
BEGIN:VEVENT
UID:12773524@ezleagues.ezfacility.com
DTSTAMP:20260419T212052Z
CREATED:20260419T212052Z
DTSTART:20191124T010000Z
DTEND:20191124T020000Z
LOCATION:Harmans Premier Field #4
CONTACT:
SUMMARY:Juventus  VS. Guate
DESCRIPTION:League Name: Sat Mens Open 1st Div \nGame Type: Regular\nGame S
 tatus: Complete\nHome Team: Juventus \nAway Team: Guate\nHome Score: 3\nAw
 ay Score: 4
END:VEVENT
BEGIN:VEVENT
UID:12773533@ezleagues.ezfacility.com
DTSTAMP:20260419T212052Z
CREATED:20260419T212052Z
DTSTART:20191201T030000Z
DTEND:20191201T040000Z
LOCATION:Harmans Premier Field #4
CONTACT:
SUMMARY:Juventus  VS. Arsenal
DESCRIPTION:League Name: Sat Mens Open 1st Div \nGame Type: Regular\nGame S
 tatus: Complete\nHome Team: Juventus \nAway Team: Arsenal\nHome Score: 2\n
 Away Score: 4
END:VEVENT
BEGIN:VEVENT
UID:12773542@ezleagues.ezfacility.com
DTSTAMP:20260419T212052Z
CREATED:20260419T212052Z
DTSTART:20191208T010000Z
DTEND:20191208T020000Z
LOCATION:Harmans Premier Field #4
CONTACT:
SUMMARY:Juventus  VS. Los Angeles
DESCRIPTION:League Name: Sat Mens Open 1st Div \nGame Type: Regular\nGame S
 tatus: Complete\nHome Team: Juventus \nAway Team: Los Angeles\nHome Score:
  7\nAway Score: 2
END:VEVENT
BEGIN:VEVENT
UID:12923725@ezleagues.ezfacility.com
DTSTAMP:20260419T212052Z
CREATED:20260419T212052Z
DTSTART:20191215T020000Z
DTEND:20191215T030000Z
LOCATION:Harmans Premier Field #4
CONTACT:
SUMMARY:Juventus  VS. Dep. Nueva Consepcion
DESCRIPTION:League Name: Sat Mens Open 1st Div \nGame Type: Regular\nGame S
 tatus: Complete\nHome Team: Juventus \nAway Team: Dep. Nueva Consepcion\nH
 ome Score: 8\nAway Score: 6
END:VEVENT
BEGIN:VEVENT
UID:12941246@ezleagues.ezfacility.com
DTSTAMP:20260419T212052Z
CREATED:20260419T212052Z
DTSTART:20191222T020000Z
DTEND:20191222T030000Z
LOCATION:Harmans Premier Field #4
CONTACT:
SUMMARY:Juventus  VS. Arsenal
DESCRIPTION:League Name: Sat Mens Open 1st Div \nGame Type: Regular\nGame S
 tatus: Complete\nHome Team: Juventus \nAway Team: Arsenal\nHome Score: 3\n
 Away Score: 2
END:VEVENT
END:VCALENDAR
