BEGIN:VCALENDAR
VERSION:2.0
PRODID:-//EZFacility.com, Inc.//EZL 2.5.5.28621
BEGIN:VEVENT
UID:12781580@ezleagues.ezfacility.com
DTSTAMP:20260419T230902Z
CREATED:20260419T230902Z
DTSTART:20191117T193000Z
DTEND:20191117T203000Z
LOCATION:Full Field - Indoor (C)
CONTACT:NortonB\, NortonJ
SUMMARY:A.M.E UNITED VS. CH KIDZ MARIN
DESCRIPTION:League Name: Indoor Soccer U-16 B Recreational 2019-20\nGame Ty
 pe: Regular\nGame Status: Complete\nHome Team: A.M.E UNITED\nAway Team: CH
  KIDZ MARIN\nHome Score: 1\nAway Score: 0
END:VEVENT
BEGIN:VEVENT
UID:12781587@ezleagues.ezfacility.com
DTSTAMP:20260419T230902Z
CREATED:20260419T230902Z
DTSTART:20191124T213000Z
DTEND:20191124T223000Z
LOCATION:Full Field - Indoor (C)
CONTACT:BODETTE
SUMMARY:CH KIDZ MARIN VS. PLATTSBURGH PREDATORS
DESCRIPTION:League Name: Indoor Soccer U-16 B Recreational 2019-20\nGame Ty
 pe: Regular\nGame Status: Complete\nHome Team: CH KIDZ MARIN\nAway Team: P
 LATTSBURGH PREDATORS\nHome Score: 0\nAway Score: 7
END:VEVENT
BEGIN:VEVENT
UID:12781621@ezleagues.ezfacility.com
DTSTAMP:20260419T230902Z
CREATED:20260419T230902Z
DTSTART:20191201T173000Z
DTEND:20191201T183000Z
LOCATION:Full Field - Indoor (C)
CONTACT:NortonB\, NortonJ
SUMMARY:CH KIDZ MARIN VS. INUK SHUK STRIKERS
DESCRIPTION:League Name: Indoor Soccer U-16 B Recreational 2019-20\nGame Ty
 pe: Regular\nGame Status: Rescheduled\nHome Team: CH KIDZ MARIN\nAway Team
 : INUK SHUK STRIKERS\n
END:VEVENT
BEGIN:VEVENT
UID:12781601@ezleagues.ezfacility.com
DTSTAMP:20260419T230902Z
CREATED:20260419T230902Z
DTSTART:20191208T173000Z
DTEND:20191208T183000Z
LOCATION:Full Field - Indoor (C)
CONTACT:NortonB\, Tolosky
SUMMARY:CH KIDZ MARIN VS. PLATTSBURGH HORNETS
DESCRIPTION:League Name: Indoor Soccer U-16 B Recreational 2019-20\nGame Ty
 pe: Regular\nGame Status: Complete\nHome Team: CH KIDZ MARIN\nAway Team: P
 LATTSBURGH HORNETS\nHome Score: 7\nAway Score: 1
END:VEVENT
BEGIN:VEVENT
UID:12781608@ezleagues.ezfacility.com
DTSTAMP:20260419T230902Z
CREATED:20260419T230902Z
DTSTART:20191215T203000Z
DTEND:20191215T213000Z
LOCATION:Full Field - Indoor (C)
CONTACT:ReganKe
SUMMARY:CH KIDZ LABARGE VS. CH KIDZ MARIN
DESCRIPTION:League Name: Indoor Soccer U-16 B Recreational 2019-20\nGame Ty
 pe: Regular\nGame Status: Complete\nHome Team: CH KIDZ LABARGE\nAway Team:
  CH KIDZ MARIN\nHome Score: 2\nAway Score: 6
END:VEVENT
BEGIN:VEVENT
UID:12781615@ezleagues.ezfacility.com
DTSTAMP:20260419T230902Z
CREATED:20260419T230902Z
DTSTART:20191222T173000Z
DTEND:20191222T183000Z
LOCATION:Full Field - Indoor (C)
CONTACT:ReganKe\, Parker
SUMMARY:CH KIDZ MARIN VS. BEEZ BOYS S.C.
DESCRIPTION:League Name: Indoor Soccer U-16 B Recreational 2019-20\nGame Ty
 pe: Regular\nGame Status: Rescheduled\nHome Team: CH KIDZ MARIN\nAway Team
 : BEEZ BOYS S.C.\n
END:VEVENT
BEGIN:VEVENT
UID:12781626@ezleagues.ezfacility.com
DTSTAMP:20260419T230902Z
CREATED:20260419T230902Z
DTSTART:20200105T203000Z
DTEND:20200105T213000Z
LOCATION:Full Field - Indoor (C)
CONTACT:ReganKe\, Scharf
SUMMARY:RUSH HOUR VS. CH KIDZ MARIN
DESCRIPTION:League Name: Indoor Soccer U-16 B Recreational 2019-20\nGame Ty
 pe: Regular\nGame Status: Complete\nHome Team: RUSH HOUR\nAway Team: CH KI
 DZ MARIN\nHome Score: 7\nAway Score: 2
END:VEVENT
BEGIN:VEVENT
UID:12781575@ezleagues.ezfacility.com
DTSTAMP:20260419T230902Z
CREATED:20260419T230902Z
DTSTART:20200118T231500Z
DTEND:20200119T001500Z
LOCATION:Full Field - Indoor (C)
CONTACT:ReganKe\, KOWALOWSKI\, KA
SUMMARY:ADKFC VS. CH KIDZ MARIN
DESCRIPTION:League Name: Indoor Soccer U-16 B Recreational 2019-20\nGame Ty
 pe: Regular\nGame Status: Complete\nHome Team: ADKFC\nAway Team: CH KIDZ M
 ARIN\nHome Score: 4\nAway Score: 0
END:VEVENT
BEGIN:VEVENT
UID:13006680@ezleagues.ezfacility.com
DTSTAMP:20260419T230902Z
CREATED:20260419T230902Z
DTSTART:20200125T163000Z
DTEND:20200125T173000Z
LOCATION:Full Field - Indoor (C)
CONTACT:BODETTE\, Keyser
SUMMARY:CH KIDZ MARIN VS. BEEZ BOYS S.C.
DESCRIPTION:League Name: Indoor Soccer U-16 B Recreational 2019-20\nGame Ty
 pe: Regular\nGame Status: Complete\nHome Team: CH KIDZ MARIN\nAway Team: B
 EEZ BOYS S.C.\nHome Score: 0\nAway Score: 6
END:VEVENT
BEGIN:VEVENT
UID:12915245@ezleagues.ezfacility.com
DTSTAMP:20260419T230902Z
CREATED:20260419T230902Z
DTSTART:20200126T163000Z
DTEND:20200126T173000Z
LOCATION:Full Field - Indoor (C)
CONTACT:Parker\, Keyser
SUMMARY:CH KIDZ MARIN VS. INUK SHUK STRIKERS
DESCRIPTION:League Name: Indoor Soccer U-16 B Recreational 2019-20\nGame Ty
 pe: Regular\nGame Status: Complete\nHome Team: CH KIDZ MARIN\nAway Team: I
 NUK SHUK STRIKERS\nHome Score: 0\nAway Score: 5
END:VEVENT
END:VCALENDAR
