BEGIN:VCALENDAR
VERSION:2.0
PRODID:-//EZFacility.com, Inc.//EZL 2.5.5.28621
BEGIN:VEVENT
UID:12781591@ezleagues.ezfacility.com
DTSTAMP:20260424T043144Z
CREATED:20260424T043144Z
DTSTART:20191124T183000Z
DTEND:20191124T193000Z
LOCATION:Full Field - Indoor (C)
CONTACT:NortonJ\, NortonB
SUMMARY:CHAZY EAGLES VS. PLATTSBURGH HORNETS
DESCRIPTION:League Name: Indoor Soccer U-16 B Recreational 2019-20\nGame Ty
 pe: Regular\nGame Status: Complete\nHome Team: CHAZY EAGLES\nAway Team: PL
 ATTSBURGH HORNETS\nHome Score: 5\nAway Score: 1
END:VEVENT
BEGIN:VEVENT
UID:12781597@ezleagues.ezfacility.com
DTSTAMP:20260424T043144Z
CREATED:20260424T043144Z
DTSTART:20191201T213000Z
DTEND:20191201T223000Z
LOCATION:Full Field - Indoor (C)
CONTACT:ReganKe\, Lozier
SUMMARY:CH KIDZ LABARGE VS. CHAZY EAGLES
DESCRIPTION:League Name: Indoor Soccer U-16 B Recreational 2019-20\nGame Ty
 pe: Regular\nGame Status: Complete\nHome Team: CH KIDZ LABARGE\nAway Team:
  CHAZY EAGLES\nHome Score: 2\nAway Score: 7
END:VEVENT
BEGIN:VEVENT
UID:12781602@ezleagues.ezfacility.com
DTSTAMP:20260424T043144Z
CREATED:20260424T043144Z
DTSTART:20191208T213000Z
DTEND:20191208T223000Z
LOCATION:Full Field - Indoor (C)
CONTACT:DURANT\, MCCORMICK
SUMMARY:BEEZ BOYS S.C. VS. CHAZY EAGLES
DESCRIPTION:League Name: Indoor Soccer U-16 B Recreational 2019-20\nGame Ty
 pe: Regular\nGame Status: Complete\nHome Team: BEEZ BOYS S.C.\nAway Team: 
 CHAZY EAGLES\nHome Score: 3\nAway Score: 2
END:VEVENT
BEGIN:VEVENT
UID:12781612@ezleagues.ezfacility.com
DTSTAMP:20260424T043144Z
CREATED:20260424T043144Z
DTSTART:20191222T193000Z
DTEND:20191222T203000Z
LOCATION:Full Field - Indoor (C)
CONTACT:ReganKe\, Parker
SUMMARY:RUSH HOUR VS. CHAZY EAGLES
DESCRIPTION:League Name: Indoor Soccer U-16 B Recreational 2019-20\nGame Ty
 pe: Regular\nGame Status: Complete\nHome Team: RUSH HOUR\nAway Team: CHAZY
  EAGLES\nHome Score: 8\nAway Score: 2
END:VEVENT
BEGIN:VEVENT
UID:12781622@ezleagues.ezfacility.com
DTSTAMP:20260424T043144Z
CREATED:20260424T043144Z
DTSTART:20200105T193000Z
DTEND:20200105T203000Z
LOCATION:Full Field - Indoor (C)
CONTACT:ReganKe\, Scharf
SUMMARY:A.M.E UNITED VS. CHAZY EAGLES
DESCRIPTION:League Name: Indoor Soccer U-16 B Recreational 2019-20\nGame Ty
 pe: Regular\nGame Status: Complete\nHome Team: A.M.E UNITED\nAway Team: CH
 AZY EAGLES\nHome Score: 6\nAway Score: 1
END:VEVENT
BEGIN:VEVENT
UID:12781617@ezleagues.ezfacility.com
DTSTAMP:20260424T043144Z
CREATED:20260424T043144Z
DTSTART:20200118T141500Z
DTEND:20200118T151500Z
LOCATION:Full Field - Indoor (C)
CONTACT:NortonB\, NortonJ
SUMMARY:CHAZY EAGLES VS. CH KIDZ LABARGE
DESCRIPTION:League Name: Indoor Soccer U-16 B Recreational 2019-20\nGame Ty
 pe: Regular\nGame Status: Complete\nHome Team: CHAZY EAGLES\nAway Team: CH
  KIDZ LABARGE\nHome Score: 4\nAway Score: 3
END:VEVENT
BEGIN:VEVENT
UID:12781577@ezleagues.ezfacility.com
DTSTAMP:20260424T043144Z
CREATED:20260424T043144Z
DTSTART:20200125T213000Z
DTEND:20200125T223000Z
LOCATION:Full Field - Indoor (C)
CONTACT:ReganKe\, NortonJ
SUMMARY:CHAZY EAGLES VS. PLATTSBURGH PREDATORS
DESCRIPTION:League Name: Indoor Soccer U-16 B Recreational 2019-20\nGame Ty
 pe: Regular\nGame Status: Complete\nHome Team: CHAZY EAGLES\nAway Team: PL
 ATTSBURGH PREDATORS\nHome Score: 1\nAway Score: 13
END:VEVENT
END:VCALENDAR
