BEGIN:VCALENDAR
VERSION:2.0
PRODID:-//EZFacility.com, Inc.//EZL 2.5.5.28621
BEGIN:VEVENT
UID:12783537@ezleagues.ezfacility.com
DTSTAMP:20260421T115258Z
CREATED:20260421T115258Z
DTSTART:20191103T012000Z
DTEND:20191103T020800Z
LOCATION:Jessup Premier Field #1
CONTACT:
SUMMARY:Leon FC VS. Cinco Estrellas
DESCRIPTION:League Name: Sat Mens Open Super Liga \nGame Type: Regular\nGam
 e Status: Complete\nHome Team: Leon FC\nAway Team: Cinco Estrellas\nHome S
 core: 8\nAway Score: 1
END:VEVENT
BEGIN:VEVENT
UID:12783550@ezleagues.ezfacility.com
DTSTAMP:20260421T115258Z
CREATED:20260421T115258Z
DTSTART:20191110T022000Z
DTEND:20191110T030800Z
LOCATION:Jessup Premier Field #2
CONTACT:
SUMMARY:Real Espana VS. Cinco Estrellas
DESCRIPTION:League Name: Sat Mens Open Super Liga \nGame Type: Regular\nGam
 e Status: Complete\nHome Team: Real Espana\nAway Team: Cinco Estrellas\nHo
 me Score: 6\nAway Score: 8
END:VEVENT
BEGIN:VEVENT
UID:12783563@ezleagues.ezfacility.com
DTSTAMP:20260421T115258Z
CREATED:20260421T115258Z
DTSTART:20191117T031000Z
DTEND:20191117T035800Z
LOCATION:Jessup Premier Field #2
CONTACT:
SUMMARY:Cinco Estrellas VS. Los Ranchos
DESCRIPTION:League Name: Sat Mens Open Super Liga \nGame Type: Regular\nGam
 e Status: Complete\nHome Team: Cinco Estrellas\nAway Team: Los Ranchos\nHo
 me Score: 4\nAway Score: 4
END:VEVENT
BEGIN:VEVENT
UID:12783578@ezleagues.ezfacility.com
DTSTAMP:20260421T115258Z
CREATED:20260421T115258Z
DTSTART:20191124T004000Z
DTEND:20191124T012800Z
LOCATION:Jessup Premier Field #1
CONTACT:
SUMMARY:Cinco Estrellas VS. River Plate
DESCRIPTION:League Name: Sat Mens Open Super Liga \nGame Type: Regular\nGam
 e Status: Complete\nHome Team: Cinco Estrellas\nAway Team: River Plate\nHo
 me Score: 4\nAway Score: 10
END:VEVENT
BEGIN:VEVENT
UID:12783593@ezleagues.ezfacility.com
DTSTAMP:20260421T115258Z
CREATED:20260421T115258Z
DTSTART:20191130T230000Z
DTEND:20191130T234800Z
LOCATION:Jessup Premier Field #1
CONTACT:
SUMMARY:Cinco Estrellas VS. Internacional
DESCRIPTION:League Name: Sat Mens Open Super Liga \nGame Type: Regular\nGam
 e Status: Complete\nHome Team: Cinco Estrellas\nAway Team: Internacional\n
 Home Score: 2\nAway Score: 9
END:VEVENT
BEGIN:VEVENT
UID:12783608@ezleagues.ezfacility.com
DTSTAMP:20260421T115258Z
CREATED:20260421T115258Z
DTSTART:20191208T031000Z
DTEND:20191208T035800Z
LOCATION:Jessup Premier Field #2
CONTACT:
SUMMARY:Cinco Estrellas VS. Unstoppable FC
DESCRIPTION:League Name: Sat Mens Open Super Liga \nGame Type: Regular\nGam
 e Status: Complete\nHome Team: Cinco Estrellas\nAway Team: Unstoppable FC\
 nHome Score: 1\nAway Score: 5
END:VEVENT
BEGIN:VEVENT
UID:12783622@ezleagues.ezfacility.com
DTSTAMP:20260421T115258Z
CREATED:20260421T115258Z
DTSTART:20191214T230000Z
DTEND:20191214T234800Z
LOCATION:Jessup Premier Field #1
CONTACT:
SUMMARY:Montreal FC VS. Cinco Estrellas
DESCRIPTION:League Name: Sat Mens Open Super Liga \nGame Type: Regular\nGam
 e Status: Complete\nHome Team: Montreal FC\nAway Team: Cinco Estrellas\nHo
 me Score: 3\nAway Score: 3
END:VEVENT
BEGIN:VEVENT
UID:12929470@ezleagues.ezfacility.com
DTSTAMP:20260421T115258Z
CREATED:20260421T115258Z
DTSTART:20191222T040000Z
DTEND:20191222T044800Z
LOCATION:Jessup Premier Field #2
CONTACT:
SUMMARY:Cinco Estrellas VS. Real Espana
DESCRIPTION:League Name: Sat Mens Open Super Liga \nGame Type: Regular\nGam
 e Status: Complete\nHome Team: Cinco Estrellas\nAway Team: Real Espana\nHo
 me Score: 3\nAway Score: 7
END:VEVENT
BEGIN:VEVENT
UID:12952378@ezleagues.ezfacility.com
DTSTAMP:20260421T115258Z
CREATED:20260421T115258Z
DTSTART:20200104T235000Z
DTEND:20200105T003800Z
LOCATION:Jessup Premier Field #1
CONTACT:
SUMMARY:Montreal FC VS. Cinco Estrellas
DESCRIPTION:League Name: Sat Mens Open Super Liga \nGame Type: Regular\nGam
 e Status: Complete\nHome Team: Montreal FC\nAway Team: Cinco Estrellas\nHo
 me Score: 8\nAway Score: 2
END:VEVENT
END:VCALENDAR
