BEGIN:VCALENDAR
VERSION:2.0
PRODID:-//EZFacility.com, Inc.//EZL 2.5.5.28621
BEGIN:VEVENT
UID:12788422@ezleagues.ezfacility.com
DTSTAMP:20260420T190602Z
CREATED:20260420T190602Z
DTSTART:20191114T023000Z
DTEND:20191114T033000Z
LOCATION:RCF East - Rio
CONTACT:
SUMMARY:En Fuego VS. Misfits
DESCRIPTION:League Name: East Winter I AL - Coed D1 (W/F)\nGame Type: Regul
 ar\nGame Status: Complete\nHome Team: En Fuego\nAway Team: Misfits\nHome S
 core: 3\nAway Score: 7
END:VEVENT
BEGIN:VEVENT
UID:12788440@ezleagues.ezfacility.com
DTSTAMP:20260420T190602Z
CREATED:20260420T190602Z
DTSTART:20191121T033000Z
DTEND:20191121T043000Z
LOCATION:RCF East - Rio
CONTACT:
SUMMARY:Paradise SC VS. Misfits
DESCRIPTION:League Name: East Winter I AL - Coed D1 (W/F)\nGame Type: Regul
 ar\nGame Status: Complete\nHome Team: Paradise SC\nAway Team: Misfits\nHom
 e Score: 5\nAway Score: 10
END:VEVENT
BEGIN:VEVENT
UID:12788475@ezleagues.ezfacility.com
DTSTAMP:20260420T190602Z
CREATED:20260420T190602Z
DTSTART:20191205T053000Z
DTEND:20191205T063000Z
LOCATION:RCF East - Rio
CONTACT:
SUMMARY:Misfits VS. Talking Soccer Allstars 
DESCRIPTION:League Name: East Winter I AL - Coed D1 (W/F)\nGame Type: Regul
 ar\nGame Status: Complete\nHome Team: Misfits\nAway Team: Talking Soccer A
 llstars \nHome Score: 7\nAway Score: 11
END:VEVENT
BEGIN:VEVENT
UID:12788491@ezleagues.ezfacility.com
DTSTAMP:20260420T190602Z
CREATED:20260420T190602Z
DTSTART:20191214T045000Z
DTEND:20191214T055000Z
LOCATION:RCF East - Barcelona
CONTACT:
SUMMARY:Misfits VS. Night Nurse 
DESCRIPTION:League Name: East Winter I AL - Coed D1 (W/F)\nGame Type: Regul
 ar\nGame Status: Complete\nHome Team: Misfits\nAway Team: Night Nurse \nHo
 me Score: 5\nAway Score: 6
END:VEVENT
BEGIN:VEVENT
UID:12788507@ezleagues.ezfacility.com
DTSTAMP:20260420T190602Z
CREATED:20260420T190602Z
DTSTART:20191219T053000Z
DTEND:20191219T063000Z
LOCATION:RCF East - Rio
CONTACT:
SUMMARY:Misfits VS. En Fuego
DESCRIPTION:League Name: East Winter I AL - Coed D1 (W/F)\nGame Type: Regul
 ar\nGame Status: Complete\nHome Team: Misfits\nAway Team: En Fuego\nHome S
 core: 6\nAway Score: 9
END:VEVENT
BEGIN:VEVENT
UID:12788560@ezleagues.ezfacility.com
DTSTAMP:20260420T190602Z
CREATED:20260420T190602Z
DTSTART:20200109T063000Z
DTEND:20200109T073000Z
LOCATION:RCF East - Rio
CONTACT:
SUMMARY:Talking Soccer Allstars  VS. Misfits
DESCRIPTION:League Name: East Winter I AL - Coed D1 (W/F)\nGame Type: Regul
 ar\nGame Status: Complete\nHome Team: Talking Soccer Allstars \nAway Team:
  Misfits\nHome Score: 13\nAway Score: 9
END:VEVENT
BEGIN:VEVENT
UID:12788576@ezleagues.ezfacility.com
DTSTAMP:20260420T190602Z
CREATED:20260420T190602Z
DTSTART:20200116T043000Z
DTEND:20200116T053000Z
LOCATION:RCF East - Rio
CONTACT:
SUMMARY:Night Nurse  VS. Misfits
DESCRIPTION:League Name: East Winter I AL - Coed D1 (W/F)\nGame Type: Regul
 ar\nGame Status: Complete\nHome Team: Night Nurse \nAway Team: Misfits\nHo
 me Score: 6\nAway Score: 7
END:VEVENT
BEGIN:VEVENT
UID:12788543@ezleagues.ezfacility.com
DTSTAMP:20260420T190602Z
CREATED:20260420T190602Z
DTSTART:20200123T053000Z
DTEND:20200123T063000Z
LOCATION:RCF East - Rio
CONTACT:
SUMMARY:Misfits VS. Inho Space 
DESCRIPTION:League Name: East Winter I AL - Coed D1 (W/F)\nGame Type: Regul
 ar\nGame Status: Complete\nHome Team: Misfits\nAway Team: Inho Space \nHom
 e Score: 5\nAway Score: 12
END:VEVENT
BEGIN:VEVENT
UID:12788525@ezleagues.ezfacility.com
DTSTAMP:20260420T190602Z
CREATED:20260420T190602Z
DTSTART:20200130T043000Z
DTEND:20200130T053000Z
LOCATION:RCF East - Rio
CONTACT:
SUMMARY:Misfits VS. Paradise SC
DESCRIPTION:League Name: East Winter I AL - Coed D1 (W/F)\nGame Type: Regul
 ar\nGame Status: Complete\nHome Team: Misfits\nAway Team: Paradise SC\nHom
 e Score: 10\nAway Score: 4
END:VEVENT
BEGIN:VEVENT
UID:12788458@ezleagues.ezfacility.com
DTSTAMP:20260420T190602Z
CREATED:20260420T190602Z
DTSTART:20200206T023000Z
DTEND:20200206T033000Z
LOCATION:RCF East - Rio
CONTACT:
SUMMARY:Inho Space  VS. Misfits
DESCRIPTION:League Name: East Winter I AL - Coed D1 (W/F)\nGame Type: Regul
 ar\nGame Status: Complete\nHome Team: Inho Space \nAway Team: Misfits\nHom
 e Score: 10\nAway Score: 3
END:VEVENT
END:VCALENDAR
