BEGIN:VCALENDAR
VERSION:2.0
PRODID:-//EZFacility.com, Inc.//EZL 2.5.5.28621
BEGIN:VEVENT
UID:12789229@ezleagues.ezfacility.com
DTSTAMP:20260423T221916Z
CREATED:20260423T221916Z
DTSTART:20191115T035000Z
DTEND:20191115T045000Z
LOCATION:RCF East - Barcelona
CONTACT:
SUMMARY:Puffins FC VS. Atletico Thundercats TAFC
DESCRIPTION:League Name: East Winter I AL - Coed D4 (TH/F)\nGame Type: Regu
 lar\nGame Status: Complete\nHome Team: Puffins FC\nAway Team: Atletico Thu
 ndercats TAFC\nHome Score: 7\nAway Score: 8
END:VEVENT
BEGIN:VEVENT
UID:12789248@ezleagues.ezfacility.com
DTSTAMP:20260423T221916Z
CREATED:20260423T221916Z
DTSTART:20191122T063000Z
DTEND:20191122T073000Z
LOCATION:RCF East - Rio
CONTACT:
SUMMARY:Ichi-gos VS. Atletico Thundercats TAFC
DESCRIPTION:League Name: East Winter I AL - Coed D4 (TH/F)\nGame Type: Regu
 lar\nGame Status: Complete\nHome Team: Ichi-gos\nAway Team: Atletico Thund
 ercats TAFC\nHome Score: 9\nAway Score: 5
END:VEVENT
BEGIN:VEVENT
UID:12789283@ezleagues.ezfacility.com
DTSTAMP:20260423T221916Z
CREATED:20260423T221916Z
DTSTART:20191206T055000Z
DTEND:20191206T065000Z
LOCATION:RCF East - Barcelona
CONTACT:
SUMMARY:Atletico Thundercats TAFC VS. The Ramblers
DESCRIPTION:League Name: East Winter I AL - Coed D4 (TH/F)\nGame Type: Regu
 lar\nGame Status: Complete\nHome Team: Atletico Thundercats TAFC\nAway Tea
 m: The Ramblers\nHome Score: 5\nAway Score: 6
END:VEVENT
BEGIN:VEVENT
UID:12789300@ezleagues.ezfacility.com
DTSTAMP:20260423T221916Z
CREATED:20260423T221916Z
DTSTART:20191213T055000Z
DTEND:20191213T065000Z
LOCATION:RCF East - Barcelona
CONTACT:
SUMMARY:Albondigas VS. Atletico Thundercats TAFC
DESCRIPTION:League Name: East Winter I AL - Coed D4 (TH/F)\nGame Type: Regu
 lar\nGame Status: Complete\nHome Team: Albondigas\nAway Team: Atletico Thu
 ndercats TAFC\nHome Score: 7\nAway Score: 11
END:VEVENT
BEGIN:VEVENT
UID:12789319@ezleagues.ezfacility.com
DTSTAMP:20260423T221916Z
CREATED:20260423T221916Z
DTSTART:20191220T063000Z
DTEND:20191220T073000Z
LOCATION:RCF East - Rio
CONTACT:
SUMMARY:Atletico Thundercats TAFC VS. Puffins FC
DESCRIPTION:League Name: East Winter I AL - Coed D4 (TH/F)\nGame Type: Regu
 lar\nGame Status: Complete\nHome Team: Atletico Thundercats TAFC\nAway Tea
 m: Puffins FC\nHome Score: 4\nAway Score: 5
END:VEVENT
BEGIN:VEVENT
UID:12789373@ezleagues.ezfacility.com
DTSTAMP:20260423T221916Z
CREATED:20260423T221916Z
DTSTART:20200110T041000Z
DTEND:20200110T051000Z
LOCATION:RCF East - Portland
CONTACT:
SUMMARY:The Ramblers VS. Atletico Thundercats TAFC
DESCRIPTION:League Name: East Winter I AL - Coed D4 (TH/F)\nGame Type: Regu
 lar\nGame Status: Complete\nHome Team: The Ramblers\nAway Team: Atletico T
 hundercats TAFC\nHome Score: 3\nAway Score: 9
END:VEVENT
BEGIN:VEVENT
UID:12789390@ezleagues.ezfacility.com
DTSTAMP:20260423T221916Z
CREATED:20260423T221916Z
DTSTART:20200117T031000Z
DTEND:20200117T041000Z
LOCATION:RCF East - Portland
CONTACT:
SUMMARY:Atletico Thundercats TAFC VS. Albondigas
DESCRIPTION:League Name: East Winter I AL - Coed D4 (TH/F)\nGame Type: Regu
 lar\nGame Status: Complete\nHome Team: Atletico Thundercats TAFC\nAway Tea
 m: Albondigas\nHome Score: 12\nAway Score: 7
END:VEVENT
BEGIN:VEVENT
UID:12789356@ezleagues.ezfacility.com
DTSTAMP:20260423T221916Z
CREATED:20260423T221916Z
DTSTART:20200125T061000Z
DTEND:20200125T071000Z
LOCATION:RCF East - Portland
CONTACT:
SUMMARY:FC Big Burrito TAFC  VS. Atletico Thundercats TAFC
DESCRIPTION:League Name: East Winter I AL - Coed D4 (TH/F)\nGame Type: Regu
 lar\nGame Status: Complete\nHome Team: FC Big Burrito TAFC \nAway Team: At
 letico Thundercats TAFC\nHome Score: 8\nAway Score: 10
END:VEVENT
BEGIN:VEVENT
UID:12789338@ezleagues.ezfacility.com
DTSTAMP:20260423T221916Z
CREATED:20260423T221916Z
DTSTART:20200201T045000Z
DTEND:20200201T055000Z
LOCATION:RCF East - Barcelona
CONTACT:
SUMMARY:Atletico Thundercats TAFC VS. Ichi-gos
DESCRIPTION:League Name: East Winter I AL - Coed D4 (TH/F)\nGame Type: Regu
 lar\nGame Status: Complete\nHome Team: Atletico Thundercats TAFC\nAway Tea
 m: Ichi-gos\nHome Score: 1\nAway Score: 4
END:VEVENT
BEGIN:VEVENT
UID:12789266@ezleagues.ezfacility.com
DTSTAMP:20260423T221916Z
CREATED:20260423T221916Z
DTSTART:20200208T031000Z
DTEND:20200208T041000Z
LOCATION:RCF East - Portland
CONTACT:
SUMMARY:Atletico Thundercats TAFC VS. FC Big Burrito TAFC 
DESCRIPTION:League Name: East Winter I AL - Coed D4 (TH/F)\nGame Type: Regu
 lar\nGame Status: Complete\nHome Team: Atletico Thundercats TAFC\nAway Tea
 m: FC Big Burrito TAFC \nHome Score: 10\nAway Score: 3
END:VEVENT
END:VCALENDAR
