BEGIN:VCALENDAR
VERSION:2.0
PRODID:-//EZFacility.com, Inc.//EZL 2.5.5.28621
BEGIN:VEVENT
UID:12789228@ezleagues.ezfacility.com
DTSTAMP:20260424T000303Z
CREATED:20260424T000303Z
DTSTART:20191115T031000Z
DTEND:20191115T041000Z
LOCATION:RCF East - Portland
CONTACT:
SUMMARY:Albondigas VS. FC Big Burrito TAFC 
DESCRIPTION:League Name: East Winter I AL - Coed D4 (TH/F)\nGame Type: Regu
 lar\nGame Status: Complete\nHome Team: Albondigas\nAway Team: FC Big Burri
 to TAFC \nHome Score: 10\nAway Score: 8
END:VEVENT
BEGIN:VEVENT
UID:12789247@ezleagues.ezfacility.com
DTSTAMP:20260424T000303Z
CREATED:20260424T000303Z
DTSTART:20191123T051000Z
DTEND:20191123T061000Z
LOCATION:RCF East - Portland
CONTACT:
SUMMARY:The Ramblers VS. FC Big Burrito TAFC 
DESCRIPTION:League Name: East Winter I AL - Coed D4 (TH/F)\nGame Type: Regu
 lar\nGame Status: Complete\nHome Team: The Ramblers\nAway Team: FC Big Bur
 rito TAFC \nHome Score: 6\nAway Score: 5
END:VEVENT
BEGIN:VEVENT
UID:12789284@ezleagues.ezfacility.com
DTSTAMP:20260424T000303Z
CREATED:20260424T000303Z
DTSTART:20191206T031000Z
DTEND:20191206T041000Z
LOCATION:RCF East - Portland
CONTACT:
SUMMARY:FC Big Burrito TAFC  VS. Puffins FC
DESCRIPTION:League Name: East Winter I AL - Coed D4 (TH/F)\nGame Type: Regu
 lar\nGame Status: Complete\nHome Team: FC Big Burrito TAFC \nAway Team: Pu
 ffins FC\nHome Score: 6\nAway Score: 7
END:VEVENT
BEGIN:VEVENT
UID:12789301@ezleagues.ezfacility.com
DTSTAMP:20260424T000303Z
CREATED:20260424T000303Z
DTSTART:20191213T063000Z
DTEND:20191213T073000Z
LOCATION:RCF East - Rio
CONTACT:
SUMMARY:FC Big Burrito TAFC  VS. Ichi-gos
DESCRIPTION:League Name: East Winter I AL - Coed D4 (TH/F)\nGame Type: Regu
 lar\nGame Status: Complete\nHome Team: FC Big Burrito TAFC \nAway Team: Ic
 hi-gos\nHome Score: 3\nAway Score: 8
END:VEVENT
BEGIN:VEVENT
UID:12789318@ezleagues.ezfacility.com
DTSTAMP:20260424T000303Z
CREATED:20260424T000303Z
DTSTART:20191220T043000Z
DTEND:20191220T053000Z
LOCATION:RCF East - Rio
CONTACT:
SUMMARY:FC Big Burrito TAFC  VS. Albondigas
DESCRIPTION:League Name: East Winter I AL - Coed D4 (TH/F)\nGame Type: Regu
 lar\nGame Status: Complete\nHome Team: FC Big Burrito TAFC \nAway Team: Al
 bondigas\nHome Score: 7\nAway Score: 11
END:VEVENT
BEGIN:VEVENT
UID:12789374@ezleagues.ezfacility.com
DTSTAMP:20260424T000303Z
CREATED:20260424T000303Z
DTSTART:20200110T053000Z
DTEND:20200110T063000Z
LOCATION:RCF East - Rio
CONTACT:
SUMMARY:Puffins FC VS. FC Big Burrito TAFC 
DESCRIPTION:League Name: East Winter I AL - Coed D4 (TH/F)\nGame Type: Regu
 lar\nGame Status: Complete\nHome Team: Puffins FC\nAway Team: FC Big Burri
 to TAFC \nHome Score: 8\nAway Score: 6
END:VEVENT
BEGIN:VEVENT
UID:12789391@ezleagues.ezfacility.com
DTSTAMP:20260424T000303Z
CREATED:20260424T000303Z
DTSTART:20200117T035000Z
DTEND:20200117T045000Z
LOCATION:RCF East - Barcelona
CONTACT:
SUMMARY:Ichi-gos VS. FC Big Burrito TAFC 
DESCRIPTION:League Name: East Winter I AL - Coed D4 (TH/F)\nGame Type: Regu
 lar\nGame Status: Complete\nHome Team: Ichi-gos\nAway Team: FC Big Burrito
  TAFC \nHome Score: 8\nAway Score: 1
END:VEVENT
BEGIN:VEVENT
UID:12789356@ezleagues.ezfacility.com
DTSTAMP:20260424T000303Z
CREATED:20260424T000303Z
DTSTART:20200125T061000Z
DTEND:20200125T071000Z
LOCATION:RCF East - Portland
CONTACT:
SUMMARY:FC Big Burrito TAFC  VS. Atletico Thundercats TAFC
DESCRIPTION:League Name: East Winter I AL - Coed D4 (TH/F)\nGame Type: Regu
 lar\nGame Status: Complete\nHome Team: FC Big Burrito TAFC \nAway Team: At
 letico Thundercats TAFC\nHome Score: 8\nAway Score: 10
END:VEVENT
BEGIN:VEVENT
UID:12789337@ezleagues.ezfacility.com
DTSTAMP:20260424T000303Z
CREATED:20260424T000303Z
DTSTART:20200131T023000Z
DTEND:20200131T033000Z
LOCATION:RCF East - Rio
CONTACT:
SUMMARY:FC Big Burrito TAFC  VS. The Ramblers
DESCRIPTION:League Name: East Winter I AL - Coed D4 (TH/F)\nGame Type: Regu
 lar\nGame Status: Complete\nHome Team: FC Big Burrito TAFC \nAway Team: Th
 e Ramblers\nHome Score: 7\nAway Score: 2
END:VEVENT
BEGIN:VEVENT
UID:12789266@ezleagues.ezfacility.com
DTSTAMP:20260424T000303Z
CREATED:20260424T000303Z
DTSTART:20200208T031000Z
DTEND:20200208T041000Z
LOCATION:RCF East - Portland
CONTACT:
SUMMARY:Atletico Thundercats TAFC VS. FC Big Burrito TAFC 
DESCRIPTION:League Name: East Winter I AL - Coed D4 (TH/F)\nGame Type: Regu
 lar\nGame Status: Complete\nHome Team: Atletico Thundercats TAFC\nAway Tea
 m: FC Big Burrito TAFC \nHome Score: 10\nAway Score: 3
END:VEVENT
END:VCALENDAR
