BEGIN:VCALENDAR
VERSION:2.0
PRODID:-//EZFacility.com, Inc.//EZL 2.5.5.28621
BEGIN:VEVENT
UID:12789229@ezleagues.ezfacility.com
DTSTAMP:20260423T180244Z
CREATED:20260423T180244Z
DTSTART:20191115T035000Z
DTEND:20191115T045000Z
LOCATION:RCF East - Barcelona
CONTACT:
SUMMARY:Puffins FC VS. Atletico Thundercats TAFC
DESCRIPTION:League Name: East Winter I AL - Coed D4 (TH/F)\nGame Type: Regu
 lar\nGame Status: Complete\nHome Team: Puffins FC\nAway Team: Atletico Thu
 ndercats TAFC\nHome Score: 7\nAway Score: 8
END:VEVENT
BEGIN:VEVENT
UID:12789246@ezleagues.ezfacility.com
DTSTAMP:20260423T180244Z
CREATED:20260423T180244Z
DTSTART:20191122T061000Z
DTEND:20191122T071000Z
LOCATION:RCF East - Portland
CONTACT:
SUMMARY:Albondigas VS. Puffins FC
DESCRIPTION:League Name: East Winter I AL - Coed D4 (TH/F)\nGame Type: Regu
 lar\nGame Status: Complete\nHome Team: Albondigas\nAway Team: Puffins FC\n
 Home Score: 5\nAway Score: 8
END:VEVENT
BEGIN:VEVENT
UID:12789284@ezleagues.ezfacility.com
DTSTAMP:20260423T180244Z
CREATED:20260423T180244Z
DTSTART:20191206T031000Z
DTEND:20191206T041000Z
LOCATION:RCF East - Portland
CONTACT:
SUMMARY:FC Big Burrito TAFC  VS. Puffins FC
DESCRIPTION:League Name: East Winter I AL - Coed D4 (TH/F)\nGame Type: Regu
 lar\nGame Status: Complete\nHome Team: FC Big Burrito TAFC \nAway Team: Pu
 ffins FC\nHome Score: 6\nAway Score: 7
END:VEVENT
BEGIN:VEVENT
UID:12789302@ezleagues.ezfacility.com
DTSTAMP:20260423T180244Z
CREATED:20260423T180244Z
DTSTART:20191214T033000Z
DTEND:20191214T043000Z
LOCATION:RCF East - Rio
CONTACT:
SUMMARY:Puffins FC VS. The Ramblers
DESCRIPTION:League Name: East Winter I AL - Coed D4 (TH/F)\nGame Type: Regu
 lar\nGame Status: Complete\nHome Team: Puffins FC\nAway Team: The Ramblers
 \nHome Score: 5\nAway Score: 6
END:VEVENT
BEGIN:VEVENT
UID:12789319@ezleagues.ezfacility.com
DTSTAMP:20260423T180244Z
CREATED:20260423T180244Z
DTSTART:20191220T063000Z
DTEND:20191220T073000Z
LOCATION:RCF East - Rio
CONTACT:
SUMMARY:Atletico Thundercats TAFC VS. Puffins FC
DESCRIPTION:League Name: East Winter I AL - Coed D4 (TH/F)\nGame Type: Regu
 lar\nGame Status: Complete\nHome Team: Atletico Thundercats TAFC\nAway Tea
 m: Puffins FC\nHome Score: 4\nAway Score: 5
END:VEVENT
BEGIN:VEVENT
UID:12789374@ezleagues.ezfacility.com
DTSTAMP:20260423T180244Z
CREATED:20260423T180244Z
DTSTART:20200110T053000Z
DTEND:20200110T063000Z
LOCATION:RCF East - Rio
CONTACT:
SUMMARY:Puffins FC VS. FC Big Burrito TAFC 
DESCRIPTION:League Name: East Winter I AL - Coed D4 (TH/F)\nGame Type: Regu
 lar\nGame Status: Complete\nHome Team: Puffins FC\nAway Team: FC Big Burri
 to TAFC \nHome Score: 8\nAway Score: 6
END:VEVENT
BEGIN:VEVENT
UID:12789392@ezleagues.ezfacility.com
DTSTAMP:20260423T180244Z
CREATED:20260423T180244Z
DTSTART:20200117T063000Z
DTEND:20200117T073000Z
LOCATION:RCF East - Rio
CONTACT:
SUMMARY:The Ramblers VS. Puffins FC
DESCRIPTION:League Name: East Winter I AL - Coed D4 (TH/F)\nGame Type: Regu
 lar\nGame Status: Complete\nHome Team: The Ramblers\nAway Team: Puffins FC
 \nHome Score: 3\nAway Score: 9
END:VEVENT
BEGIN:VEVENT
UID:12789355@ezleagues.ezfacility.com
DTSTAMP:20260423T180244Z
CREATED:20260423T180244Z
DTSTART:20200124T063000Z
DTEND:20200124T073000Z
LOCATION:RCF East - Rio
CONTACT:
SUMMARY:Puffins FC VS. Ichi-gos
DESCRIPTION:League Name: East Winter I AL - Coed D4 (TH/F)\nGame Type: Regu
 lar\nGame Status: Complete\nHome Team: Puffins FC\nAway Team: Ichi-gos\nHo
 me Score: 4\nAway Score: 8
END:VEVENT
BEGIN:VEVENT
UID:12789336@ezleagues.ezfacility.com
DTSTAMP:20260423T180244Z
CREATED:20260423T180244Z
DTSTART:20200201T061000Z
DTEND:20200201T071000Z
LOCATION:RCF East - Portland
CONTACT:
SUMMARY:Puffins FC VS. Albondigas
DESCRIPTION:League Name: East Winter I AL - Coed D4 (TH/F)\nGame Type: Regu
 lar\nGame Status: Complete\nHome Team: Puffins FC\nAway Team: Albondigas\n
 Home Score: 7\nAway Score: 11
END:VEVENT
BEGIN:VEVENT
UID:12789265@ezleagues.ezfacility.com
DTSTAMP:20260423T180244Z
CREATED:20260423T180244Z
DTSTART:20200207T043000Z
DTEND:20200207T053000Z
LOCATION:RCF East - Rio
CONTACT:
SUMMARY:Ichi-gos VS. Puffins FC
DESCRIPTION:League Name: East Winter I AL - Coed D4 (TH/F)\nGame Type: Regu
 lar\nGame Status: Complete\nHome Team: Ichi-gos\nAway Team: Puffins FC\nHo
 me Score: 6\nAway Score: 3
END:VEVENT
END:VCALENDAR
