BEGIN:VCALENDAR
VERSION:2.0
PRODID:-//EZFacility.com, Inc.//EZL 2.5.5.28621
BEGIN:VEVENT
UID:12788436@ezleagues.ezfacility.com
DTSTAMP:20260422T000520Z
CREATED:20260422T000520Z
DTSTART:20191116T051000Z
DTEND:20191116T061000Z
LOCATION:RCF East - Portland
CONTACT:
SUMMARY:The Pink Panthers  VS. Metroids
DESCRIPTION:League Name: East Winter I AL - Coed D5 Silver (W/F)\nGame Type
 : Regular\nGame Status: Complete\nHome Team: The Pink Panthers \nAway Team
 : Metroids\nHome Score: 5\nAway Score: 5
END:VEVENT
BEGIN:VEVENT
UID:12788454@ezleagues.ezfacility.com
DTSTAMP:20260422T000520Z
CREATED:20260422T000520Z
DTSTART:20191123T055000Z
DTEND:20191123T065000Z
LOCATION:RCF East - Barcelona
CONTACT:
SUMMARY:Metroids VS. Vision Zero Goals TAFC
DESCRIPTION:League Name: East Winter I AL - Coed D5 Silver (W/F)\nGame Type
 : Regular\nGame Status: Complete\nHome Team: Metroids\nAway Team: Vision Z
 ero Goals TAFC\nHome Score: 4\nAway Score: 9
END:VEVENT
BEGIN:VEVENT
UID:12788489@ezleagues.ezfacility.com
DTSTAMP:20260422T000520Z
CREATED:20260422T000520Z
DTSTART:20191205T025000Z
DTEND:20191205T035000Z
LOCATION:RCF East - Barcelona
CONTACT:
SUMMARY:My Futsal Infected VS. Metroids
DESCRIPTION:League Name: East Winter I AL - Coed D5 Silver (W/F)\nGame Type
 : Regular\nGame Status: Complete\nHome Team: My Futsal Infected\nAway Team
 : Metroids\nHome Score: 9\nAway Score: 3
END:VEVENT
BEGIN:VEVENT
UID:12788505@ezleagues.ezfacility.com
DTSTAMP:20260422T000520Z
CREATED:20260422T000520Z
DTSTART:20191212T055000Z
DTEND:20191212T065000Z
LOCATION:RCF East - Barcelona
CONTACT:
SUMMARY:Those Guys  VS. Metroids
DESCRIPTION:League Name: East Winter I AL - Coed D5 Silver (W/F)\nGame Type
 : Regular\nGame Status: Complete\nHome Team: Those Guys \nAway Team: Metro
 ids\nHome Score: 4\nAway Score: 7
END:VEVENT
BEGIN:VEVENT
UID:12788521@ezleagues.ezfacility.com
DTSTAMP:20260422T000520Z
CREATED:20260422T000520Z
DTSTART:20191219T041000Z
DTEND:20191219T051000Z
LOCATION:RCF East - Portland
CONTACT:
SUMMARY:The Uniballerz  VS. Metroids
DESCRIPTION:League Name: East Winter I AL - Coed D5 Silver (W/F)\nGame Type
 : Regular\nGame Status: Complete\nHome Team: The Uniballerz \nAway Team: M
 etroids\nHome Score: 7\nAway Score: 2
END:VEVENT
BEGIN:VEVENT
UID:12788573@ezleagues.ezfacility.com
DTSTAMP:20260422T000520Z
CREATED:20260422T000520Z
DTSTART:20200109T025000Z
DTEND:20200109T035000Z
LOCATION:RCF East - Barcelona
CONTACT:
SUMMARY:Metroids VS. Vision Zero Goals TAFC
DESCRIPTION:League Name: East Winter I AL - Coed D5 Silver (W/F)\nGame Type
 : Regular\nGame Status: Complete\nHome Team: Metroids\nAway Team: Vision Z
 ero Goals TAFC\nHome Score: 3\nAway Score: 5
END:VEVENT
BEGIN:VEVENT
UID:12788591@ezleagues.ezfacility.com
DTSTAMP:20260422T000520Z
CREATED:20260422T000520Z
DTSTART:20200116T051000Z
DTEND:20200116T061000Z
LOCATION:RCF East - Portland
CONTACT:
SUMMARY:Metroids VS. Puzzles
DESCRIPTION:League Name: East Winter I AL - Coed D5 Silver (W/F)\nGame Type
 : Regular\nGame Status: Complete\nHome Team: Metroids\nAway Team: Puzzles\
 nHome Score: 8\nAway Score: 4
END:VEVENT
BEGIN:VEVENT
UID:12788555@ezleagues.ezfacility.com
DTSTAMP:20260422T000520Z
CREATED:20260422T000520Z
DTSTART:20200123T025000Z
DTEND:20200123T035000Z
LOCATION:RCF East - Barcelona
CONTACT:
SUMMARY:Metroids VS. The Pink Panthers 
DESCRIPTION:League Name: East Winter I AL - Coed D5 Silver (W/F)\nGame Type
 : Regular\nGame Status: Complete\nHome Team: Metroids\nAway Team: The Pink
  Panthers \nHome Score: 6\nAway Score: 9
END:VEVENT
BEGIN:VEVENT
UID:12788537@ezleagues.ezfacility.com
DTSTAMP:20260422T000520Z
CREATED:20260422T000520Z
DTSTART:20200130T061000Z
DTEND:20200130T071000Z
LOCATION:RCF East - Portland
CONTACT:
SUMMARY:Metroids VS. Balls + Dolls 
DESCRIPTION:League Name: East Winter I AL - Coed D5 Silver (W/F)\nGame Type
 : Regular\nGame Status: Complete\nHome Team: Metroids\nAway Team: Balls + 
 Dolls \nHome Score: 3\nAway Score: 7
END:VEVENT
BEGIN:VEVENT
UID:12788472@ezleagues.ezfacility.com
DTSTAMP:20260422T000520Z
CREATED:20260422T000520Z
DTSTART:20200206T041000Z
DTEND:20200206T051000Z
LOCATION:RCF East - Portland
CONTACT:
SUMMARY:Puzzles VS. Metroids
DESCRIPTION:League Name: East Winter I AL - Coed D5 Silver (W/F)\nGame Type
 : Regular\nGame Status: Complete\nHome Team: Puzzles\nAway Team: Metroids\
 nHome Score: 9\nAway Score: 3
END:VEVENT
END:VCALENDAR
