BEGIN:VCALENDAR
VERSION:2.0
PRODID:-//EZFacility.com, Inc.//EZL 2.5.5.28621
BEGIN:VEVENT
UID:12789243@ezleagues.ezfacility.com
DTSTAMP:20260424T044230Z
CREATED:20260424T044230Z
DTSTART:20191116T045000Z
DTEND:20191116T055000Z
LOCATION:RCF East - Barcelona
CONTACT:
SUMMARY:Nutcrackers VS. Backheel Boys
DESCRIPTION:League Name: East Winter I AL - Men's D5 Silver (TH/F)\nGame Ty
 pe: Regular\nGame Status: Complete\nHome Team: Nutcrackers\nAway Team: Bac
 kheel Boys\nHome Score: 3\nAway Score: 7
END:VEVENT
BEGIN:VEVENT
UID:12789262@ezleagues.ezfacility.com
DTSTAMP:20260424T044230Z
CREATED:20260424T044230Z
DTSTART:20191122T041000Z
DTEND:20191122T051000Z
LOCATION:RCF East - Portland
CONTACT:
SUMMARY:Backheel Boys VS. Willibecher Pints
DESCRIPTION:League Name: East Winter I AL - Men's D5 Silver (TH/F)\nGame Ty
 pe: Regular\nGame Status: Complete\nHome Team: Backheel Boys\nAway Team: W
 illibecher Pints\nHome Score: 9\nAway Score: 2
END:VEVENT
BEGIN:VEVENT
UID:12789299@ezleagues.ezfacility.com
DTSTAMP:20260424T044230Z
CREATED:20260424T044230Z
DTSTART:20191206T053000Z
DTEND:20191206T063000Z
LOCATION:RCF East - Rio
CONTACT:
SUMMARY:Torn ACL's VS. Backheel Boys
DESCRIPTION:League Name: East Winter I AL - Men's D5 Silver (TH/F)\nGame Ty
 pe: Regular\nGame Status: Complete\nHome Team: Torn ACL's\nAway Team: Back
 heel Boys\nHome Score: 7\nAway Score: 5
END:VEVENT
BEGIN:VEVENT
UID:12789316@ezleagues.ezfacility.com
DTSTAMP:20260424T044230Z
CREATED:20260424T044230Z
DTSTART:20191213T041000Z
DTEND:20191213T051000Z
LOCATION:RCF East - Portland
CONTACT:
SUMMARY:Surf Ninjas VS. Backheel Boys
DESCRIPTION:League Name: East Winter I AL - Men's D5 Silver (TH/F)\nGame Ty
 pe: Regular\nGame Status: Complete\nHome Team: Surf Ninjas\nAway Team: Bac
 kheel Boys\nHome Score: 7\nAway Score: 8
END:VEVENT
BEGIN:VEVENT
UID:12789333@ezleagues.ezfacility.com
DTSTAMP:20260424T044230Z
CREATED:20260424T044230Z
DTSTART:20191220T025000Z
DTEND:20191220T035000Z
LOCATION:RCF East - Barcelona
CONTACT:
SUMMARY:Overlook FC VS. Backheel Boys
DESCRIPTION:League Name: East Winter I AL - Men's D5 Silver (TH/F)\nGame Ty
 pe: Regular\nGame Status: Complete\nHome Team: Overlook FC\nAway Team: Bac
 kheel Boys\nHome Score: 10\nAway Score: 3
END:VEVENT
BEGIN:VEVENT
UID:12789388@ezleagues.ezfacility.com
DTSTAMP:20260424T044230Z
CREATED:20260424T044230Z
DTSTART:20200110T061000Z
DTEND:20200110T071000Z
LOCATION:RCF East - Portland
CONTACT:
SUMMARY:Backheel Boys VS. Willibecher Pints
DESCRIPTION:League Name: East Winter I AL - Men's D5 Silver (TH/F)\nGame Ty
 pe: Regular\nGame Status: Complete\nHome Team: Backheel Boys\nAway Team: W
 illibecher Pints\nHome Score: 3\nAway Score: 4
END:VEVENT
BEGIN:VEVENT
UID:12789407@ezleagues.ezfacility.com
DTSTAMP:20260424T044230Z
CREATED:20260424T044230Z
DTSTART:20200117T061000Z
DTEND:20200117T071000Z
LOCATION:RCF East - Portland
CONTACT:
SUMMARY:Backheel Boys VS. Clinton City Wanderers
DESCRIPTION:League Name: East Winter I AL - Men's D5 Silver (TH/F)\nGame Ty
 pe: Regular\nGame Status: Complete\nHome Team: Backheel Boys\nAway Team: C
 linton City Wanderers\nHome Score: 4\nAway Score: 7
END:VEVENT
BEGIN:VEVENT
UID:12789369@ezleagues.ezfacility.com
DTSTAMP:20260424T044230Z
CREATED:20260424T044230Z
DTSTART:20200124T025000Z
DTEND:20200124T035000Z
LOCATION:RCF East - Barcelona
CONTACT:
SUMMARY:Backheel Boys VS. Nutcrackers
DESCRIPTION:League Name: East Winter I AL - Men's D5 Silver (TH/F)\nGame Ty
 pe: Regular\nGame Status: Complete\nHome Team: Backheel Boys\nAway Team: N
 utcrackers\nHome Score: 3\nAway Score: 7
END:VEVENT
BEGIN:VEVENT
UID:12789350@ezleagues.ezfacility.com
DTSTAMP:20260424T044230Z
CREATED:20260424T044230Z
DTSTART:20200201T055000Z
DTEND:20200201T065000Z
LOCATION:RCF East - Barcelona
CONTACT:
SUMMARY:Backheel Boys VS. OMBDC
DESCRIPTION:League Name: East Winter I AL - Men's D5 Silver (TH/F)\nGame Ty
 pe: Regular\nGame Status: Complete\nHome Team: Backheel Boys\nAway Team: O
 MBDC\nHome Score: 8\nAway Score: 10
END:VEVENT
BEGIN:VEVENT
UID:12789281@ezleagues.ezfacility.com
DTSTAMP:20260424T044230Z
CREATED:20260424T044230Z
DTSTART:20200207T061000Z
DTEND:20200207T071000Z
LOCATION:RCF East - Portland
CONTACT:
SUMMARY:Clinton City Wanderers VS. Backheel Boys
DESCRIPTION:League Name: East Winter I AL - Men's D5 Silver (TH/F)\nGame Ty
 pe: Regular\nGame Status: Complete\nHome Team: Clinton City Wanderers\nAwa
 y Team: Backheel Boys\nHome Score: 4\nAway Score: 5
END:VEVENT
END:VCALENDAR
