BEGIN:VCALENDAR
VERSION:2.0
PRODID:-//EZFacility.com, Inc.//EZL 2.5.5.28621
BEGIN:VEVENT
UID:12789244@ezleagues.ezfacility.com
DTSTAMP:20260426T033655Z
CREATED:20260426T033655Z
DTSTART:20191115T033000Z
DTEND:20191115T043000Z
LOCATION:RCF East - Rio
CONTACT:
SUMMARY:Surf Ninjas VS. Clinton City Wanderers
DESCRIPTION:League Name: East Winter I AL - Men's D5 Silver (TH/F)\nGame Ty
 pe: Regular\nGame Status: Complete\nHome Team: Surf Ninjas\nAway Team: Cli
 nton City Wanderers\nHome Score: 2\nAway Score: 9
END:VEVENT
BEGIN:VEVENT
UID:12789263@ezleagues.ezfacility.com
DTSTAMP:20260426T033655Z
CREATED:20260426T033655Z
DTSTART:20191122T031000Z
DTEND:20191122T041000Z
LOCATION:RCF East - Portland
CONTACT:
SUMMARY:Overlook FC VS. Clinton City Wanderers
DESCRIPTION:League Name: East Winter I AL - Men's D5 Silver (TH/F)\nGame Ty
 pe: Regular\nGame Status: Complete\nHome Team: Overlook FC\nAway Team: Cli
 nton City Wanderers\nHome Score: 7\nAway Score: 4
END:VEVENT
BEGIN:VEVENT
UID:12789298@ezleagues.ezfacility.com
DTSTAMP:20260426T033655Z
CREATED:20260426T033655Z
DTSTART:20191206T065000Z
DTEND:20191206T075000Z
LOCATION:RCF East - Barcelona
CONTACT:
SUMMARY:Nutcrackers VS. Clinton City Wanderers
DESCRIPTION:League Name: East Winter I AL - Men's D5 Silver (TH/F)\nGame Ty
 pe: Regular\nGame Status: Complete\nHome Team: Nutcrackers\nAway Team: Cli
 nton City Wanderers\nHome Score: 8\nAway Score: 7
END:VEVENT
BEGIN:VEVENT
UID:12789315@ezleagues.ezfacility.com
DTSTAMP:20260426T033655Z
CREATED:20260426T033655Z
DTSTART:20191214T053000Z
DTEND:20191214T063000Z
LOCATION:RCF East - Rio
CONTACT:
SUMMARY:Willibecher Pints VS. Clinton City Wanderers
DESCRIPTION:League Name: East Winter I AL - Men's D5 Silver (TH/F)\nGame Ty
 pe: Regular\nGame Status: Complete\nHome Team: Willibecher Pints\nAway Tea
 m: Clinton City Wanderers\nHome Score: 3\nAway Score: 4
END:VEVENT
BEGIN:VEVENT
UID:12789332@ezleagues.ezfacility.com
DTSTAMP:20260426T033655Z
CREATED:20260426T033655Z
DTSTART:20191220T035000Z
DTEND:20191220T045000Z
LOCATION:RCF East - Barcelona
CONTACT:
SUMMARY:Clinton City Wanderers VS. OMBDC
DESCRIPTION:League Name: East Winter I AL - Men's D5 Silver (TH/F)\nGame Ty
 pe: Regular\nGame Status: Complete\nHome Team: Clinton City Wanderers\nAwa
 y Team: OMBDC\nHome Score: 5\nAway Score: 10
END:VEVENT
BEGIN:VEVENT
UID:12789389@ezleagues.ezfacility.com
DTSTAMP:20260426T033655Z
CREATED:20260426T033655Z
DTSTART:20200110T063000Z
DTEND:20200110T073000Z
LOCATION:RCF East - Rio
CONTACT:
SUMMARY:Clinton City Wanderers VS. Overlook FC
DESCRIPTION:League Name: East Winter I AL - Men's D5 Silver (TH/F)\nGame Ty
 pe: Regular\nGame Status: Complete\nHome Team: Clinton City Wanderers\nAwa
 y Team: Overlook FC\nHome Score: 10\nAway Score: 3
END:VEVENT
BEGIN:VEVENT
UID:12789407@ezleagues.ezfacility.com
DTSTAMP:20260426T033655Z
CREATED:20260426T033655Z
DTSTART:20200117T061000Z
DTEND:20200117T071000Z
LOCATION:RCF East - Portland
CONTACT:
SUMMARY:Backheel Boys VS. Clinton City Wanderers
DESCRIPTION:League Name: East Winter I AL - Men's D5 Silver (TH/F)\nGame Ty
 pe: Regular\nGame Status: Complete\nHome Team: Backheel Boys\nAway Team: C
 linton City Wanderers\nHome Score: 4\nAway Score: 7
END:VEVENT
BEGIN:VEVENT
UID:12789370@ezleagues.ezfacility.com
DTSTAMP:20260426T033655Z
CREATED:20260426T033655Z
DTSTART:20200124T031000Z
DTEND:20200124T041000Z
LOCATION:RCF East - Portland
CONTACT:
SUMMARY:Clinton City Wanderers VS. Surf Ninjas
DESCRIPTION:League Name: East Winter I AL - Men's D5 Silver (TH/F)\nGame Ty
 pe: Regular\nGame Status: Complete\nHome Team: Clinton City Wanderers\nAwa
 y Team: Surf Ninjas\nHome Score: 9\nAway Score: 5
END:VEVENT
BEGIN:VEVENT
UID:12789351@ezleagues.ezfacility.com
DTSTAMP:20260426T033655Z
CREATED:20260426T033655Z
DTSTART:20200201T051000Z
DTEND:20200201T061000Z
LOCATION:RCF East - Portland
CONTACT:
SUMMARY:Clinton City Wanderers VS. Torn ACL's
DESCRIPTION:League Name: East Winter I AL - Men's D5 Silver (TH/F)\nGame Ty
 pe: Regular\nGame Status: Complete\nHome Team: Clinton City Wanderers\nAwa
 y Team: Torn ACL's\nHome Score: 6\nAway Score: 5
END:VEVENT
BEGIN:VEVENT
UID:12789281@ezleagues.ezfacility.com
DTSTAMP:20260426T033655Z
CREATED:20260426T033655Z
DTSTART:20200207T061000Z
DTEND:20200207T071000Z
LOCATION:RCF East - Portland
CONTACT:
SUMMARY:Clinton City Wanderers VS. Backheel Boys
DESCRIPTION:League Name: East Winter I AL - Men's D5 Silver (TH/F)\nGame Ty
 pe: Regular\nGame Status: Complete\nHome Team: Clinton City Wanderers\nAwa
 y Team: Backheel Boys\nHome Score: 4\nAway Score: 5
END:VEVENT
END:VCALENDAR
