BEGIN:VCALENDAR
VERSION:2.0
PRODID:-//EZFacility.com, Inc.//EZL 2.5.5.28621
BEGIN:VEVENT
UID:12794609@ezleagues.ezfacility.com
DTSTAMP:20260426T033509Z
CREATED:20260426T033509Z
DTSTART:20191116T023000Z
DTEND:20191116T033000Z
LOCATION:RCF East - Rio
CONTACT:
SUMMARY:No Ice VS. Girlz From Da Hood
DESCRIPTION:League Name: East Winter I AL - Women's D4 (T/F)\nGame Type: Re
 gular\nGame Status: Complete\nHome Team: No Ice\nAway Team: Girlz From Da 
 Hood\nHome Score: 5\nAway Score: 1
END:VEVENT
BEGIN:VEVENT
UID:12794624@ezleagues.ezfacility.com
DTSTAMP:20260426T033509Z
CREATED:20260426T033509Z
DTSTART:20191120T035000Z
DTEND:20191120T045000Z
LOCATION:RCF East - Barcelona
CONTACT:
SUMMARY:Futsycats VS. No Ice
DESCRIPTION:League Name: East Winter I AL - Women's D4 (T/F)\nGame Type: Re
 gular\nGame Status: Complete\nHome Team: Futsycats\nAway Team: No Ice\nHom
 e Score: 4\nAway Score: 6
END:VEVENT
BEGIN:VEVENT
UID:12794658@ezleagues.ezfacility.com
DTSTAMP:20260426T033509Z
CREATED:20260426T033509Z
DTSTART:20191207T025000Z
DTEND:20191207T035000Z
LOCATION:RCF East - Barcelona
CONTACT:
SUMMARY:No Ice VS. Las Espinas
DESCRIPTION:League Name: East Winter I AL - Women's D4 (T/F)\nGame Type: Re
 gular\nGame Status: Complete\nHome Team: No Ice\nAway Team: Las Espinas\nH
 ome Score: 5\nAway Score: 4
END:VEVENT
BEGIN:VEVENT
UID:12794675@ezleagues.ezfacility.com
DTSTAMP:20260426T033509Z
CREATED:20260426T033509Z
DTSTART:20191214T030000Z
DTEND:20191214T035000Z
LOCATION:RCF East - Barcelona
CONTACT:
SUMMARY:No Ice VS. Hell Cat Maggies 
DESCRIPTION:League Name: East Winter I AL - Women's D4 (T/F)\nGame Type: Re
 gular\nGame Status: Complete\nHome Team: No Ice\nAway Team: Hell Cat Maggi
 es \nHome Score: 7\nAway Score: 1
END:VEVENT
BEGIN:VEVENT
UID:12794691@ezleagues.ezfacility.com
DTSTAMP:20260426T033509Z
CREATED:20260426T033509Z
DTSTART:20191218T051000Z
DTEND:20191218T061000Z
LOCATION:RCF East - Portland
CONTACT:
SUMMARY:The Fossils VS. No Ice
DESCRIPTION:League Name: East Winter I AL - Women's D4 (T/F)\nGame Type: Re
 gular\nGame Status: Complete\nHome Team: The Fossils\nAway Team: No Ice\nH
 ome Score: 9\nAway Score: 2
END:VEVENT
BEGIN:VEVENT
UID:12794736@ezleagues.ezfacility.com
DTSTAMP:20260426T033509Z
CREATED:20260426T033509Z
DTSTART:20200108T051000Z
DTEND:20200108T061000Z
LOCATION:RCF East - Portland
CONTACT:
SUMMARY:No Ice VS. Futsycats
DESCRIPTION:League Name: East Winter I AL - Women's D4 (T/F)\nGame Type: Re
 gular\nGame Status: Complete\nHome Team: No Ice\nAway Team: Futsycats\nHom
 e Score: 8\nAway Score: 1
END:VEVENT
BEGIN:VEVENT
UID:12794753@ezleagues.ezfacility.com
DTSTAMP:20260426T033509Z
CREATED:20260426T033509Z
DTSTART:20200115T025000Z
DTEND:20200115T035000Z
LOCATION:RCF East - Barcelona
CONTACT:
SUMMARY:No Ice VS. Women's Farm Club 
DESCRIPTION:League Name: East Winter I AL - Women's D4 (T/F)\nGame Type: Re
 gular\nGame Status: Complete\nHome Team: No Ice\nAway Team: Women's Farm C
 lub \nHome Score: 4\nAway Score: 3
END:VEVENT
BEGIN:VEVENT
UID:12794721@ezleagues.ezfacility.com
DTSTAMP:20260426T033509Z
CREATED:20260426T033509Z
DTSTART:20200122T031000Z
DTEND:20200122T041000Z
LOCATION:RCF East - Portland
CONTACT:
SUMMARY:Girlz From Da Hood VS. No Ice
DESCRIPTION:League Name: East Winter I AL - Women's D4 (T/F)\nGame Type: Re
 gular\nGame Status: Complete\nHome Team: Girlz From Da Hood\nAway Team: No
  Ice\nHome Score: 4\nAway Score: 3
END:VEVENT
BEGIN:VEVENT
UID:12794706@ezleagues.ezfacility.com
DTSTAMP:20260426T033509Z
CREATED:20260426T033509Z
DTSTART:20200129T031000Z
DTEND:20200129T041000Z
LOCATION:RCF East - Portland
CONTACT:
SUMMARY:The Bad Mamas VS. No Ice
DESCRIPTION:League Name: East Winter I AL - Women's D4 (T/F)\nGame Type: Re
 gular\nGame Status: Complete\nHome Team: The Bad Mamas\nAway Team: No Ice\
 nHome Score: 3\nAway Score: 7
END:VEVENT
BEGIN:VEVENT
UID:12794641@ezleagues.ezfacility.com
DTSTAMP:20260426T033509Z
CREATED:20260426T033509Z
DTSTART:20200205T061000Z
DTEND:20200205T071000Z
LOCATION:RCF East - Portland
CONTACT:
SUMMARY:Women's Farm Club  VS. No Ice
DESCRIPTION:League Name: East Winter I AL - Women's D4 (T/F)\nGame Type: Re
 gular\nGame Status: Complete\nHome Team: Women's Farm Club \nAway Team: No
  Ice\nHome Score: 5\nAway Score: 3
END:VEVENT
END:VCALENDAR
