BEGIN:VCALENDAR
VERSION:2.0
PRODID:-//EZFacility.com, Inc.//EZL 2.5.5.28621
BEGIN:VEVENT
UID:12864123@ezleagues.ezfacility.com
DTSTAMP:20260423T215452Z
CREATED:20260423T215452Z
DTSTART:20191110T120000Z
DTEND:20191110T125500Z
LOCATION:PFFC Field House Half Field AB
CONTACT:
SUMMARY:Erin Mills Green VS. Islington Rangers
DESCRIPTION:League Name: GU12 - Target - East\nGame Type: Regular\nGame Sta
 tus: Pending\nHome Team: Erin Mills Green\nAway Team: Islington Rangers\n
END:VEVENT
BEGIN:VEVENT
UID:12864156@ezleagues.ezfacility.com
DTSTAMP:20260423T215452Z
CREATED:20260423T215452Z
DTSTART:20191117T132500Z
DTEND:20191117T142000Z
LOCATION:PFFC Dome - Half Field #1
CONTACT:
SUMMARY:Islington Rangers VS. OSC Black
DESCRIPTION:League Name: GU12 - Target - East\nGame Type: Regular\nGame Sta
 tus: Pending\nHome Team: Islington Rangers\nAway Team: OSC Black\n
END:VEVENT
BEGIN:VEVENT
UID:12864195@ezleagues.ezfacility.com
DTSTAMP:20260423T215452Z
CREATED:20260423T215452Z
DTSTART:20191124T164000Z
DTEND:20191124T173500Z
LOCATION:PFFC Dome - Half Field #2
CONTACT:
SUMMARY:Dixie White   VS. Islington Rangers
DESCRIPTION:League Name: GU12 - Target - East\nGame Type: Regular\nGame Sta
 tus: Pending\nHome Team: Dixie White  \nAway Team: Islington Rangers\n
END:VEVENT
BEGIN:VEVENT
UID:12810679@ezleagues.ezfacility.com
DTSTAMP:20260423T215452Z
CREATED:20260423T215452Z
DTSTART:20191201T120000Z
DTEND:20191201T125500Z
LOCATION:PFFC Dome - Half Field #2
CONTACT:
SUMMARY:Woodbridge Strikers VS. Islington Rangers
DESCRIPTION:League Name: GU12 - Target - East\nGame Type: Regular\nGame Sta
 tus: Pending\nHome Team: Woodbridge Strikers\nAway Team: Islington Rangers
 \n
END:VEVENT
BEGIN:VEVENT
UID:12810710@ezleagues.ezfacility.com
DTSTAMP:20260423T215452Z
CREATED:20260423T215452Z
DTSTART:20191208T154000Z
DTEND:20191208T163500Z
LOCATION:PFFC Field House Half Field CD
CONTACT:
SUMMARY:Dixie White   VS. Islington Rangers
DESCRIPTION:League Name: GU12 - Target - East\nGame Type: Regular\nGame Sta
 tus: Pending\nHome Team: Dixie White  \nAway Team: Islington Rangers\n
END:VEVENT
BEGIN:VEVENT
UID:12810695@ezleagues.ezfacility.com
DTSTAMP:20260423T215452Z
CREATED:20260423T215452Z
DTSTART:20191215T231000Z
DTEND:20191216T000500Z
LOCATION:PFFC Dome - Half Field #2
CONTACT:
SUMMARY:Islington Rangers VS. Erin Mills Green
DESCRIPTION:League Name: GU12 - Target - East\nGame Type: Regular\nGame Sta
 tus: Pending\nHome Team: Islington Rangers\nAway Team: Erin Mills Green\n
END:VEVENT
BEGIN:VEVENT
UID:12810703@ezleagues.ezfacility.com
DTSTAMP:20260423T215452Z
CREATED:20260423T215452Z
DTSTART:20191222T144500Z
DTEND:20191222T154000Z
LOCATION:PFFC Dome - Half Field #2
CONTACT:
SUMMARY:OSC Black VS. Islington Rangers
DESCRIPTION:League Name: GU12 - Target - East\nGame Type: Regular\nGame Sta
 tus: Pending\nHome Team: OSC Black\nAway Team: Islington Rangers\n
END:VEVENT
BEGIN:VEVENT
UID:12810716@ezleagues.ezfacility.com
DTSTAMP:20260423T215452Z
CREATED:20260423T215452Z
DTSTART:20200105T183000Z
DTEND:20200105T192500Z
LOCATION:PFFC Dome - Half Field #1
CONTACT:
SUMMARY:Islington Rangers VS. Storm FC
DESCRIPTION:League Name: GU12 - Target - East\nGame Type: Regular\nGame Sta
 tus: Pending\nHome Team: Islington Rangers\nAway Team: Storm FC\n
END:VEVENT
BEGIN:VEVENT
UID:12810722@ezleagues.ezfacility.com
DTSTAMP:20260423T215452Z
CREATED:20260423T215452Z
DTSTART:20200112T173500Z
DTEND:20200112T183000Z
LOCATION:PFFC Dome - Half Field #2
CONTACT:
SUMMARY:Erin Mills Black VS. Islington Rangers
DESCRIPTION:League Name: GU12 - Target - East\nGame Type: Regular\nGame Sta
 tus: Pending\nHome Team: Erin Mills Black\nAway Team: Islington Rangers\n
END:VEVENT
BEGIN:VEVENT
UID:12810728@ezleagues.ezfacility.com
DTSTAMP:20260423T215452Z
CREATED:20260423T215452Z
DTSTART:20200119T192500Z
DTEND:20200119T202000Z
LOCATION:PFFC Field House Half Field AB
CONTACT:
SUMMARY:Islington Rangers VS. Guelph Jr. Gryphons Red  
DESCRIPTION:League Name: GU12 - Target - East\nGame Type: Regular\nGame Sta
 tus: Pending\nHome Team: Islington Rangers\nAway Team: Guelph Jr. Gryphons
  Red  \n
END:VEVENT
BEGIN:VEVENT
UID:12810781@ezleagues.ezfacility.com
DTSTAMP:20260423T215452Z
CREATED:20260423T215452Z
DTSTART:20200202T151500Z
DTEND:20200202T161000Z
LOCATION:PFFC Dome - Half Field #1
CONTACT:
SUMMARY:Islington Rangers VS. Burlington Bayhawks BL  
DESCRIPTION:League Name: GU12 - Target - East\nGame Type: Regular\nGame Sta
 tus: Pending\nHome Team: Islington Rangers\nAway Team: Burlington Bayhawks
  BL  \n
END:VEVENT
BEGIN:VEVENT
UID:12810746@ezleagues.ezfacility.com
DTSTAMP:20260423T215452Z
CREATED:20260423T215452Z
DTSTART:20200209T135000Z
DTEND:20200209T144500Z
LOCATION:PFFC Field House Half Field CD
CONTACT:
SUMMARY:Islington Rangers VS. Brampton SC 2008 Red
DESCRIPTION:League Name: GU12 - Target - East\nGame Type: Regular\nGame Sta
 tus: Pending\nHome Team: Islington Rangers\nAway Team: Brampton SC 2008 Re
 d\n
END:VEVENT
BEGIN:VEVENT
UID:12810754@ezleagues.ezfacility.com
DTSTAMP:20260423T215452Z
CREATED:20260423T215452Z
DTSTART:20200216T125500Z
DTEND:20200216T135000Z
LOCATION:PFFC Field House Half Field CD
CONTACT:
SUMMARY:Etobicoke Energy Green   VS. Islington Rangers
DESCRIPTION:League Name: GU12 - Target - East\nGame Type: Regular\nGame Sta
 tus: Pending\nHome Team: Etobicoke Energy Green  \nAway Team: Islington Ra
 ngers\n
END:VEVENT
BEGIN:VEVENT
UID:12810762@ezleagues.ezfacility.com
DTSTAMP:20260423T215452Z
CREATED:20260423T215452Z
DTSTART:20200223T144500Z
DTEND:20200223T154000Z
LOCATION:PFFC Field House Half Field CD
CONTACT:
SUMMARY:Islington Rangers VS. Burlington Bayhawks BL  
DESCRIPTION:League Name: GU12 - Target - East\nGame Type: Regular\nGame Sta
 tus: Pending\nHome Team: Islington Rangers\nAway Team: Burlington Bayhawks
  BL  \n
END:VEVENT
BEGIN:VEVENT
UID:12810770@ezleagues.ezfacility.com
DTSTAMP:20260423T215452Z
CREATED:20260423T215452Z
DTSTART:20200301T164000Z
DTEND:20200301T173500Z
LOCATION:PFFC Field House Half Field CD
CONTACT:
SUMMARY:Woodbridge Strikers VS. Islington Rangers
DESCRIPTION:League Name: GU12 - Target - East\nGame Type: Regular\nGame Sta
 tus: Pending\nHome Team: Woodbridge Strikers\nAway Team: Islington Rangers
 \n
END:VEVENT
BEGIN:VEVENT
UID:12864093@ezleagues.ezfacility.com
DTSTAMP:20260423T215452Z
CREATED:20260423T215452Z
DTSTART:20200308T115500Z
DTEND:20200308T125000Z
LOCATION:PFFC Dome - Half Field #1
CONTACT:
SUMMARY:North Mississauga Black VS. Islington Rangers
DESCRIPTION:League Name: GU12 - Target - East\nGame Type: Regular\nGame Sta
 tus: Pending\nHome Team: North Mississauga Black\nAway Team: Islington Ran
 gers\n
END:VEVENT
END:VCALENDAR
