BEGIN:VCALENDAR
VERSION:2.0
PRODID:-//EZFacility.com, Inc.//EZL 2.5.5.28621
BEGIN:VEVENT
UID:12864086@ezleagues.ezfacility.com
DTSTAMP:20260423T234406Z
CREATED:20260423T234406Z
DTSTART:20191027T202000Z
DTEND:20191027T211500Z
LOCATION:PFFC Dome - Half Field #2
CONTACT:
SUMMARY:Burlington Bayhawks BL   VS. Erin Mills Black
DESCRIPTION:League Name: GU12 - Target - East\nGame Type: Regular\nGame Sta
 tus: Pending\nHome Team: Burlington Bayhawks BL  \nAway Team: Erin Mills B
 lack\n
END:VEVENT
BEGIN:VEVENT
UID:12864126@ezleagues.ezfacility.com
DTSTAMP:20260423T234406Z
CREATED:20260423T234406Z
DTSTART:20191110T132500Z
DTEND:20191110T142000Z
LOCATION:PFFC Dome - Half Field #1
CONTACT:
SUMMARY:OSC Red VS. Erin Mills Black
DESCRIPTION:League Name: GU12 - Target - East\nGame Type: Regular\nGame Sta
 tus: Pending\nHome Team: OSC Red\nAway Team: Erin Mills Black\n
END:VEVENT
BEGIN:VEVENT
UID:12864159@ezleagues.ezfacility.com
DTSTAMP:20260423T234406Z
CREATED:20260423T234406Z
DTSTART:20191117T164000Z
DTEND:20191117T173500Z
LOCATION:PFFC Dome - Half Field #2
CONTACT:
SUMMARY:Erin Mills Black VS. Etobicoke Energy Green  
DESCRIPTION:League Name: GU12 - Target - East\nGame Type: Regular\nGame Sta
 tus: Pending\nHome Team: Erin Mills Black\nAway Team: Etobicoke Energy Gre
 en  \n
END:VEVENT
BEGIN:VEVENT
UID:12864192@ezleagues.ezfacility.com
DTSTAMP:20260423T234406Z
CREATED:20260423T234406Z
DTSTART:20191124T151500Z
DTEND:20191124T161000Z
LOCATION:PFFC Dome - Half Field #1
CONTACT:
SUMMARY:Erin Mills Black VS. Woodbridge Strikers
DESCRIPTION:League Name: GU12 - Target - East\nGame Type: Regular\nGame Sta
 tus: Rescheduled\nHome Team: Erin Mills Black\nAway Team: Woodbridge Strik
 ers\n
END:VEVENT
BEGIN:VEVENT
UID:12810678@ezleagues.ezfacility.com
DTSTAMP:20260423T234406Z
CREATED:20260423T234406Z
DTSTART:20191201T120000Z
DTEND:20191201T125500Z
LOCATION:PFFC Field House Half Field AB
CONTACT:
SUMMARY:Dixie White   VS. Erin Mills Black
DESCRIPTION:League Name: GU12 - Target - East\nGame Type: Regular\nGame Sta
 tus: Pending\nHome Team: Dixie White  \nAway Team: Erin Mills Black\n
END:VEVENT
BEGIN:VEVENT
UID:12810690@ezleagues.ezfacility.com
DTSTAMP:20260423T234406Z
CREATED:20260423T234406Z
DTSTART:20191215T144500Z
DTEND:20191215T154000Z
LOCATION:PFFC Field House Half Field AB
CONTACT:
SUMMARY:Erin Mills Black VS. Brampton SC 2008 Red
DESCRIPTION:League Name: GU12 - Target - East\nGame Type: Regular\nGame Sta
 tus: Pending\nHome Team: Erin Mills Black\nAway Team: Brampton SC 2008 Red
 \n
END:VEVENT
BEGIN:VEVENT
UID:12810698@ezleagues.ezfacility.com
DTSTAMP:20260423T234406Z
CREATED:20260423T234406Z
DTSTART:20191222T154000Z
DTEND:20191222T163500Z
LOCATION:PFFC Field House Half Field CD
CONTACT:
SUMMARY:Guelph Jr. Gryphons Red   VS. Erin Mills Black
DESCRIPTION:League Name: GU12 - Target - East\nGame Type: Regular\nGame Sta
 tus: Pending\nHome Team: Guelph Jr. Gryphons Red  \nAway Team: Erin Mills 
 Black\n
END:VEVENT
BEGIN:VEVENT
UID:12810714@ezleagues.ezfacility.com
DTSTAMP:20260423T234406Z
CREATED:20260423T234406Z
DTSTART:20200105T154000Z
DTEND:20200105T163500Z
LOCATION:PFFC Dome - Half Field #1
CONTACT:
SUMMARY:North Mississauga Black VS. Erin Mills Black
DESCRIPTION:League Name: GU12 - Target - East\nGame Type: Regular\nGame Sta
 tus: Pending\nHome Team: North Mississauga Black\nAway Team: Erin Mills Bl
 ack\n
END:VEVENT
BEGIN:VEVENT
UID:12810722@ezleagues.ezfacility.com
DTSTAMP:20260423T234406Z
CREATED:20260423T234406Z
DTSTART:20200112T173500Z
DTEND:20200112T183000Z
LOCATION:PFFC Dome - Half Field #2
CONTACT:
SUMMARY:Erin Mills Black VS. Islington Rangers
DESCRIPTION:League Name: GU12 - Target - East\nGame Type: Regular\nGame Sta
 tus: Pending\nHome Team: Erin Mills Black\nAway Team: Islington Rangers\n
END:VEVENT
BEGIN:VEVENT
UID:12810730@ezleagues.ezfacility.com
DTSTAMP:20260423T234406Z
CREATED:20260423T234406Z
DTSTART:20200119T192500Z
DTEND:20200119T202000Z
LOCATION:PFFC Field House Half Field CD
CONTACT:
SUMMARY:Etobicoke Energy Green   VS. Erin Mills Black
DESCRIPTION:League Name: GU12 - Target - East\nGame Type: Regular\nGame Sta
 tus: Pending\nHome Team: Etobicoke Energy Green  \nAway Team: Erin Mills B
 lack\n
END:VEVENT
BEGIN:VEVENT
UID:12810738@ezleagues.ezfacility.com
DTSTAMP:20260423T234406Z
CREATED:20260423T234406Z
DTSTART:20200126T202000Z
DTEND:20200126T211500Z
LOCATION:PFFC Field House Half Field AB
CONTACT:
SUMMARY:Erin Mills Black VS. Burlington Bayhawks BL  
DESCRIPTION:League Name: GU12 - Target - East\nGame Type: Regular\nGame Sta
 tus: Pending\nHome Team: Erin Mills Black\nAway Team: Burlington Bayhawks 
 BL  \n
END:VEVENT
BEGIN:VEVENT
UID:12810751@ezleagues.ezfacility.com
DTSTAMP:20260423T234406Z
CREATED:20260423T234406Z
DTSTART:20200209T125500Z
DTEND:20200209T135000Z
LOCATION:PFFC Field House Half Field CD
CONTACT:
SUMMARY:OSC Red VS. Erin Mills Black
DESCRIPTION:League Name: GU12 - Target - East\nGame Type: Regular\nGame Sta
 tus: Pending\nHome Team: OSC Red\nAway Team: Erin Mills Black\n
END:VEVENT
BEGIN:VEVENT
UID:13158510@ezleagues.ezfacility.com
DTSTAMP:20260423T234406Z
CREATED:20260423T234406Z
DTSTART:20200216T125500Z
DTEND:20200216T135000Z
LOCATION:PFFC Dome - Half Field #2
CONTACT:
SUMMARY:Erin Mills Black VS. Erin Mills Green
DESCRIPTION:League Name: GU12 - Target - East\nGame Type: Regular\nGame Sta
 tus: Pending\nHome Team: Erin Mills Black\nAway Team: Erin Mills Green\n
END:VEVENT
BEGIN:VEVENT
UID:12810763@ezleagues.ezfacility.com
DTSTAMP:20260423T234406Z
CREATED:20260423T234406Z
DTSTART:20200223T135000Z
DTEND:20200223T144500Z
LOCATION:PFFC Field House Half Field CD
CONTACT:
SUMMARY:OSC Black VS. Erin Mills Black
DESCRIPTION:League Name: GU12 - Target - East\nGame Type: Regular\nGame Sta
 tus: Pending\nHome Team: OSC Black\nAway Team: Erin Mills Black\n
END:VEVENT
BEGIN:VEVENT
UID:12810769@ezleagues.ezfacility.com
DTSTAMP:20260423T234406Z
CREATED:20260423T234406Z
DTSTART:20200301T164000Z
DTEND:20200301T173500Z
LOCATION:PFFC Field House Half Field AB
CONTACT:
SUMMARY:Erin Mills Black VS. Dixie White  
DESCRIPTION:League Name: GU12 - Target - East\nGame Type: Regular\nGame Sta
 tus: Pending\nHome Team: Erin Mills Black\nAway Team: Dixie White  \n
END:VEVENT
END:VCALENDAR
