BEGIN:VCALENDAR
VERSION:2.0
PRODID:-//EZFacility.com, Inc.//EZL 2.5.5.28621
BEGIN:VEVENT
UID:12812138@ezleagues.ezfacility.com
DTSTAMP:20260421T045037Z
CREATED:20260421T045037Z
DTSTART:20191109T140000Z
DTEND:20191109T144200Z
LOCATION:Field #3
CONTACT:
SUMMARY:EASA U14 Girls VS. Stinky Cleats
DESCRIPTION:League Name: 2019/2020 Soccer Session I Girls U14 (2006/2007)\n
 Game Type: Regular\nGame Status: Complete\nHome Team: EASA U14 Girls\nAway
  Team: Stinky Cleats\nHome Score: 3\nAway Score: 0
END:VEVENT
BEGIN:VEVENT
UID:12820043@ezleagues.ezfacility.com
DTSTAMP:20260421T045037Z
CREATED:20260421T045037Z
DTSTART:20191116T140000Z
DTEND:20191116T144200Z
LOCATION:Field #2
CONTACT:Maric 
SUMMARY:EASA U14 Girls VS. Junior Irish 2008 Premier
DESCRIPTION:League Name: 2019/2020 Soccer Session I Girls U14 (2006/2007)\n
 Game Type: Regular\nGame Status: Complete\nHome Team: EASA U14 Girls\nAway
  Team: Junior Irish 2008 Premier\nHome Score: 9\nAway Score: 2
END:VEVENT
BEGIN:VEVENT
UID:12820616@ezleagues.ezfacility.com
DTSTAMP:20260421T045037Z
CREATED:20260421T045037Z
DTSTART:20191116T153000Z
DTEND:20191116T161200Z
LOCATION:Field #3
CONTACT:
SUMMARY:EASA U14 Girls VS. PSC Lady Warriors
DESCRIPTION:League Name: 2019/2020 Soccer Session I Girls U14 (2006/2007)\n
 Game Type: Regular\nGame Status: Complete\nHome Team: EASA U14 Girls\nAway
  Team: PSC Lady Warriors\nHome Score: 8\nAway Score: 1
END:VEVENT
BEGIN:VEVENT
UID:12812132@ezleagues.ezfacility.com
DTSTAMP:20260421T045037Z
CREATED:20260421T045037Z
DTSTART:20191123T144500Z
DTEND:20191123T152700Z
LOCATION:Field #2
CONTACT:
SUMMARY:EASA U14 Girls VS. PSC Lady Warriors
DESCRIPTION:League Name: 2019/2020 Soccer Session I Girls U14 (2006/2007)\n
 Game Type: Regular\nGame Status: Complete\nHome Team: EASA U14 Girls\nAway
  Team: PSC Lady Warriors\nHome Score: 10\nAway Score: 1
END:VEVENT
BEGIN:VEVENT
UID:12820617@ezleagues.ezfacility.com
DTSTAMP:20260421T045037Z
CREATED:20260421T045037Z
DTSTART:20191123T153000Z
DTEND:20191123T161200Z
LOCATION:Field #3
CONTACT:
SUMMARY:EASA U12 Girls VS. EASA U14 Girls
DESCRIPTION:League Name: 2019/2020 Soccer Session I Girls U14 (2006/2007)\n
 Game Type: Regular\nGame Status: Complete\nHome Team: EASA U12 Girls\nAway
  Team: EASA U14 Girls\nHome Score: 3\nAway Score: 20
END:VEVENT
BEGIN:VEVENT
UID:12812133@ezleagues.ezfacility.com
DTSTAMP:20260421T045037Z
CREATED:20260421T045037Z
DTSTART:20191130T144500Z
DTEND:20191130T152700Z
LOCATION:Field #2
CONTACT:
SUMMARY:EASA U14 Girls VS. NWI Lions U14
DESCRIPTION:League Name: 2019/2020 Soccer Session I Girls U14 (2006/2007)\n
 Game Type: Regular\nGame Status: Complete\nHome Team: EASA U14 Girls\nAway
  Team: NWI Lions U14\nHome Score: 9\nAway Score: 2
END:VEVENT
BEGIN:VEVENT
UID:12820620@ezleagues.ezfacility.com
DTSTAMP:20260421T045037Z
CREATED:20260421T045037Z
DTSTART:20191221T153000Z
DTEND:20191221T161200Z
LOCATION:Field #3
CONTACT:Maric (Mirko)
SUMMARY:Revolution VS. EASA U14 Girls
DESCRIPTION:League Name: 2019/2020 Soccer Session I Girls U14 (2006/2007)\n
 Game Type: Regular\nGame Status: Complete\nHome Team: Revolution\nAway Tea
 m: EASA U14 Girls\nHome Score: 0\nAway Score: 10
END:VEVENT
BEGIN:VEVENT
UID:12812145@ezleagues.ezfacility.com
DTSTAMP:20260421T045037Z
CREATED:20260421T045037Z
DTSTART:20200104T140000Z
DTEND:20200104T144200Z
LOCATION:Field #3
CONTACT:Stamper
SUMMARY:NWI Lions U14 VS. EASA U14 Girls
DESCRIPTION:League Name: 2019/2020 Soccer Session I Girls U14 (2006/2007)\n
 Game Type: Regular\nGame Status: Complete\nHome Team: NWI Lions U14\nAway 
 Team: EASA U14 Girls\nHome Score: 6\nAway Score: 6
END:VEVENT
END:VCALENDAR
