BEGIN:VCALENDAR
VERSION:2.0
PRODID:-//EZFacility.com, Inc.//EZL 2.5.5.28621
BEGIN:VEVENT
UID:12825612@ezleagues.ezfacility.com
DTSTAMP:20260426T033839Z
CREATED:20260426T033839Z
DTSTART:20191123T184000Z
DTEND:20191123T193500Z
LOCATION:Soccer - Full Field
CONTACT:
SUMMARY:Palatine Showcase VS. Campton United 2008
DESCRIPTION:League Name: YISL 2020 U13 BOYS FF 11V11\nGame Type: Regular\nG
 ame Status: Complete\nHome Team: Palatine Showcase\nAway Team: Campton Uni
 ted 2008\nHome Score: 6\nAway Score: 1
END:VEVENT
BEGIN:VEVENT
UID:12839338@ezleagues.ezfacility.com
DTSTAMP:20260426T033839Z
CREATED:20260426T033839Z
DTSTART:20191207T174500Z
DTEND:20191207T183500Z
LOCATION:Soccer - Full Field
CONTACT:
SUMMARY:FC 1974 Elite  VS. Palatine Showcase
DESCRIPTION:League Name: YISL 2020 U13 BOYS FF 11V11\nGame Type: Regular\nG
 ame Status: Complete\nHome Team: FC 1974 Elite \nAway Team: Palatine Showc
 ase\nHome Score: 5\nAway Score: 0
END:VEVENT
BEGIN:VEVENT
UID:12825656@ezleagues.ezfacility.com
DTSTAMP:20260426T033839Z
CREATED:20260426T033839Z
DTSTART:20191214T184000Z
DTEND:20191214T193500Z
LOCATION:Soccer - Full Field
CONTACT:
SUMMARY:AUSC Select VS. Palatine Showcase
DESCRIPTION:League Name: YISL 2020 U13 BOYS FF 11V11\nGame Type: Regular\nG
 ame Status: Complete\nHome Team: AUSC Select\nAway Team: Palatine Showcase
 \nHome Score: 5\nAway Score: 1
END:VEVENT
BEGIN:VEVENT
UID:12825871@ezleagues.ezfacility.com
DTSTAMP:20260426T033839Z
CREATED:20260426T033839Z
DTSTART:20200104T192000Z
DTEND:20200104T201500Z
LOCATION:Soccer - Full Field
CONTACT:
SUMMARY:Palatine Showcase VS. AUSC Select
DESCRIPTION:League Name: YISL 2020 U13 BOYS FF 11V11\nGame Type: Regular\nG
 ame Status: Complete\nHome Team: Palatine Showcase\nAway Team: AUSC Select
 \nHome Score: 0\nAway Score: 4
END:VEVENT
BEGIN:VEVENT
UID:12825699@ezleagues.ezfacility.com
DTSTAMP:20260426T033839Z
CREATED:20260426T033839Z
DTSTART:20200118T204500Z
DTEND:20200118T214000Z
LOCATION:Soccer - Full Field
CONTACT:
SUMMARY:Campton United 2007 VS. Palatine Showcase
DESCRIPTION:League Name: YISL 2020 U13 BOYS FF 11V11\nGame Type: Regular\nG
 ame Status: Complete\nHome Team: Campton United 2007\nAway Team: Palatine 
 Showcase\nHome Score: 1\nAway Score: 1
END:VEVENT
BEGIN:VEVENT
UID:12825783@ezleagues.ezfacility.com
DTSTAMP:20260426T033839Z
CREATED:20260426T033839Z
DTSTART:20200208T233000Z
DTEND:20200209T002500Z
LOCATION:Soccer - Full Field
CONTACT:
SUMMARY:Palatine Showcase VS. FC 1974 Elite 
DESCRIPTION:League Name: YISL 2020 U13 BOYS FF 11V11\nGame Type: Regular\nG
 ame Status: Complete\nHome Team: Palatine Showcase\nAway Team: FC 1974 Eli
 te \nHome Score: 1\nAway Score: 8
END:VEVENT
BEGIN:VEVENT
UID:12825827@ezleagues.ezfacility.com
DTSTAMP:20260426T033839Z
CREATED:20260426T033839Z
DTSTART:20200222T214000Z
DTEND:20200222T223500Z
LOCATION:Soccer - Full Field
CONTACT:
SUMMARY:Campton United 2008 VS. Palatine Showcase
DESCRIPTION:League Name: YISL 2020 U13 BOYS FF 11V11\nGame Type: Regular\nG
 ame Status: Complete\nHome Team: Campton United 2008\nAway Team: Palatine 
 Showcase\nHome Score: 0\nAway Score: 1
END:VEVENT
BEGIN:VEVENT
UID:12825914@ezleagues.ezfacility.com
DTSTAMP:20260426T033839Z
CREATED:20260426T033839Z
DTSTART:20200307T195000Z
DTEND:20200307T204500Z
LOCATION:Soccer - Full Field
CONTACT:
SUMMARY:Palatine Showcase VS. Campton United 2007
DESCRIPTION:League Name: YISL 2020 U13 BOYS FF 11V11\nGame Type: Regular\nG
 ame Status: Complete\nHome Team: Palatine Showcase\nAway Team: Campton Uni
 ted 2007\nHome Score: 0\nAway Score: 3
END:VEVENT
END:VCALENDAR
