BEGIN:VCALENDAR
VERSION:2.0
PRODID:-//EZFacility.com, Inc.//EZL 2.5.5.28621
BEGIN:VEVENT
UID:12847086@ezleagues.ezfacility.com
DTSTAMP:20260422T070248Z
CREATED:20260422T070248Z
DTSTART:20191214T231500Z
DTEND:20191214T235800Z
LOCATION:Field 2
CONTACT:
SUMMARY:WC Lions Academy SC U9 Boys VS. Wheaton Wings 2010 Boys Yellow
DESCRIPTION:League Name: Travel Soccer-Boys 2010 C\nGame Type: Regular\nGam
 e Status: Complete\nHome Team: WC Lions Academy SC U9 Boys\nAway Team: Whe
 aton Wings 2010 Boys Yellow\nHome Score: 0\nAway Score: 0
END:VEVENT
BEGIN:VEVENT
UID:12847091@ezleagues.ezfacility.com
DTSTAMP:20260422T070248Z
CREATED:20260422T070248Z
DTSTART:20191221T223000Z
DTEND:20191221T231300Z
LOCATION:Field 2
CONTACT:
SUMMARY:Wheaton Wings 2010 Boys Yellow VS. Galaxy B2010 White
DESCRIPTION:League Name: Travel Soccer-Boys 2010 C\nGame Type: Regular\nGam
 e Status: Complete\nHome Team: Wheaton Wings 2010 Boys Yellow\nAway Team: 
 Galaxy B2010 White\nHome Score: 3\nAway Score: 1
END:VEVENT
BEGIN:VEVENT
UID:12847102@ezleagues.ezfacility.com
DTSTAMP:20260422T070248Z
CREATED:20260422T070248Z
DTSTART:20200105T000000Z
DTEND:20200105T004300Z
LOCATION:Field 2
CONTACT:
SUMMARY:Wheaton Wings 2010 Boys Yellow VS. South Side Elite 2011 Boys
DESCRIPTION:League Name: Travel Soccer-Boys 2010 C\nGame Type: Regular\nGam
 e Status: Complete\nHome Team: Wheaton Wings 2010 Boys Yellow\nAway Team: 
 South Side Elite 2011 Boys\nHome Score: 3\nAway Score: 1
END:VEVENT
BEGIN:VEVENT
UID:12847114@ezleagues.ezfacility.com
DTSTAMP:20260422T070248Z
CREATED:20260422T070248Z
DTSTART:20200118T201500Z
DTEND:20200118T205800Z
LOCATION:Field 2
CONTACT:
SUMMARY:Wheaton Wings 2010 Boys White VS. Wheaton Wings 2010 Boys Yellow
DESCRIPTION:League Name: Travel Soccer-Boys 2010 C\nGame Type: Regular\nGam
 e Status: Complete\nHome Team: Wheaton Wings 2010 Boys White\nAway Team: W
 heaton Wings 2010 Boys Yellow\nHome Score: 0\nAway Score: 5
END:VEVENT
BEGIN:VEVENT
UID:12847121@ezleagues.ezfacility.com
DTSTAMP:20260422T070248Z
CREATED:20260422T070248Z
DTSTART:20200125T214500Z
DTEND:20200125T222800Z
LOCATION:Field 2
CONTACT:
SUMMARY:Wheaton Wings 2010 Boys Yellow VS. Sockers FC B2010/11
DESCRIPTION:League Name: Travel Soccer-Boys 2010 C\nGame Type: Regular\nGam
 e Status: Complete\nHome Team: Wheaton Wings 2010 Boys Yellow\nAway Team: 
 Sockers FC B2010/11\nHome Score: 2\nAway Score: 0
END:VEVENT
BEGIN:VEVENT
UID:12847128@ezleagues.ezfacility.com
DTSTAMP:20260422T070248Z
CREATED:20260422T070248Z
DTSTART:20200201T231500Z
DTEND:20200201T235800Z
LOCATION:Field 2
CONTACT:
SUMMARY:Chicago Rush B2010 Premier VS. Wheaton Wings 2010 Boys Yellow
DESCRIPTION:League Name: Travel Soccer-Boys 2010 C\nGame Type: Regular\nGam
 e Status: Complete\nHome Team: Chicago Rush B2010 Premier\nAway Team: Whea
 ton Wings 2010 Boys Yellow\nHome Score: 6\nAway Score: 7
END:VEVENT
BEGIN:VEVENT
UID:12847130@ezleagues.ezfacility.com
DTSTAMP:20260422T070248Z
CREATED:20260422T070248Z
DTSTART:20200208T223000Z
DTEND:20200208T231300Z
LOCATION:Field 2
CONTACT:
SUMMARY:Wheaton Wings 2010 Boys Yellow VS. Roadrunners SC B2010/11 Black
DESCRIPTION:League Name: Travel Soccer-Boys 2010 C\nGame Type: Regular\nGam
 e Status: Complete\nHome Team: Wheaton Wings 2010 Boys Yellow\nAway Team: 
 Roadrunners SC B2010/11 Black\nHome Score: 6\nAway Score: 1
END:VEVENT
BEGIN:VEVENT
UID:12847096@ezleagues.ezfacility.com
DTSTAMP:20260422T070248Z
CREATED:20260422T070248Z
DTSTART:20200222T210000Z
DTEND:20200222T214300Z
LOCATION:Field 2
CONTACT:
SUMMARY:Elmhurst FC BU10 VS. Wheaton Wings 2010 Boys Yellow
DESCRIPTION:League Name: Travel Soccer-Boys 2010 C\nGame Type: Regular\nGam
 e Status: Complete\nHome Team: Elmhurst FC BU10\nAway Team: Wheaton Wings 
 2010 Boys Yellow\nHome Score: 0\nAway Score: 7
END:VEVENT
BEGIN:VEVENT
UID:12847107@ezleagues.ezfacility.com
DTSTAMP:20260422T070248Z
CREATED:20260422T070248Z
DTSTART:20200307T210000Z
DTEND:20200307T214300Z
LOCATION:Field 2
CONTACT:
SUMMARY:Wheaton Wings 2010 Boys Yellow VS. Campton United B2011 Pre DA Manc
 hester
DESCRIPTION:League Name: Travel Soccer-Boys 2010 C\nGame Type: Regular\nGam
 e Status: Complete\nHome Team: Wheaton Wings 2010 Boys Yellow\nAway Team: 
 Campton United B2011 Pre DA Manchester\nHome Score: 6\nAway Score: 4
END:VEVENT
BEGIN:VEVENT
UID:12847141@ezleagues.ezfacility.com
DTSTAMP:20260422T070248Z
CREATED:20260422T070248Z
DTSTART:20200314T221500Z
DTEND:20200314T225800Z
LOCATION:Field 2
CONTACT:
SUMMARY:WC RAMPAGE B2010 YELLOW VS. Wheaton Wings 2010 Boys Yellow
DESCRIPTION:League Name: Travel Soccer-Boys 2010 C\nGame Type: Regular\nGam
 e Status: Postponed\nHome Team: WC RAMPAGE B2010 YELLOW\nAway Team: Wheato
 n Wings 2010 Boys Yellow\n
END:VEVENT
END:VCALENDAR
