BEGIN:VCALENDAR
VERSION:2.0
PRODID:-//EZFacility.com, Inc.//EZL 2.5.5.28621
BEGIN:VEVENT
UID:12861516@ezleagues.ezfacility.com
DTSTAMP:20260422T225746Z
CREATED:20260422T225746Z
DTSTART:20191122T000000Z
DTEND:20191122T004800Z
LOCATION:Jessup Premier Field #2
CONTACT:
SUMMARY:Orange VS. Green
DESCRIPTION:League Name: FMSL Coed-Rec\nGame Type: Regular\nGame Status: Co
 mplete\nHome Team: Orange\nAway Team: Green\nHome Score: 0\nAway Score: 3
END:VEVENT
BEGIN:VEVENT
UID:12861519@ezleagues.ezfacility.com
DTSTAMP:20260422T225746Z
CREATED:20260422T225746Z
DTSTART:20191205T230000Z
DTEND:20191205T234800Z
LOCATION:Jessup Premier Field #2
CONTACT:
SUMMARY:Orange VS. White
DESCRIPTION:League Name: FMSL Coed-Rec\nGame Type: Regular\nGame Status: Co
 mplete\nHome Team: Orange\nAway Team: White\nHome Score: 3\nAway Score: 3
END:VEVENT
BEGIN:VEVENT
UID:12861522@ezleagues.ezfacility.com
DTSTAMP:20260422T225746Z
CREATED:20260422T225746Z
DTSTART:20191212T230000Z
DTEND:20191212T234800Z
LOCATION:Jessup Premier Field #2
CONTACT:
SUMMARY:Red VS. Orange
DESCRIPTION:League Name: FMSL Coed-Rec\nGame Type: Regular\nGame Status: Co
 mplete\nHome Team: Red\nAway Team: Orange\nHome Score: 4\nAway Score: 0
END:VEVENT
BEGIN:VEVENT
UID:12861527@ezleagues.ezfacility.com
DTSTAMP:20260422T225746Z
CREATED:20260422T225746Z
DTSTART:20191219T220000Z
DTEND:20191219T224800Z
LOCATION:Jessup Premier Field #2
CONTACT:
SUMMARY:Black VS. Orange
DESCRIPTION:League Name: FMSL Coed-Rec\nGame Type: Regular\nGame Status: Co
 mplete\nHome Team: Black\nAway Team: Orange\nHome Score: 4\nAway Score: 9
END:VEVENT
BEGIN:VEVENT
UID:12861532@ezleagues.ezfacility.com
DTSTAMP:20260422T225746Z
CREATED:20260422T225746Z
DTSTART:20200102T220000Z
DTEND:20200102T224800Z
LOCATION:Jessup Premier Field #1
CONTACT:
SUMMARY:Yellow VS. Orange
DESCRIPTION:League Name: FMSL Coed-Rec\nGame Type: Regular\nGame Status: Co
 mplete\nHome Team: Yellow\nAway Team: Orange\nHome Score: 4\nAway Score: 3
END:VEVENT
BEGIN:VEVENT
UID:12861537@ezleagues.ezfacility.com
DTSTAMP:20260422T225746Z
CREATED:20260422T225746Z
DTSTART:20200109T230000Z
DTEND:20200109T234800Z
LOCATION:Jessup Premier Field #1
CONTACT:
SUMMARY:Blue VS. Orange
DESCRIPTION:League Name: FMSL Coed-Rec\nGame Type: Regular\nGame Status: Co
 mplete\nHome Team: Blue\nAway Team: Orange\nHome Score: 5\nAway Score: 6
END:VEVENT
BEGIN:VEVENT
UID:12861541@ezleagues.ezfacility.com
DTSTAMP:20260422T225746Z
CREATED:20260422T225746Z
DTSTART:20200116T230000Z
DTEND:20200116T234800Z
LOCATION:Jessup Premier Field #2
CONTACT:
SUMMARY:Orange VS. Silver
DESCRIPTION:League Name: FMSL Coed-Rec\nGame Type: Regular\nGame Status: Co
 mplete\nHome Team: Orange\nAway Team: Silver\nHome Score: 6\nAway Score: 1
END:VEVENT
BEGIN:VEVENT
UID:12861544@ezleagues.ezfacility.com
DTSTAMP:20260422T225746Z
CREATED:20260422T225746Z
DTSTART:20200123T220000Z
DTEND:20200123T224800Z
LOCATION:Jessup Premier Field #1
CONTACT:
SUMMARY:Green VS. Orange
DESCRIPTION:League Name: FMSL Coed-Rec\nGame Type: Regular\nGame Status: Co
 mplete\nHome Team: Green\nAway Team: Orange\nHome Score: 7\nAway Score: 4
END:VEVENT
BEGIN:VEVENT
UID:12861547@ezleagues.ezfacility.com
DTSTAMP:20260422T225746Z
CREATED:20260422T225746Z
DTSTART:20200130T230000Z
DTEND:20200130T234800Z
LOCATION:Jessup Premier Field #2
CONTACT:
SUMMARY:White VS. Orange
DESCRIPTION:League Name: FMSL Coed-Rec\nGame Type: Regular\nGame Status: Co
 mplete\nHome Team: White\nAway Team: Orange\nHome Score: 5\nAway Score: 3
END:VEVENT
BEGIN:VEVENT
UID:12861550@ezleagues.ezfacility.com
DTSTAMP:20260422T225746Z
CREATED:20260422T225746Z
DTSTART:20200206T220000Z
DTEND:20200206T224800Z
LOCATION:Jessup Premier Field #1
CONTACT:
SUMMARY:Orange VS. Red
DESCRIPTION:League Name: FMSL Coed-Rec\nGame Type: Regular\nGame Status: Co
 mplete\nHome Team: Orange\nAway Team: Red\nHome Score: 1\nAway Score: 5
END:VEVENT
BEGIN:VEVENT
UID:12861555@ezleagues.ezfacility.com
DTSTAMP:20260422T225746Z
CREATED:20260422T225746Z
DTSTART:20200213T220000Z
DTEND:20200213T224800Z
LOCATION:Jessup Premier Field #2
CONTACT:
SUMMARY:Orange VS. Black
DESCRIPTION:League Name: FMSL Coed-Rec\nGame Type: Regular\nGame Status: Co
 mplete\nHome Team: Orange\nAway Team: Black\nHome Score: 4\nAway Score: 4
END:VEVENT
BEGIN:VEVENT
UID:12861560@ezleagues.ezfacility.com
DTSTAMP:20260422T225746Z
CREATED:20260422T225746Z
DTSTART:20200220T230000Z
DTEND:20200220T234800Z
LOCATION:Jessup Premier Field #2
CONTACT:
SUMMARY:Orange VS. Yellow
DESCRIPTION:League Name: FMSL Coed-Rec\nGame Type: Regular\nGame Status: Co
 mplete\nHome Team: Orange\nAway Team: Yellow\nHome Score: 3\nAway Score: 7
END:VEVENT
BEGIN:VEVENT
UID:12861565@ezleagues.ezfacility.com
DTSTAMP:20260422T225746Z
CREATED:20260422T225746Z
DTSTART:20200227T230000Z
DTEND:20200227T234800Z
LOCATION:Jessup Premier Field #1
CONTACT:
SUMMARY:Orange VS. Blue
DESCRIPTION:League Name: FMSL Coed-Rec\nGame Type: Regular\nGame Status: Co
 mplete\nHome Team: Orange\nAway Team: Blue\nHome Score: 3\nAway Score: 8
END:VEVENT
BEGIN:VEVENT
UID:12861569@ezleagues.ezfacility.com
DTSTAMP:20260422T225746Z
CREATED:20260422T225746Z
DTSTART:20200305T230000Z
DTEND:20200305T234800Z
LOCATION:Jessup Premier Field #2
CONTACT:
SUMMARY:Silver VS. Orange
DESCRIPTION:League Name: FMSL Coed-Rec\nGame Type: Regular\nGame Status: Co
 mplete\nHome Team: Silver\nAway Team: Orange\nHome Score: 3\nAway Score: 6
END:VEVENT
BEGIN:VEVENT
UID:13164472@ezleagues.ezfacility.com
DTSTAMP:20260422T225746Z
CREATED:20260422T225746Z
DTSTART:20200312T220000Z
DTEND:20200312T224800Z
LOCATION:Jessup Premier Field #2
CONTACT:
SUMMARY:Orange VS. Silver
DESCRIPTION:League Name: FMSL Coed-Rec\nGame Type: Regular\nGame Status: Co
 mplete\nHome Team: Orange\nAway Team: Silver\nHome Score: 0\nAway Score: 3
END:VEVENT
END:VCALENDAR
