BEGIN:VCALENDAR
VERSION:2.0
PRODID:-//EZFacility.com, Inc.//EZL 2.5.5.28621
BEGIN:VEVENT
UID:12848697@ezleagues.ezfacility.com
DTSTAMP:20260426T033627Z
CREATED:20260426T033627Z
DTSTART:20191201T221500Z
DTEND:20191201T225800Z
LOCATION:Field 1
CONTACT:
SUMMARY:Galaxy G09 Blue VS. Sockers FC 2008 Girls
DESCRIPTION:League Name: Travel Soccer-Girls 2008\nGame Type: Regular\nGame
  Status: Complete\nHome Team: Galaxy G09 Blue\nAway Team: Sockers FC 2008 
 Girls\nHome Score: 0\nAway Score: 3
END:VEVENT
BEGIN:VEVENT
UID:12848630@ezleagues.ezfacility.com
DTSTAMP:20260426T033627Z
CREATED:20260426T033627Z
DTSTART:20191208T221500Z
DTEND:20191208T225800Z
LOCATION:Field 1
CONTACT:
SUMMARY:Galaxy G09 Blue VS. BVB International Academy\, IL 2008 Girls
DESCRIPTION:League Name: Travel Soccer-Girls 2008\nGame Type: Regular\nGame
  Status: Complete\nHome Team: Galaxy G09 Blue\nAway Team: BVB Internationa
 l Academy, IL 2008 Girls\nHome Score: 3\nAway Score: 1
END:VEVENT
BEGIN:VEVENT
UID:12848636@ezleagues.ezfacility.com
DTSTAMP:20260426T033627Z
CREATED:20260426T033627Z
DTSTART:20191216T003000Z
DTEND:20191216T011300Z
LOCATION:Field 1
CONTACT:
SUMMARY:Kopion 2008 Academy Girls  VS. Galaxy G09 Blue
DESCRIPTION:League Name: Travel Soccer-Girls 2008\nGame Type: Regular\nGame
  Status: Complete\nHome Team: Kopion 2008 Academy Girls \nAway Team: Galax
 y G09 Blue\nHome Score: 3\nAway Score: 0
END:VEVENT
BEGIN:VEVENT
UID:12848633@ezleagues.ezfacility.com
DTSTAMP:20260426T033627Z
CREATED:20260426T033627Z
DTSTART:20191216T011500Z
DTEND:20191216T015800Z
LOCATION:Field 1
CONTACT:
SUMMARY:BRUSFA G2008 VS. Galaxy G09 Blue
DESCRIPTION:League Name: Travel Soccer-Girls 2008\nGame Type: Regular\nGame
  Status: Complete\nHome Team: BRUSFA G2008\nAway Team: Galaxy G09 Blue\nHo
 me Score: 5\nAway Score: 0
END:VEVENT
BEGIN:VEVENT
UID:12848638@ezleagues.ezfacility.com
DTSTAMP:20260426T033627Z
CREATED:20260426T033627Z
DTSTART:20191222T183000Z
DTEND:20191222T191300Z
LOCATION:Field 1
CONTACT:
SUMMARY:Bulldogs 2008 VS. Galaxy G09 Blue
DESCRIPTION:League Name: Travel Soccer-Girls 2008\nGame Type: Regular\nGame
  Status: Complete\nHome Team: Bulldogs 2008\nAway Team: Galaxy G09 Blue\nH
 ome Score: 4\nAway Score: 1
END:VEVENT
BEGIN:VEVENT
UID:12848648@ezleagues.ezfacility.com
DTSTAMP:20260426T033627Z
CREATED:20260426T033627Z
DTSTART:20200105T213000Z
DTEND:20200105T221300Z
LOCATION:Field 1
CONTACT:
SUMMARY:Galaxy G09 Blue VS. Chicago Rush G2008 Premier 
DESCRIPTION:League Name: Travel Soccer-Girls 2008\nGame Type: Regular\nGame
  Status: Complete\nHome Team: Galaxy G09 Blue\nAway Team: Chicago Rush G20
 08 Premier \nHome Score: 3\nAway Score: 3
END:VEVENT
BEGIN:VEVENT
UID:12848658@ezleagues.ezfacility.com
DTSTAMP:20260426T033627Z
CREATED:20260426T033627Z
DTSTART:20200112T201500Z
DTEND:20200112T205800Z
LOCATION:Field 2
CONTACT:
SUMMARY:BVB International Academy\, IL 2008 Girls VS. Galaxy G09 Blue
DESCRIPTION:League Name: Travel Soccer-Girls 2008\nGame Type: Regular\nGame
  Status: Complete\nHome Team: BVB International Academy, IL 2008 Girls\nAw
 ay Team: Galaxy G09 Blue\nHome Score: 1\nAway Score: 3
END:VEVENT
BEGIN:VEVENT
UID:12848655@ezleagues.ezfacility.com
DTSTAMP:20260426T033627Z
CREATED:20260426T033627Z
DTSTART:20200120T003000Z
DTEND:20200120T011300Z
LOCATION:Field 1
CONTACT:
SUMMARY:Kopion 2008 Academy Girls  VS. Galaxy G09 Blue
DESCRIPTION:League Name: Travel Soccer-Girls 2008\nGame Type: Regular\nGame
  Status: Complete\nHome Team: Kopion 2008 Academy Girls \nAway Team: Galax
 y G09 Blue\nHome Score: 4\nAway Score: 2
END:VEVENT
BEGIN:VEVENT
UID:12848661@ezleagues.ezfacility.com
DTSTAMP:20260426T033627Z
CREATED:20260426T033627Z
DTSTART:20200202T230000Z
DTEND:20200202T234300Z
LOCATION:Field 1
CONTACT:
SUMMARY:Galaxy G09 Blue VS. BRUSFA G2008
DESCRIPTION:League Name: Travel Soccer-Girls 2008\nGame Type: Regular\nGame
  Status: Complete\nHome Team: Galaxy G09 Blue\nAway Team: BRUSFA G2008\nHo
 me Score: 2\nAway Score: 5
END:VEVENT
BEGIN:VEVENT
UID:12848666@ezleagues.ezfacility.com
DTSTAMP:20260426T033627Z
CREATED:20260426T033627Z
DTSTART:20200209T221500Z
DTEND:20200209T225800Z
LOCATION:Field 1
CONTACT:
SUMMARY:Galaxy G09 Blue VS. Bulldogs 2008
DESCRIPTION:League Name: Travel Soccer-Girls 2008\nGame Type: Regular\nGame
  Status: Complete\nHome Team: Galaxy G09 Blue\nAway Team: Bulldogs 2008\nH
 ome Score: 3\nAway Score: 1
END:VEVENT
BEGIN:VEVENT
UID:12848643@ezleagues.ezfacility.com
DTSTAMP:20260426T033627Z
CREATED:20260426T033627Z
DTSTART:20200223T234500Z
DTEND:20200224T002800Z
LOCATION:Field 1
CONTACT:
SUMMARY:Galaxy G09 Blue VS. Evolution G09 Mercurial
DESCRIPTION:League Name: Travel Soccer-Girls 2008\nGame Type: Regular\nGame
  Status: Complete\nHome Team: Galaxy G09 Blue\nAway Team: Evolution G09 Me
 rcurial\nHome Score: 1\nAway Score: 2
END:VEVENT
BEGIN:VEVENT
UID:12848652@ezleagues.ezfacility.com
DTSTAMP:20260426T033627Z
CREATED:20260426T033627Z
DTSTART:20200301T221500Z
DTEND:20200301T225800Z
LOCATION:Field 1
CONTACT:
SUMMARY:Sockers FC 2008 Girls VS. Galaxy G09 Blue
DESCRIPTION:League Name: Travel Soccer-Girls 2008\nGame Type: Regular\nGame
  Status: Complete\nHome Team: Sockers FC 2008 Girls\nAway Team: Galaxy G09
  Blue\nHome Score: 1\nAway Score: 2
END:VEVENT
END:VCALENDAR
