BEGIN:VCALENDAR
VERSION:2.0
PRODID:-//EZFacility.com, Inc.//EZL 2.5.5.28621
BEGIN:VEVENT
UID:12863895@ezleagues.ezfacility.com
DTSTAMP:20260426T035041Z
CREATED:20260426T035041Z
DTSTART:20200125T170000Z
DTEND:20200125T180000Z
LOCATION:Cammon GYM
CONTACT:
SUMMARY:Destrehan-Bullock VS. Norco-Mitchell
DESCRIPTION:League Name: 2019 East Bank 5-6 year Basketball Division \nGame
  Type: Regular\nGame Status: Pending\nHome Team: Destrehan-Bullock\nAway T
 eam: Norco-Mitchell\n
END:VEVENT
BEGIN:VEVENT
UID:12863899@ezleagues.ezfacility.com
DTSTAMP:20260426T035041Z
CREATED:20260426T035041Z
DTSTART:20200131T004500Z
DTEND:20200131T014500Z
LOCATION:Cammon GYM
CONTACT:
SUMMARY:Destrehan-Brandstetter VS. Norco-Mitchell
DESCRIPTION:League Name: 2019 East Bank 5-6 year Basketball Division \nGame
  Type: Regular\nGame Status: Pending\nHome Team: Destrehan-Brandstetter\nA
 way Team: Norco-Mitchell\n
END:VEVENT
BEGIN:VEVENT
UID:12863907@ezleagues.ezfacility.com
DTSTAMP:20260426T035041Z
CREATED:20260426T035041Z
DTSTART:20200206T234500Z
DTEND:20200207T004500Z
LOCATION:Cammon GYM
CONTACT:
SUMMARY:Norco-Mitchell VS. St.Rose -Thomas
DESCRIPTION:League Name: 2019 East Bank 5-6 year Basketball Division \nGame
  Type: Regular\nGame Status: Pending\nHome Team: Norco-Mitchell\nAway Team
 : St.Rose -Thomas\n
END:VEVENT
BEGIN:VEVENT
UID:12863913@ezleagues.ezfacility.com
DTSTAMP:20260426T035041Z
CREATED:20260426T035041Z
DTSTART:20200208T150000Z
DTEND:20200208T160000Z
LOCATION:Harry Hurst Gym 
CONTACT:
SUMMARY:Norco-Mitchell VS. Destrehan-Cruz
DESCRIPTION:League Name: 2019 East Bank 5-6 year Basketball Division \nGame
  Type: Regular\nGame Status: Pending\nHome Team: Norco-Mitchell\nAway Team
 : Destrehan-Cruz\n
END:VEVENT
BEGIN:VEVENT
UID:12863919@ezleagues.ezfacility.com
DTSTAMP:20260426T035041Z
CREATED:20260426T035041Z
DTSTART:20200214T004500Z
DTEND:20200214T014500Z
LOCATION:Cammon GYM
CONTACT:
SUMMARY:Norco-Mitchell VS. St.Rose-Ward
DESCRIPTION:League Name: 2019 East Bank 5-6 year Basketball Division \nGame
  Type: Regular\nGame Status: Pending\nHome Team: Norco-Mitchell\nAway Team
 : St.Rose-Ward\n
END:VEVENT
BEGIN:VEVENT
UID:12863925@ezleagues.ezfacility.com
DTSTAMP:20260426T035041Z
CREATED:20260426T035041Z
DTSTART:20200215T180000Z
DTEND:20200215T190000Z
LOCATION:Cammon GYM
CONTACT:
SUMMARY:Norco-Mitchell VS. Destrehan-Cancienne
DESCRIPTION:League Name: 2019 East Bank 5-6 year Basketball Division \nGame
  Type: Regular\nGame Status: Pending\nHome Team: Norco-Mitchell\nAway Team
 : Destrehan-Cancienne\n
END:VEVENT
BEGIN:VEVENT
UID:12863931@ezleagues.ezfacility.com
DTSTAMP:20260426T035041Z
CREATED:20260426T035041Z
DTSTART:20200220T234500Z
DTEND:20200221T004500Z
LOCATION:EAD Gym Court 2
CONTACT:
SUMMARY:Norco-Mitchell VS. Norco-Allen
DESCRIPTION:League Name: 2019 East Bank 5-6 year Basketball Division \nGame
  Type: Regular\nGame Status: Pending\nHome Team: Norco-Mitchell\nAway Team
 : Norco-Allen\n
END:VEVENT
BEGIN:VEVENT
UID:12863903@ezleagues.ezfacility.com
DTSTAMP:20260426T035041Z
CREATED:20260426T035041Z
DTSTART:20200305T004500Z
DTEND:20200305T014500Z
LOCATION:Harry Hurst Gym 
CONTACT:
SUMMARY:Destrehan-Orkus VS. Norco-Mitchell
DESCRIPTION:League Name: 2019 East Bank 5-6 year Basketball Division \nGame
  Type: Regular\nGame Status: Pending\nHome Team: Destrehan-Orkus\nAway Tea
 m: Norco-Mitchell\n
END:VEVENT
BEGIN:VEVENT
UID:12863940@ezleagues.ezfacility.com
DTSTAMP:20260426T035041Z
CREATED:20260426T035041Z
DTSTART:20200305T234500Z
DTEND:20200306T004500Z
LOCATION:EAD Gym Court 2
CONTACT:
SUMMARY:Destrehan-Bullock VS. Norco-Mitchell
DESCRIPTION:League Name: 2019 East Bank 5-6 year Basketball Division \nGame
  Type: Regular\nGame Status: Pending\nHome Team: Destrehan-Bullock\nAway T
 eam: Norco-Mitchell\n
END:VEVENT
BEGIN:VEVENT
UID:12863891@ezleagues.ezfacility.com
DTSTAMP:20260426T035041Z
CREATED:20260426T035041Z
DTSTART:20200307T150000Z
DTEND:20200307T160000Z
LOCATION:Harry Hurst Gym 
CONTACT:
SUMMARY:Norco-Mitchell VS. Destrehan-St.Pierre
DESCRIPTION:League Name: 2019 East Bank 5-6 year Basketball Division \nGame
  Type: Regular\nGame Status: Pending\nHome Team: Norco-Mitchell\nAway Team
 : Destrehan-St.Pierre\n
END:VEVENT
BEGIN:VEVENT
UID:12863936@ezleagues.ezfacility.com
DTSTAMP:20260426T035041Z
CREATED:20260426T035041Z
DTSTART:20200310T234500Z
DTEND:20200311T004500Z
LOCATION:Cammon GYM
CONTACT:
SUMMARY:Destrehan-St.Pierre VS. Norco-Mitchell
DESCRIPTION:League Name: 2019 East Bank 5-6 year Basketball Division \nGame
  Type: Regular\nGame Status: Pending\nHome Team: Destrehan-St.Pierre\nAway
  Team: Norco-Mitchell\n
END:VEVENT
BEGIN:VEVENT
UID:12863944@ezleagues.ezfacility.com
DTSTAMP:20260426T035041Z
CREATED:20260426T035041Z
DTSTART:20200314T140000Z
DTEND:20200314T150000Z
LOCATION:Harry Hurst Gym 
CONTACT:
SUMMARY:Destrehan-Brandstetter VS. Norco-Mitchell
DESCRIPTION:League Name: 2019 East Bank 5-6 year Basketball Division \nGame
  Type: Regular\nGame Status: Cancelled\nHome Team: Destrehan-Brandstetter\
 nAway Team: Norco-Mitchell\n
END:VEVENT
END:VCALENDAR
