BEGIN:VCALENDAR
VERSION:2.0
PRODID:-//EZFacility.com, Inc.//EZL 2.5.5.28621
BEGIN:VEVENT
UID:12863344@ezleagues.ezfacility.com
DTSTAMP:20260424T234536Z
CREATED:20260424T234536Z
DTSTART:20200118T150000Z
DTEND:20200118T160000Z
LOCATION:Lakewood Gym
CONTACT:
SUMMARY:Mimosa-Landry VS. Des Allemands-Fonseca
DESCRIPTION:League Name: 2019 West Bank 5-6 year Basketball Division\nGame 
 Type: Regular\nGame Status: Pending\nHome Team: Mimosa-Landry\nAway Team: 
 Des Allemands-Fonseca\n
END:VEVENT
BEGIN:VEVENT
UID:12863360@ezleagues.ezfacility.com
DTSTAMP:20260424T234536Z
CREATED:20260424T234536Z
DTSTART:20200129T004500Z
DTEND:20200129T014500Z
LOCATION:Lakewood Gym
CONTACT:
SUMMARY:Mimosa-Landry VS. Mimosa-McCully
DESCRIPTION:League Name: 2019 West Bank 5-6 year Basketball Division\nGame 
 Type: Regular\nGame Status: Pending\nHome Team: Mimosa-Landry\nAway Team: 
 Mimosa-McCully\n
END:VEVENT
BEGIN:VEVENT
UID:12863367@ezleagues.ezfacility.com
DTSTAMP:20260424T234536Z
CREATED:20260424T234536Z
DTSTART:20200201T170000Z
DTEND:20200201T180000Z
LOCATION:Lakewood Gym
CONTACT:
SUMMARY:Mimosa-Landry VS. Luling-Pierre
DESCRIPTION:League Name: 2019 West Bank 5-6 year Basketball Division\nGame 
 Type: Regular\nGame Status: Pending\nHome Team: Mimosa-Landry\nAway Team: 
 Luling-Pierre\n
END:VEVENT
BEGIN:VEVENT
UID:12863373@ezleagues.ezfacility.com
DTSTAMP:20260424T234536Z
CREATED:20260424T234536Z
DTSTART:20200204T234500Z
DTEND:20200205T004500Z
LOCATION:Lakewood Gym
CONTACT:
SUMMARY:Mimosa-Boone VS. Mimosa-Landry
DESCRIPTION:League Name: 2019 West Bank 5-6 year Basketball Division\nGame 
 Type: Regular\nGame Status: Pending\nHome Team: Mimosa-Boone\nAway Team: M
 imosa-Landry\n
END:VEVENT
BEGIN:VEVENT
UID:12863385@ezleagues.ezfacility.com
DTSTAMP:20260424T234536Z
CREATED:20260424T234536Z
DTSTART:20200212T004500Z
DTEND:20200212T014500Z
LOCATION:Lakewood Gym
CONTACT:
SUMMARY:Mimosa-Neal VS. Mimosa-Landry
DESCRIPTION:League Name: 2019 West Bank 5-6 year Basketball Division\nGame 
 Type: Regular\nGame Status: Pending\nHome Team: Mimosa-Neal\nAway Team: Mi
 mosa-Landry\n
END:VEVENT
BEGIN:VEVENT
UID:12863397@ezleagues.ezfacility.com
DTSTAMP:20260424T234536Z
CREATED:20260424T234536Z
DTSTART:20200218T234500Z
DTEND:20200219T004500Z
LOCATION:JB Martin Gym
CONTACT:
SUMMARY:Hahnville/ Killona-1 VS. Mimosa-Landry
DESCRIPTION:League Name: 2019 West Bank 5-6 year Basketball Division\nGame 
 Type: Regular\nGame Status: Pending\nHome Team: Hahnville/ Killona-1\nAway
  Team: Mimosa-Landry\n
END:VEVENT
BEGIN:VEVENT
UID:12863427@ezleagues.ezfacility.com
DTSTAMP:20260424T234536Z
CREATED:20260424T234536Z
DTSTART:20200304T004500Z
DTEND:20200304T014500Z
LOCATION:Lakewood Gym
CONTACT:
SUMMARY:Mimosa-Landry VS. Mimosa-Plaisance
DESCRIPTION:League Name: 2019 West Bank 5-6 year Basketball Division\nGame 
 Type: Regular\nGame Status: Pending\nHome Team: Mimosa-Landry\nAway Team: 
 Mimosa-Plaisance\n
END:VEVENT
BEGIN:VEVENT
UID:12863379@ezleagues.ezfacility.com
DTSTAMP:20260424T234536Z
CREATED:20260424T234536Z
DTSTART:20200307T160000Z
DTEND:20200307T170000Z
LOCATION:EAD Gym Court 1
CONTACT:
SUMMARY:Mimosa-Landry VS. Mimosa-Gordon
DESCRIPTION:League Name: 2019 West Bank 5-6 year Basketball Division\nGame 
 Type: Regular\nGame Status: Pending\nHome Team: Mimosa-Landry\nAway Team: 
 Mimosa-Gordon\n
END:VEVENT
BEGIN:VEVENT
UID:12863391@ezleagues.ezfacility.com
DTSTAMP:20260424T234536Z
CREATED:20260424T234536Z
DTSTART:20200310T224500Z
DTEND:20200310T234500Z
LOCATION:EAD Gym Court 1
CONTACT:
SUMMARY:Hahnville/Killona-2 VS. Mimosa-Landry
DESCRIPTION:League Name: 2019 West Bank 5-6 year Basketball Division\nGame 
 Type: Regular\nGame Status: Pending\nHome Team: Hahnville/Killona-2\nAway 
 Team: Mimosa-Landry\n
END:VEVENT
BEGIN:VEVENT
UID:12863403@ezleagues.ezfacility.com
DTSTAMP:20260424T234536Z
CREATED:20260424T234536Z
DTSTART:20200312T234500Z
DTEND:20200313T004500Z
LOCATION:Lakewood Gym
CONTACT:
SUMMARY:Luling-Albert VS. Mimosa-Landry
DESCRIPTION:League Name: 2019 West Bank 5-6 year Basketball Division\nGame 
 Type: Regular\nGame Status: Pending\nHome Team: Luling-Albert\nAway Team: 
 Mimosa-Landry\n
END:VEVENT
BEGIN:VEVENT
UID:12863419@ezleagues.ezfacility.com
DTSTAMP:20260424T234536Z
CREATED:20260424T234536Z
DTSTART:20200314T140000Z
DTEND:20200314T150000Z
LOCATION:EAD Gym Court 2
CONTACT:
SUMMARY:Luling-Gilbert VS. Mimosa-Landry
DESCRIPTION:League Name: 2019 West Bank 5-6 year Basketball Division\nGame 
 Type: Regular\nGame Status: Cancelled\nHome Team: Luling-Gilbert\nAway Tea
 m: Mimosa-Landry\n
END:VEVENT
END:VCALENDAR
