BEGIN:VCALENDAR
VERSION:2.0
PRODID:-//EZFacility.com, Inc.//EZL 2.5.5.28621
BEGIN:VEVENT
UID:12856742@ezleagues.ezfacility.com
DTSTAMP:20260422T023745Z
CREATED:20260422T023745Z
DTSTART:20191130T164500Z
DTEND:20191130T172800Z
LOCATION:Field 3
CONTACT:
SUMMARY:RBFC B2007 Blue VS. Team Elmhurst BU13 Select
DESCRIPTION:League Name: Travel Soccer-Boys 2007 B\nGame Type: Regular\nGam
 e Status: Complete\nHome Team: RBFC B2007 Blue\nAway Team: Team Elmhurst B
 U13 Select\nHome Score: 0\nAway Score: 11
END:VEVENT
BEGIN:VEVENT
UID:12856821@ezleagues.ezfacility.com
DTSTAMP:20260422T023745Z
CREATED:20260422T023745Z
DTSTART:20191208T001500Z
DTEND:20191208T005800Z
LOCATION:Field 3
CONTACT:
SUMMARY:FC Eagles United B2007 VS. Team Elmhurst BU13 Select
DESCRIPTION:League Name: Travel Soccer-Boys 2007 B\nGame Type: Regular\nGam
 e Status: Complete\nHome Team: FC Eagles United B2007\nAway Team: Team Elm
 hurst BU13 Select\nHome Score: 4\nAway Score: 1
END:VEVENT
BEGIN:VEVENT
UID:12856979@ezleagues.ezfacility.com
DTSTAMP:20260422T023745Z
CREATED:20260422T023745Z
DTSTART:20191221T234500Z
DTEND:20191222T002800Z
LOCATION:Field 3
CONTACT:
SUMMARY:Team Elmhurst BU13 Select VS. Orland Park Sting B2007 White
DESCRIPTION:League Name: Travel Soccer-Boys 2007 B\nGame Type: Regular\nGam
 e Status: Complete\nHome Team: Team Elmhurst BU13 Select\nAway Team: Orlan
 d Park Sting B2007 White\nHome Score: 6\nAway Score: 8
END:VEVENT
BEGIN:VEVENT
UID:12857139@ezleagues.ezfacility.com
DTSTAMP:20260422T023745Z
CREATED:20260422T023745Z
DTSTART:20200104T184500Z
DTEND:20200104T192800Z
LOCATION:Field 1
CONTACT:
SUMMARY:OPRF Alliance 2007 Boys VS. Team Elmhurst BU13 Select
DESCRIPTION:League Name: Travel Soccer-Boys 2007 B\nGame Type: Regular\nGam
 e Status: Complete\nHome Team: OPRF Alliance 2007 Boys\nAway Team: Team El
 mhurst BU13 Select\nHome Score: 2\nAway Score: 4
END:VEVENT
BEGIN:VEVENT
UID:12857220@ezleagues.ezfacility.com
DTSTAMP:20260422T023745Z
CREATED:20260422T023745Z
DTSTART:20200111T224500Z
DTEND:20200111T232800Z
LOCATION:Field 2
CONTACT:
SUMMARY:Team Elmhurst BU13 Select VS. Gremio FC Chicago B2007
DESCRIPTION:League Name: Travel Soccer-Boys 2007 B\nGame Type: Regular\nGam
 e Status: Complete\nHome Team: Team Elmhurst BU13 Select\nAway Team: Gremi
 o FC Chicago B2007\nHome Score: 5\nAway Score: 6
END:VEVENT
BEGIN:VEVENT
UID:12857382@ezleagues.ezfacility.com
DTSTAMP:20260422T023745Z
CREATED:20260422T023745Z
DTSTART:20200126T004500Z
DTEND:20200126T012800Z
LOCATION:Field 1
CONTACT:
SUMMARY:Team Elmhurst BU13 Select VS. Fury FC Boys 2007 Red
DESCRIPTION:League Name: Travel Soccer-Boys 2007 B\nGame Type: Regular\nGam
 e Status: Complete\nHome Team: Team Elmhurst BU13 Select\nAway Team: Fury 
 FC Boys 2007 Red\nHome Score: 6\nAway Score: 5
END:VEVENT
BEGIN:VEVENT
UID:12856900@ezleagues.ezfacility.com
DTSTAMP:20260422T023745Z
CREATED:20260422T023745Z
DTSTART:20200208T210000Z
DTEND:20200208T214300Z
LOCATION:Field 1
CONTACT:
SUMMARY:Evolution NH B2007 Clarke VS. Team Elmhurst BU13 Select
DESCRIPTION:League Name: Travel Soccer-Boys 2007 B\nGame Type: Regular\nGam
 e Status: Complete\nHome Team: Evolution NH B2007 Clarke\nAway Team: Team 
 Elmhurst BU13 Select\nHome Score: 1\nAway Score: 5
END:VEVENT
BEGIN:VEVENT
UID:12857301@ezleagues.ezfacility.com
DTSTAMP:20260422T023745Z
CREATED:20260422T023745Z
DTSTART:20200215T180000Z
DTEND:20200215T184300Z
LOCATION:Field 1
CONTACT:
SUMMARY:South Side Fire FC 2007 Boys VS. Team Elmhurst BU13 Select
DESCRIPTION:League Name: Travel Soccer-Boys 2007 B\nGame Type: Regular\nGam
 e Status: Complete\nHome Team: South Side Fire FC 2007 Boys\nAway Team: Te
 am Elmhurst BU13 Select\nHome Score: 5\nAway Score: 4
END:VEVENT
BEGIN:VEVENT
UID:12857058@ezleagues.ezfacility.com
DTSTAMP:20260422T023745Z
CREATED:20260422T023745Z
DTSTART:20200222T184500Z
DTEND:20200222T192800Z
LOCATION:Field 1
CONTACT:
SUMMARY:Team Elmhurst BU13 Select VS. Athletic Condors B2007
DESCRIPTION:League Name: Travel Soccer-Boys 2007 B\nGame Type: Regular\nGam
 e Status: Complete\nHome Team: Team Elmhurst BU13 Select\nAway Team: Athle
 tic Condors B2007\nHome Score: 3\nAway Score: 3
END:VEVENT
BEGIN:VEVENT
UID:12858391@ezleagues.ezfacility.com
DTSTAMP:20260422T023745Z
CREATED:20260422T023745Z
DTSTART:20200229T193000Z
DTEND:20200229T201300Z
LOCATION:Field 1
CONTACT:
SUMMARY:OPRF Alliance 2007 Boys VS. Team Elmhurst BU13 Select
DESCRIPTION:League Name: Travel Soccer-Boys 2007 B\nGame Type: Regular\nGam
 e Status: Complete\nHome Team: OPRF Alliance 2007 Boys\nAway Team: Team El
 mhurst BU13 Select\nHome Score: 3\nAway Score: 5
END:VEVENT
BEGIN:VEVENT
UID:12858301@ezleagues.ezfacility.com
DTSTAMP:20260422T023745Z
CREATED:20260422T023745Z
DTSTART:20200307T193000Z
DTEND:20200307T201300Z
LOCATION:Field 1
CONTACT:
SUMMARY:Team Elmhurst BU13 Select VS. FC Eagles United B2007
DESCRIPTION:League Name: Travel Soccer-Boys 2007 B\nGame Type: Regular\nGam
 e Status: Complete\nHome Team: Team Elmhurst BU13 Select\nAway Team: FC Ea
 gles United B2007\nHome Score: 0\nAway Score: 3
END:VEVENT
BEGIN:VEVENT
UID:12857059@ezleagues.ezfacility.com
DTSTAMP:20260422T023745Z
CREATED:20260422T023745Z
DTSTART:20200314T150000Z
DTEND:20200314T154500Z
LOCATION:Field 3
CONTACT:
SUMMARY:Team Elmhurst BU13 Select VS. Chicago Blast 2007 Blue Boys
DESCRIPTION:League Name: Travel Soccer-Boys 2007 B\nGame Type: Regular\nGam
 e Status: Postponed\nHome Team: Team Elmhurst BU13 Select\nAway Team: Chic
 ago Blast 2007 Blue Boys\n
END:VEVENT
END:VCALENDAR
