BEGIN:VCALENDAR
VERSION:2.0
PRODID:-//EZFacility.com, Inc.//EZL 2.5.5.28621
BEGIN:VEVENT
UID:12867713@ezleagues.ezfacility.com
DTSTAMP:20260426T034837Z
CREATED:20260426T034837Z
DTSTART:20191124T180000Z
DTEND:20191124T190000Z
LOCATION:Field 1
CONTACT:
SUMMARY:Simsbury JV VS. South Windsor Maroon
DESCRIPTION:League Name: Session 1 Lacrosse DIV-Cornell 2019/2020\nGame Typ
 e: Regular\nGame Status: Pending\nHome Team: Simsbury JV\nAway Team: South
  Windsor Maroon\n
END:VEVENT
BEGIN:VEVENT
UID:12871027@ezleagues.ezfacility.com
DTSTAMP:20260426T034837Z
CREATED:20260426T034837Z
DTSTART:20191201T120000Z
DTEND:20191201T130000Z
LOCATION:Field 2
CONTACT:
SUMMARY:Simsbury JV VS. East Catholic Red
DESCRIPTION:League Name: Session 1 Lacrosse DIV-Cornell 2019/2020\nGame Typ
 e: Regular\nGame Status: Pending\nHome Team: Simsbury JV\nAway Team: East 
 Catholic Red\n
END:VEVENT
BEGIN:VEVENT
UID:12873324@ezleagues.ezfacility.com
DTSTAMP:20260426T034837Z
CREATED:20260426T034837Z
DTSTART:20191208T130000Z
DTEND:20191208T140000Z
LOCATION:Field 3
CONTACT:
SUMMARY:Simsbury JV VS. Windsor Maroon
DESCRIPTION:League Name: Session 1 Lacrosse DIV-Cornell 2019/2020\nGame Typ
 e: Regular\nGame Status: Pending\nHome Team: Simsbury JV\nAway Team: Winds
 or Maroon\n
END:VEVENT
BEGIN:VEVENT
UID:12873353@ezleagues.ezfacility.com
DTSTAMP:20260426T034837Z
CREATED:20260426T034837Z
DTSTART:20191215T190000Z
DTEND:20191215T200000Z
LOCATION:Field 2
CONTACT:
SUMMARY:EO Smith Red VS. Simsbury JV
DESCRIPTION:League Name: Session 1 Lacrosse DIV-Cornell 2019/2020\nGame Typ
 e: Regular\nGame Status: Pending\nHome Team: EO Smith Red\nAway Team: Sims
 bury JV\n
END:VEVENT
BEGIN:VEVENT
UID:12873414@ezleagues.ezfacility.com
DTSTAMP:20260426T034837Z
CREATED:20260426T034837Z
DTSTART:20191222T130000Z
DTEND:20191222T140000Z
LOCATION:Field 2
CONTACT:
SUMMARY:Simsbury JV VS. Belchertown
DESCRIPTION:League Name: Session 1 Lacrosse DIV-Cornell 2019/2020\nGame Typ
 e: Regular\nGame Status: Pending\nHome Team: Simsbury JV\nAway Team: Belch
 ertown\n
END:VEVENT
BEGIN:VEVENT
UID:12894540@ezleagues.ezfacility.com
DTSTAMP:20260426T034837Z
CREATED:20260426T034837Z
DTSTART:20191229T200000Z
DTEND:20191229T210000Z
LOCATION:Field 3
CONTACT:
SUMMARY:Somers Grey VS. Simsbury JV
DESCRIPTION:League Name: Session 1 Lacrosse DIV-Cornell 2019/2020\nGame Typ
 e: Regular\nGame Status: Cancelled\nHome Team: Somers Grey\nAway Team: Sim
 sbury JV\n
END:VEVENT
BEGIN:VEVENT
UID:12894588@ezleagues.ezfacility.com
DTSTAMP:20260426T034837Z
CREATED:20260426T034837Z
DTSTART:20200105T160000Z
DTEND:20200105T170000Z
LOCATION:Field 1
CONTACT:
SUMMARY:New Blue Lax 2 VS. Simsbury JV
DESCRIPTION:League Name: Session 1 Lacrosse DIV-Cornell 2019/2020\nGame Typ
 e: Regular\nGame Status: Pending\nHome Team: New Blue Lax 2\nAway Team: Si
 msbury JV\n
END:VEVENT
BEGIN:VEVENT
UID:12910922@ezleagues.ezfacility.com
DTSTAMP:20260426T034837Z
CREATED:20260426T034837Z
DTSTART:20200112T170000Z
DTEND:20200112T180000Z
LOCATION:Field 1
CONTACT:
SUMMARY:Simsbury JV VS. Westfield Red
DESCRIPTION:League Name: Session 1 Lacrosse DIV-Cornell 2019/2020\nGame Typ
 e: Regular\nGame Status: Pending\nHome Team: Simsbury JV\nAway Team: Westf
 ield Red\n
END:VEVENT
END:VCALENDAR
