BEGIN:VCALENDAR
VERSION:2.0
PRODID:-//EZFacility.com, Inc.//EZL 2.5.5.28621
BEGIN:VEVENT
UID:12855664@ezleagues.ezfacility.com
DTSTAMP:20260426T034055Z
CREATED:20260426T034055Z
DTSTART:20191120T003000Z
DTEND:20191120T011500Z
LOCATION:StFX Stadium Turf 1
CONTACT:
SUMMARY:No Talent VS. Mac Dawgs
DESCRIPTION:League Name: Intramural 2019-20 Outdoor Soccer Playoffs\nGame T
 ype: Regular\nGame Status: Complete\nHome Team: No Talent\nAway Team: Mac 
 Dawgs\nHome Score: 3\nAway Score: 0
END:VEVENT
BEGIN:VEVENT
UID:12855666@ezleagues.ezfacility.com
DTSTAMP:20260426T034055Z
CREATED:20260426T034055Z
DTSTART:20191120T011500Z
DTEND:20191120T020000Z
LOCATION:StFX Stadium Turf 1
CONTACT:
SUMMARY:FC Royals VS. No Talent
DESCRIPTION:League Name: Intramural 2019-20 Outdoor Soccer Playoffs\nGame T
 ype: Regular\nGame Status: Complete\nHome Team: FC Royals\nAway Team: No T
 alent\nHome Score: 3\nAway Score: 1
END:VEVENT
END:VCALENDAR
