BEGIN:VCALENDAR
VERSION:2.0
PRODID:-//EZFacility.com, Inc.//EZL 2.5.5.28621
BEGIN:VEVENT
UID:12857462@ezleagues.ezfacility.com
DTSTAMP:20260424T135312Z
CREATED:20260424T135312Z
DTSTART:20191201T014500Z
DTEND:20191201T022800Z
LOCATION:Field 3
CONTACT:
SUMMARY:Yard Sharks 04/03 VS. Chivas Rojiblanco Boys
DESCRIPTION:League Name: Travel High School League-Boys A\nGame Type: Regul
 ar\nGame Status: Complete\nHome Team: Yard Sharks 04/03\nAway Team: Chivas
  Rojiblanco Boys\nHome Score: 10\nAway Score: 6
END:VEVENT
BEGIN:VEVENT
UID:12857486@ezleagues.ezfacility.com
DTSTAMP:20260424T135312Z
CREATED:20260424T135312Z
DTSTART:20191215T163000Z
DTEND:20191215T171300Z
LOCATION:Field 2
CONTACT:
SUMMARY:Azzurri FC Boys VS. Yard Sharks 04/03
DESCRIPTION:League Name: Travel High School League-Boys A\nGame Type: Regul
 ar\nGame Status: Complete\nHome Team: Azzurri FC Boys\nAway Team: Yard Sha
 rks 04/03\nHome Score: 8\nAway Score: 2
END:VEVENT
BEGIN:VEVENT
UID:12857434@ezleagues.ezfacility.com
DTSTAMP:20260424T135312Z
CREATED:20260424T135312Z
DTSTART:20191221T003000Z
DTEND:20191221T011300Z
LOCATION:Field 2
CONTACT:
SUMMARY:Yard Sharks 04/03 VS. Gremio FC Chicago B2002/2003
DESCRIPTION:League Name: Travel High School League-Boys A\nGame Type: Regul
 ar\nGame Status: Complete\nHome Team: Yard Sharks 04/03\nAway Team: Gremio
  FC Chicago B2002/2003\nHome Score: 6\nAway Score: 5
END:VEVENT
BEGIN:VEVENT
UID:12857569@ezleagues.ezfacility.com
DTSTAMP:20260424T135312Z
CREATED:20260424T135312Z
DTSTART:20200105T164500Z
DTEND:20200105T172800Z
LOCATION:Field 3
CONTACT:
SUMMARY:Yard Sharks 02/01 VS. Yard Sharks 04/03
DESCRIPTION:League Name: Travel High School League-Boys A\nGame Type: Regul
 ar\nGame Status: Complete\nHome Team: Yard Sharks 02/01\nAway Team: Yard S
 harks 04/03\nHome Score: 14\nAway Score: 4
END:VEVENT
BEGIN:VEVENT
UID:12857597@ezleagues.ezfacility.com
DTSTAMP:20260424T135312Z
CREATED:20260424T135312Z
DTSTART:20200113T003000Z
DTEND:20200113T011300Z
LOCATION:Field 1
CONTACT:
SUMMARY:Yard Sharks 04/03 VS. Goon Squad
DESCRIPTION:League Name: Travel High School League-Boys A\nGame Type: Regul
 ar\nGame Status: Complete\nHome Team: Yard Sharks 04/03\nAway Team: Goon S
 quad\nHome Score: 11\nAway Score: 4
END:VEVENT
BEGIN:VEVENT
UID:12857625@ezleagues.ezfacility.com
DTSTAMP:20260424T135312Z
CREATED:20260424T135312Z
DTSTART:20200119T220000Z
DTEND:20200119T224300Z
LOCATION:Field 2
CONTACT:
SUMMARY:Athletico Scorpions Boys VS. Yard Sharks 04/03
DESCRIPTION:League Name: Travel High School League-Boys A\nGame Type: Regul
 ar\nGame Status: Complete\nHome Team: Athletico Scorpions Boys\nAway Team:
  Yard Sharks 04/03\nHome Score: 6\nAway Score: 1
END:VEVENT
BEGIN:VEVENT
UID:12857652@ezleagues.ezfacility.com
DTSTAMP:20260424T135312Z
CREATED:20260424T135312Z
DTSTART:20200126T031500Z
DTEND:20200126T040000Z
LOCATION:Field 3
CONTACT:
SUMMARY:Yard Sharks 04/03 VS. Bangerz FC B2003/2001
DESCRIPTION:League Name: Travel High School League-Boys A\nGame Type: Regul
 ar\nGame Status: Complete\nHome Team: Yard Sharks 04/03\nAway Team: Banger
 z FC B2003/2001\nHome Score: 7\nAway Score: 4
END:VEVENT
BEGIN:VEVENT
UID:12857733@ezleagues.ezfacility.com
DTSTAMP:20260424T135312Z
CREATED:20260424T135312Z
DTSTART:20200202T233000Z
DTEND:20200203T001300Z
LOCATION:Field 3
CONTACT:
SUMMARY:Yard Sharks 04/03 VS. Team Olympic 01/02
DESCRIPTION:League Name: Travel High School League-Boys A\nGame Type: Regul
 ar\nGame Status: Complete\nHome Team: Yard Sharks 04/03\nAway Team: Team O
 lympic 01/02\nHome Score: 0\nAway Score: 3
END:VEVENT
BEGIN:VEVENT
UID:12857680@ezleagues.ezfacility.com
DTSTAMP:20260424T135312Z
CREATED:20260424T135312Z
DTSTART:20200216T011500Z
DTEND:20200216T015800Z
LOCATION:Field 2
CONTACT:
SUMMARY:Roadrunners FC Boys VS. Yard Sharks 04/03
DESCRIPTION:League Name: Travel High School League-Boys A\nGame Type: Regul
 ar\nGame Status: Complete\nHome Team: Roadrunners FC Boys\nAway Team: Yard
  Sharks 04/03\nHome Score: 4\nAway Score: 4
END:VEVENT
BEGIN:VEVENT
UID:12857436@ezleagues.ezfacility.com
DTSTAMP:20260424T135312Z
CREATED:20260424T135312Z
DTSTART:20200229T164500Z
DTEND:20200229T172800Z
LOCATION:Field 3
CONTACT:
SUMMARY:Orland Eagles Boys VS. Yard Sharks 04/03
DESCRIPTION:League Name: Travel High School League-Boys A\nGame Type: Regul
 ar\nGame Status: Complete\nHome Team: Orland Eagles Boys\nAway Team: Yard 
 Sharks 04/03\nHome Score: 11\nAway Score: 4
END:VEVENT
BEGIN:VEVENT
UID:12858448@ezleagues.ezfacility.com
DTSTAMP:20260424T135312Z
CREATED:20260424T135312Z
DTSTART:20200308T001500Z
DTEND:20200308T005800Z
LOCATION:Field 3
CONTACT:
SUMMARY:Roadrunners FC Boys VS. Yard Sharks 04/03
DESCRIPTION:League Name: Travel High School League-Boys A\nGame Type: Regul
 ar\nGame Status: Complete\nHome Team: Roadrunners FC Boys\nAway Team: Yard
  Sharks 04/03\nHome Score: 3\nAway Score: 8
END:VEVENT
BEGIN:VEVENT
UID:12857541@ezleagues.ezfacility.com
DTSTAMP:20260424T135312Z
CREATED:20260424T135312Z
DTSTART:20200314T234500Z
DTEND:20200315T003000Z
LOCATION:Field 1
CONTACT:
SUMMARY:Yard Sharks 04/03 VS. AT Eagles U18 Boys 
DESCRIPTION:League Name: Travel High School League-Boys A\nGame Type: Regul
 ar\nGame Status: Postponed\nHome Team: Yard Sharks 04/03\nAway Team: AT Ea
 gles U18 Boys \n
END:VEVENT
END:VCALENDAR
