BEGIN:VCALENDAR
VERSION:2.0
PRODID:-//EZFacility.com, Inc.//EZL 2.5.5.28621
BEGIN:VEVENT
UID:12872955@ezleagues.ezfacility.com
DTSTAMP:20260426T035041Z
CREATED:20260426T035041Z
DTSTART:20191213T014000Z
DTEND:20191213T022000Z
LOCATION:PP 3
CONTACT:
SUMMARY:Dragons VS. Bethany Soccer
DESCRIPTION:League Name: 19-20 COMP HS JV BOYS GSO\nGame Type: Regular\nGam
 e Status: Complete\nHome Team: Dragons\nAway Team: Bethany Soccer\nHome Sc
 ore: 11\nAway Score: 1
END:VEVENT
BEGIN:VEVENT
UID:12872965@ezleagues.ezfacility.com
DTSTAMP:20260426T035041Z
CREATED:20260426T035041Z
DTSTART:20191220T234000Z
DTEND:20191221T002000Z
LOCATION:PP 3
CONTACT:Guy
SUMMARY:Bethany Soccer VS. PUMAS JV
DESCRIPTION:League Name: 19-20 COMP HS JV BOYS GSO\nGame Type: Regular\nGam
 e Status: Complete\nHome Team: Bethany Soccer\nAway Team: PUMAS JV\nHome S
 core: 3\nAway Score: 13
END:VEVENT
BEGIN:VEVENT
UID:12872960@ezleagues.ezfacility.com
DTSTAMP:20260426T035041Z
CREATED:20260426T035041Z
DTSTART:20191221T014000Z
DTEND:20191221T022000Z
LOCATION:PP 1
CONTACT:Usey
SUMMARY:Bethany Soccer VS. Team D'Angelo
DESCRIPTION:League Name: 19-20 COMP HS JV BOYS GSO\nGame Type: Regular\nGam
 e Status: Complete\nHome Team: Bethany Soccer\nAway Team: Team D'Angelo\nH
 ome Score: 4\nAway Score: 10
END:VEVENT
BEGIN:VEVENT
UID:12872974@ezleagues.ezfacility.com
DTSTAMP:20260426T035041Z
CREATED:20260426T035041Z
DTSTART:20200104T014000Z
DTEND:20200104T022000Z
LOCATION:PP 1
CONTACT:Mills
SUMMARY:Swift FC VS. Bethany Soccer
DESCRIPTION:League Name: 19-20 COMP HS JV BOYS GSO\nGame Type: Regular\nGam
 e Status: Complete\nHome Team: Swift FC\nAway Team: Bethany Soccer\nHome S
 core: 17\nAway Score: 3
END:VEVENT
BEGIN:VEVENT
UID:12872977@ezleagues.ezfacility.com
DTSTAMP:20260426T035041Z
CREATED:20260426T035041Z
DTSTART:20200110T234000Z
DTEND:20200111T002000Z
LOCATION:PP 1
CONTACT:Ahaile
SUMMARY:Yellow Jackets JV VS. Bethany Soccer
DESCRIPTION:League Name: 19-20 COMP HS JV BOYS GSO\nGame Type: Regular\nGam
 e Status: Complete\nHome Team: Yellow Jackets JV\nAway Team: Bethany Socce
 r\nHome Score: 2\nAway Score: 5
END:VEVENT
BEGIN:VEVENT
UID:12872980@ezleagues.ezfacility.com
DTSTAMP:20260426T035041Z
CREATED:20260426T035041Z
DTSTART:20200117T010000Z
DTEND:20200117T014000Z
LOCATION:PP 1
CONTACT:Guerrier
SUMMARY:Falcons VS. Bethany Soccer
DESCRIPTION:League Name: 19-20 COMP HS JV BOYS GSO\nGame Type: Regular\nGam
 e Status: Complete\nHome Team: Falcons\nAway Team: Bethany Soccer\nHome Sc
 ore: 10\nAway Score: 3
END:VEVENT
BEGIN:VEVENT
UID:12872970@ezleagues.ezfacility.com
DTSTAMP:20260426T035041Z
CREATED:20260426T035041Z
DTSTART:20200125T010000Z
DTEND:20200125T014000Z
LOCATION:PP 3
CONTACT:Garcon
SUMMARY:Bethany Soccer VS. Beaner FC
DESCRIPTION:League Name: 19-20 COMP HS JV BOYS GSO\nGame Type: Regular\nGam
 e Status: Complete\nHome Team: Bethany Soccer\nAway Team: Beaner FC\nHome 
 Score: 0\nAway Score: 8
END:VEVENT
BEGIN:VEVENT
UID:12872986@ezleagues.ezfacility.com
DTSTAMP:20260426T035041Z
CREATED:20260426T035041Z
DTSTART:20200201T144000Z
DTEND:20200201T152000Z
LOCATION:PP 3
CONTACT:Holt
SUMMARY:Bethany Soccer VS. Yellow Jackets JV
DESCRIPTION:League Name: 19-20 COMP HS JV BOYS GSO\nGame Type: Postseason\n
 Game Status: Pending\nHome Team: Bethany Soccer\nAway Team: Yellow Jackets
  JV\n
END:VEVENT
END:VCALENDAR
