BEGIN:VCALENDAR
VERSION:2.0
PRODID:-//EZFacility.com, Inc.//EZL 2.5.5.28621
BEGIN:VEVENT
UID:12872957@ezleagues.ezfacility.com
DTSTAMP:20260426T034112Z
CREATED:20260426T034112Z
DTSTART:20191206T234000Z
DTEND:20191207T002000Z
LOCATION:PP 3
CONTACT:Usey
SUMMARY:Falcons VS. Team D'Angelo
DESCRIPTION:League Name: 19-20 COMP HS JV BOYS GSO\nGame Type: Regular\nGam
 e Status: Complete\nHome Team: Falcons\nAway Team: Team D'Angelo\nHome Sco
 re: 7\nAway Score: 5
END:VEVENT
BEGIN:VEVENT
UID:12872963@ezleagues.ezfacility.com
DTSTAMP:20260426T034112Z
CREATED:20260426T034112Z
DTSTART:20191220T010000Z
DTEND:20191220T014000Z
LOCATION:PP 3
CONTACT:
SUMMARY:Team D'Angelo VS. Dragons
DESCRIPTION:League Name: 19-20 COMP HS JV BOYS GSO\nGame Type: Regular\nGam
 e Status: Complete\nHome Team: Team D'Angelo\nAway Team: Dragons\nHome Sco
 re: 1\nAway Score: 11
END:VEVENT
BEGIN:VEVENT
UID:12872960@ezleagues.ezfacility.com
DTSTAMP:20260426T034112Z
CREATED:20260426T034112Z
DTSTART:20191221T014000Z
DTEND:20191221T022000Z
LOCATION:PP 1
CONTACT:Usey
SUMMARY:Bethany Soccer VS. Team D'Angelo
DESCRIPTION:League Name: 19-20 COMP HS JV BOYS GSO\nGame Type: Regular\nGam
 e Status: Complete\nHome Team: Bethany Soccer\nAway Team: Team D'Angelo\nH
 ome Score: 4\nAway Score: 10
END:VEVENT
BEGIN:VEVENT
UID:12872973@ezleagues.ezfacility.com
DTSTAMP:20260426T034112Z
CREATED:20260426T034112Z
DTSTART:20200103T002000Z
DTEND:20200103T010000Z
LOCATION:PP 3
CONTACT:Holt
SUMMARY:Team D'Angelo VS. Beaner FC
DESCRIPTION:League Name: 19-20 COMP HS JV BOYS GSO\nGame Type: Regular\nGam
 e Status: Complete\nHome Team: Team D'Angelo\nAway Team: Beaner FC\nHome S
 core: 1\nAway Score: 10
END:VEVENT
BEGIN:VEVENT
UID:12872978@ezleagues.ezfacility.com
DTSTAMP:20260426T034112Z
CREATED:20260426T034112Z
DTSTART:20200111T022000Z
DTEND:20200111T030000Z
LOCATION:PP 1
CONTACT:Ahaile
SUMMARY:Team D'Angelo VS. Swift FC
DESCRIPTION:League Name: 19-20 COMP HS JV BOYS GSO\nGame Type: Regular\nGam
 e Status: Complete\nHome Team: Team D'Angelo\nAway Team: Swift FC\nHome Sc
 ore: 2\nAway Score: 4
END:VEVENT
BEGIN:VEVENT
UID:12872982@ezleagues.ezfacility.com
DTSTAMP:20260426T034112Z
CREATED:20260426T034112Z
DTSTART:20200116T001000Z
DTEND:20200116T005000Z
LOCATION:Truist Out 3B
CONTACT:Guy
SUMMARY:Yellow Jackets JV VS. Team D'Angelo
DESCRIPTION:League Name: 19-20 COMP HS JV BOYS GSO\nGame Type: Regular\nGam
 e Status: Complete\nHome Team: Yellow Jackets JV\nAway Team: Team D'Angelo
 \nHome Score: 1\nAway Score: 11
END:VEVENT
BEGIN:VEVENT
UID:12872968@ezleagues.ezfacility.com
DTSTAMP:20260426T034112Z
CREATED:20260426T034112Z
DTSTART:20200125T014000Z
DTEND:20200125T022000Z
LOCATION:PP 3
CONTACT:Garcon
SUMMARY:Team D'Angelo VS. PUMAS JV
DESCRIPTION:League Name: 19-20 COMP HS JV BOYS GSO\nGame Type: Regular\nGam
 e Status: Complete\nHome Team: Team D'Angelo\nAway Team: PUMAS JV\nHome Sc
 ore: 5\nAway Score: 8
END:VEVENT
BEGIN:VEVENT
UID:12872985@ezleagues.ezfacility.com
DTSTAMP:20260426T034112Z
CREATED:20260426T034112Z
DTSTART:20200208T003000Z
DTEND:20200208T011000Z
LOCATION:PP 3
CONTACT:Gentile
SUMMARY:Falcons VS. Team D'Angelo
DESCRIPTION:League Name: 19-20 COMP HS JV BOYS GSO\nGame Type: Postseason\n
 Game Status: Complete\nHome Team: Falcons\nAway Team: Team D'Angelo\nHome 
 Score: 7\nAway Score: 5
END:VEVENT
END:VCALENDAR
